BEGIN:VCALENDAR
VERSION:2.0
PRODID:-//PK-Koulutuskeskus Oy - ECPv6.8.2//NONSGML v1.0//EN
CALSCALE:GREGORIAN
METHOD:PUBLISH
X-ORIGINAL-URL:https://pk-koulutuskeskus.fi
X-WR-CALDESC:Events for PK-Koulutuskeskus Oy
REFRESH-INTERVAL;VALUE=DURATION:PT1H
X-Robots-Tag:noindex
X-PUBLISHED-TTL:PT1H
BEGIN:VTIMEZONE
TZID:Europe/Helsinki
BEGIN:DAYLIGHT
TZOFFSETFROM:+0200
TZOFFSETTO:+0300
TZNAME:EEST
DTSTART:20260329T010000
END:DAYLIGHT
BEGIN:STANDARD
TZOFFSETFROM:+0300
TZOFFSETTO:+0200
TZNAME:EET
DTSTART:20261025T010000
END:STANDARD
END:VTIMEZONE
BEGIN:VEVENT
DTSTART;TZID=Europe/Helsinki:20260423T083000
DTEND;TZID=Europe/Helsinki:20260423T120000
DTSTAMP:20260423T173855
CREATED:20260320T083131Z
LAST-MODIFIED:20260413T100615Z
UID:10000123-1776933000-1776945600@pk-koulutuskeskus.fi
SUMMARY:Matkakustannusten korvaukset verotuksessa WEBINAARI 23.4.2026 klo 8.30-12.00
DESCRIPTION:OTM Sari Wulff\, Johtava Asiantuntija\, Tulorekisteriyksikkö\, VerohallintoTorstai 23.4.2026 klo 8.30-12.00Webinaari \n\n\n\nKoulutuspäivän hinta: 295 EUR + alv / osallistuja \n\n\n\nWEBINAARI TALLENNETAAN JA TALLENNE ON KATSOTTAVISSA 30 PÄIVÄN AJAN KOULUTUKSEN JÄLKEEN! \n\n\n\nIlmoittautuminen 23.4.2026 mennessä! \n\n\n\n\n	\n	\n	\n	\n    \n\n	    \n    \n        Ilmoittautuminen tapahtumaan on päättynyt. \n        \n        	\n\n\n\n\n\nOHJELMA \n\n\n\nWebinaarissa käsitellään matkan erilaisia käsitteitä verotuksessa\, verohallinnon ohjeita ja työehtosopimusten vaikutuksia korvausten maksamiseen. Koulutuksessa tarkastellaan mm. mitä voidaan korvata verovapaasti sekä milloin matkasta voi syntyä veronalaista etua? Koulutuksessa kuulet koti- ja ulkomaan päivärahoista\, ateriakorvauksista sekä kilometrikorvauksista. Tilaisuudessa käsitellään erityistilanteita sekä veronalaisten matkakustannusten korvaamista. Lisäksi käsitellään matkalaskuvaatimuksia sekä kustannusten korvausten ilmoittamista tulorekisteriin. \n\n\n\n8.30 – 9.00 Kirjautuminen webinaariin sähköpostin linkistä9.00 – 12.00 \n\n\n\nMatkustamiskustannusten korvaukset \n\n\n\n\nmatkan erilaiset käsitteet verotuksessa\n\n\n\nmitä voidaan korvata verovapaasti?\n\n\n\nmilloin matkasta voi syntyä veronalaista etua?\n\n\n\nverohallinnon ohjeet\n\n\n\ntyöehtosopimusten vaikutus korvausten maksamiseen\n\n\n\n\nKoti- ja ulkomaan päivärahat\, ateriakorvaukset ja kilometrikorvaukset \n\n\n\n\nmatkavuorokausi\, matkan alkaminen ja päättyminen\n\n\n\netäisyys- ja aikavaatimus päivärahassa\n\n\n\naterioiden vaikutus päivärahaan\n\n\n\nulkomaan päiväraha: minkä maan mukaan päiväraha määräytyy?\n\n\n\n\nErityistilanteita \n\n\n\nVeronalaiset matkakustannusten korvaukset \n\n\n\nMitä matkalaskulta vaaditaan? \n\n\n\nMiten kustannusten korvaukset ilmoitetaan tulorekisteriin? \n\n\n\n…………………………………………………………………………………..Koulutuspäivän hinta:295 EUR + alv / osallistuja \n\n\n\nHinta sisältää koulutuksen ja materiaalin sähköisessä muodossa. \n\n\n\nOsallistujille lähetetään tarkemmat ohjeet ja materiaalit sähköpostitse ennen koulutusta. \n\n\n\nIlmoittautumiset koulutuspäivään viimeistään23.4.2026 klo 9.00 mennessä. \n\n\n\nPeruutukset kuluitta 15 vrk ennen tilaisuutta. \n\n\n\nIlmoittautumiset ohjelmasivun yläosassa olevalla painikkeella\, puhelimella:010 4231 040 tai sähköpostilla: pk-koulutuskeskus@pk-koulutuskeskus.fi
URL:https://pk-koulutuskeskus.fi/event/matkakustannusten-korvaukset-verotuksessa-webinaari-23-4-2026-klo-8-30-12-00/
ATTACH;FMTTYPE=image/jpeg:https://pk-koulutuskeskus.fi/wp-content/uploads/2025/05/Sari_Wulff3_2025-1.jpg
END:VEVENT
END:VCALENDAR