BEGIN:VCALENDAR
VERSION:2.0
PRODID:-//PK-Koulutuskeskus Oy - ECPv6.8.2//NONSGML v1.0//EN
CALSCALE:GREGORIAN
METHOD:PUBLISH
X-ORIGINAL-URL:https://pk-koulutuskeskus.fi
X-WR-CALDESC:Events for PK-Koulutuskeskus Oy
REFRESH-INTERVAL;VALUE=DURATION:PT1H
X-Robots-Tag:noindex
X-PUBLISHED-TTL:PT1H
BEGIN:VTIMEZONE
TZID:Europe/Helsinki
BEGIN:DAYLIGHT
TZOFFSETFROM:+0200
TZOFFSETTO:+0300
TZNAME:EEST
DTSTART:20250330T010000
END:DAYLIGHT
BEGIN:STANDARD
TZOFFSETFROM:+0300
TZOFFSETTO:+0200
TZNAME:EET
DTSTART:20251026T010000
END:STANDARD
END:VTIMEZONE
BEGIN:VEVENT
DTSTART;TZID=Europe/Helsinki:20251209T083000
DTEND;TZID=Europe/Helsinki:20251209T120000
DTSTAMP:20260424T002236
CREATED:20250611T075746Z
LAST-MODIFIED:20251125T072111Z
UID:10000104-1765269000-1765281600@pk-koulutuskeskus.fi
SUMMARY:Arvonlisäverokantojen muutokset ja niiden käytännön vaikutukset WEBINAARI 9.12.2025 klo 8.30-12.00
DESCRIPTION:VT\, KTM Hanna Huhtala\, Lecklé OyTiistai 9.12.2025 klo 8.30-12.00Webinaari \n\n\n\nKoulutuspäivän hinta: 295 EUR + alv / osallistuja \n\n\n\nWEBINAARI TALLENNETAAN JA TALLENNE ON KATSOTTAVISSA 30 PÄIVÄN AJAN KOULUTUKSEN JÄLKEEN! \n\n\n\nIlmoittautuminen 9.12.2025 mennessä! \n\n\n\n\n	\n	\n	\n	\n    \n\n	    \n    \n        Ilmoittautuminen tapahtumaan on päättynyt. \n        \n        	\n\n\n\n\n\nOHJELMA \n\n\n\nYleinen arvonlisäverokanta nousi 1.9.2024 alkaen 24 prosentista 25\,5 prosenttiin usean 10 prosentin verokannan alaisen hyödykkeen verokanta 1.1.2025 alkaen 14 prosenttiin. Ja lisää muutoksia on luvassa\, kun 14 prosentin verokannan on tarkoitus vuoden 2026 alussa laskea 13\,5 prosenttiin. Koulutuksessa käydään läpi verokantamuutoksia ja niiden käytännön vaikutuksia. Erilaistan luovutusten\, ennakkomaksujen ja oikaisuerien verokannan määräytymistä tarkastellaan esimerkkien valossa. Lopuksi tarkastellaan laskun merkitystä arvonlisäverotuksessa sekä sitä\, mitä virheellisen laskun osalta olisi hyvä huomioida. \n\n\n\n \n\n\n\nIlmoittautuminen klo 8.30-9.00Koulutus klo 9.00-12.00 \n\n\n\n\nArvonlisäverokantojen muutosMikä on muuttunut ja mitä muutoksia on tiedossa\n\nMuutoksen käytännön vaikutuksia ja kokemuksia\n\n\n\n\n\nMitä verokantaa tulee soveltaa?Pääperiaatteet verokannan määräytymisessä\n\nKeskeisiä huomioita ja kipukohtia\n\n\n\n\n\nKäytännön esimerkkejä verokantamuutokseen liittyenTavaran luovutus ja palveluiden suoritusProjektit ja urakatEnnakkomaksutHyvitykset\, alennukset yms.\n\nUlkomaan ostolaskut\n\n\n\n\n\nLaskun merkitys ja virheellisen laskun käsittely\n\n\n\n\nKoulutus päättyy klo 12.00 \n\n\n\n \n\n\n\n \n\n\n\n…………………………………………………………………………………. \n\n\n\nKoulutuspäivän hinta:295 EUR + alv / osallistujaHinta sisältää koulutuksen ja materiaalin sähköisessä muodossa. \n\n\n\nOsallistujille lähetetään tarkemmat ohjeet ja materiaalit sähköpostitse ennen koulutusta.Ilmoittautumiset koulutuspäivään viimeistään9.12.2025 klo 9.00 mennessä. \n\n\n\nPeruutukset kuluitta 15 vrk ennen tilaisuutta. \n\n\n\nIlmoittautumiset ohjelmasivun yläosassa olevalla painikkeella\, puhelimella:010 4231 040 tai sähköpostilla: pk-koulutuskeskus@pk-koulutuskeskus.fi
URL:https://pk-koulutuskeskus.fi/event/arvonlisaverokantojen-muutokset-ja-niiden-kaytannon-vaikutukset-webinaari-9-12-2025-klo-8-30-12-00/
ATTACH;FMTTYPE=image/jpeg:https://pk-koulutuskeskus.fi/wp-content/uploads/2023/10/Hanna_Huhtala_4.jpeg
END:VEVENT
BEGIN:VEVENT
DTSTART;TZID=Europe/Helsinki:20251211T083000
DTEND;TZID=Europe/Helsinki:20251211T160000
DTSTAMP:20260424T002236
CREATED:20250526T065129Z
LAST-MODIFIED:20251111T094322Z
UID:10000090-1765441800-1765468800@pk-koulutuskeskus.fi
SUMMARY:Rakentamisen tiedonantovelvollisuus\, veronumero ja tilaajavastuulaki WEBINAARI 11.12.2025 klo 8.30-16.00
DESCRIPTION:Johtava asiantuntija Pirkko Vuori\, VerohallintoTorstai 11.12.2025 klo 8.30-16.00Webinaari \n\n\n\nKoulutuspäivän hinta: 395 EUR + alv / osallistuja \n\n\n\nWEBINAARI TALLENNETAAN JA TALLENNE ON KATSOTTAVISSA 30 PÄIVÄN AJAN KOULUTUKSEN JÄLKEEN \n\n\n\nIlmoittautuminen 11.12.2025 mennessä \n\n\n\n\n	\n	\n	\n	\n    \n\n	    \n    \n        Ilmoittautuminen tapahtumaan on päättynyt. \n        \n        	\n\n\n\n\n\nRakentamisen tiedonantovelvollisuus\, veronumero ja tilaajavastuulaki \n\n\n\nRakentamiseen liittyvä tiedonantovelvollisuus koskee kaikkia\, ei ainoastaan rakennusalan toimijoita. Tiedonantovelvollisuuteen kuuluu yritysten velvollisuus antaa urakkatiedot ja työntekijätiedot sekä valvoa veronumeron rekisteröintiä. \n\n\n\nKoulutuksessa käydään läpi tietojen toimittaminen eri tilanteissa\, korjaaminen sekä tavat ja menetelmät\, joilla tiedonantovelvollisuus hoidetaan. Erityistilanteissa käsitellään mm. kevytyrittäjien tulkintoja\, ulkomaisia tilanteita sekä kerrotaan eri toimijoiden vastuista sanktioinnin näkökulmasta. \n\n\n\nTilaajavastuulain osuudessa käydään lävitse lain nykytila ja velvoitteet sekä miten velvollisuudet tulee hoidettua. Erityisinä nostoina käsitellään mm. kevytyrittäjien selvitysvelvollisuutta sekä ulkomaisia sopimuskumppaneita. \n\n\n\nOHJELMA8.30 – 9.00 Kirjautuminen webinaariin sähköpostin linkistä9.00 – 16.00 \n\n\n\nRakentamisen tiedonantovelvollisuus\, veronumero ja tilaajavastuulaki \n\n\n\nUrakkailmoitus \n\n\n\n\nMistä pitää antaa urakkatiedot?\n\nrakentamispalvelu\, työvoiman vuokraus jne…\n\n\n\nerityistilanteet (takuukorjaukset\, perustajaurakointi yms tilanteet)\n\n\n\n\n\nMitä ja miten tietoja urakoista annetaan?\n\npakolliset ja vapaaehtoiset tiedot\n\n\n\nmitä annettavat tiedot tarkoittavat\n\n\n\n\n\nTietojen toimittamisen erilaiset tavat ja niiden soveltaminen\n\nUrakkatiedot annetaan sopimus- tai työmaakohtaisesti\n\n\n\nTietojen antaminen erilaisissa sopimustilanteissa (tuntiveloitus\, puitesopimus\, yms tilanteet)\n\n\n\nAlarajan soveltaminen eri tilanteissa\n\n\n\n\n\n\nVeronumero \n\n\n\n\nLaivanrakennus – ja rakennusalan veronumero\n\nKenellä pitää olla veronumero?\n\n\n\nEri rekistereiden erot?\n\n\n\nMihin veronumeroita eri aloilla käytetään ja mitä niiden lisäksi tarvitaan?\n\n\n\nVeronumero ja erityisasiantuntijat\n\n\n\n\n\nMiten veronumeron saa ja missä sitä pitää käyttää?\n\nkuvallinen henkilötunniste\n\n\n\nveronumeron hakeminen\n\n\n\nKenen vastuulla on valvoa veronumeroa?\n\n\n\n\n\nJulkinen veronumerorekisteri\n\nLaivanrakennus- ja rakennusalan veronumeron rekisteröiminen\n\n\n\nTyönantajan ja päätoteuttajan vastuut\n\nveronumeron tarkistamisen vaihtoehdot\n\nuusittuja palveluita eri tarkistamisen tilanteisiin\n\n\n\n\n\n\n\nVeronumero ja henkilötunnus verotoimistosta\n\nhenkilötunnuksen hakeminen ja tarvittavat tiedot\n\nvaadittavat asiakirjat ja rekisteröinnin tiedot\n\n\n\n\n\nveronumero ulkomaisissa tilanteissa\n\n\n\nmitä tietoja rekisteröintiin tarvitaan\n\n\n\n\n\nVeronumerorekisteristä poistaminen\n\nVeronumerorekisterin poistamisen säännökset laivanrakennus- ja rakennusalalla\n\n\n\n\n\nMihin tulee kiinnittää huomiota?\n\n\n\n\n\n\nTyöntekijätietojen antaminen \n\n\n\n\nMistä pitää antaa työntekijätiedot?\n\nyhteinen työmaa (mitä on rakentamistyö?)\n\n\n\nVerohallinnon rajaukset työntekijätietojen antamiseen\n\n\n\nAluehallintoviranomaisen rajaukset yhteiseen työmaahan ja rakentamistyöhön\n\n\n\nKenestä kaikista pitää antaa työntekijätiedot?\n\nvierailijat\, viranomaiset\, valvojat yms. tapaukset\n\n\n\n\n\nMitä tietoja työntekijöistä kerätään?\n\npakolliset ja vapaaehtoiset tiedot\n\n\n\n\n\nMiten ilmoitetaan erilaiset työntekijät (ammatinharjoittajat\, vuokratyöntekijät jne…)\n\nPäätoteuttajan ja työnantajien roolit sekä vastuut\n\n\n\n\n\n\n\n\n12.00 – 13.00 Lounas \n\n\n\nKotitalouden ilmoitusmenettely \n\n\n\n\nMistä töistä pitää ilmoittaa?\n\nmitä pitää ilmoittaa kotitalouden työmaalla\n\n\n\nyritys toimii kotitalouden työmaalla\n\n\n\n\n\n\nTietojen korjaaminen urakka- ja työntekijätiedoissa \n\n\n\n\nmitä tietoja pitää korjata\n\n\n\nmilloin pitää korjata\n\n\n\n\nLaiminlyöntimaksut \n\n\n\n\nsanktiot ja niiden eri tasot\n\n\n\n\nTilannekatsaus \n\n\n\n\nhavaintoja ja kokemuksia ilmoittamisesta\n\n\n\n\n \n\n\n\nTilaajavastuulain tavoitteet ja tarkoitus \n\n\n\n\nTilaajavastuulaki\n\nlain tarkoitus\n\n\n\nKetä selvitysvelvollisuus koskee?\n\n\n\n\n\nTilaajan selvitysvelvollisuus ja sen sisältö\n\nMitä pitää selvittää?\n\n\n\nMilloin selvitykset ovat oikea-aikaiset?\n\n\n\n\n\nTilaajavastuulain rajaukset\n\nluotettava toimija\, vakiintunut toiminta ym. rajaukset\n\n\n\n\n\nKuka on selvitysvelvollinen ja mihin pitää kiinnittää huomiota\n\nSelvityksien tyypillisimpiä ongelmakohtia\n\noikeustapauksia ja valvontatapauksia\n\n\n\n\n\n\n\nIlmiöt ja erityistilanteet\n\nUlkomaiset yritykset\n\n\n\nKevytyrittäjät\n\n\n\n\n\nSanktiot\n\nLaiminlyöntimaksuihin muutoksia\n\n\n\nTyypillisimmät virhetilanteet\n\n\n\nLaiminlyöntitapauksia ja oikeuskäytäntöä\n\n\n\n\n\n\n………………………………………………………………………………….. \n\n\n\nKoulutuspäivän hinta:395 EUR + alv / osallistuja \n\n\n\nHinta sisältää koulutuksen ja materiaalin sähköisessä muodossa. \n\n\n\nOsallistujille lähetetään tarkemmat ohjeet ja materiaalit sähköpostitse ennen koulutusta. \n\n\n\nIlmoittautumiset koulutuspäivään viimeistään11.12.2025 klo 9.00 mennessä. \n\n\n\nPeruutukset kuluitta 15 vrk ennen tilaisuutta. \n\n\n\nIlmoittautumiset ohjelmasivun yläosassa olevalla painikkeella\, puhelimella:010 4231 040 tai sähköpostilla: pk-koulutuskeskus@pk-koulutuskeskus.fi
URL:https://pk-koulutuskeskus.fi/event/rakentamisen-tiedonantovelvollisuus-veronumero-ja-tilaajavastuulaki-webinaari-11-12-2025-klo-8-30-16-00/
ATTACH;FMTTYPE=image/jpeg:https://pk-koulutuskeskus.fi/wp-content/uploads/2023/11/Pirkko_Vuori2.jpg
END:VEVENT
BEGIN:VEVENT
DTSTART;TZID=Europe/Helsinki:20251215T083000
DTEND;TZID=Europe/Helsinki:20251215T120000
DTSTAMP:20260424T002236
CREATED:20250526T085035Z
LAST-MODIFIED:20251128T070711Z
UID:10000098-1765787400-1765800000@pk-koulutuskeskus.fi
SUMMARY:Ennakkoperintä 2026 WEBINAARI 15.12.2025 klo 8.30-12.00
DESCRIPTION:OTM Sari Wulff\, Johtava Asiantuntija\, Tulorekisteriyksikkö\, VerohallintoMaanantai 15.12.2025 klo 8.30-12.00Webinaari \n\n\n\nKoulutuspäivän hinta: 295 EUR + alv / osallistuja \n\n\n\nWEBINAARI TALLENNETAAN JA TALLENNE ON KATSOTTAVISSA 30 PÄIVÄN AJAN KOULUTUKSEN JÄLKEEN! \n\n\n\nIlmoittautuminen 15.12.2025 mennessä! \n\n\n\n\n	\n	\n	\n	\n    \n\n	    \n    \n        Ilmoittautuminen tapahtumaan on päättynyt. \n        \n        	\n\n\n\n\n\nOHJELMA \n\n\n\nWebinaarissa käsitellään verolainsäädännön muutokset sekä vuoden 2026 ennakkoperintää koskevat muutokset. Lisäksi käsitellään tulorekisterin ajankohtaisia asioita\, kuten vuoden 2026 alusta tulevat muutokset palkkatietoilmoitukselle sekä uudet ja muuttuneet ohjeet tulorekisteri-ilmoittamisesta. Tämän lisäksi käsitellään palkka-avoimuuteen liittyvää raportointia sekä verohallinnon viimeaikaisia ohjeita ja uusinta oikeuskäytäntöä. Kouluttajana toimii johtava asiantuntija OTM Sari Wulff Verohallinnosta. \n\n\n\n8.30 – 9.00 Kirjautuminen webinaariin sähköpostin linkistä9.00 – 12.00 \n\n\n\nVerolainsäädännön muutokset \n\n\n\n\nVeroperusteet\n\n\n\nTuloverolain muut muutokset\n\n\n\nTyönantajan ja työntekijän sosiaalivakuutusmaksut v. 2026\n\n\n\n\nEnnakkoperintä 2026 \n\n\n\n\nAlkuvuoden verokortit\n\n\n\nLuontoisedut ja kustannusten korvaukset\n\n\n\nVuodelta 2025 annettavat vuosi-ilmoitukset\n\n\n\n\nAjankohtaista tulorekisteristä \n\n\n\n\nVuoden 2026 alusta tulevat muutokset palkkatietoilmoitukselle\n\n\n\nUudet ja muuttuneet ohjeet tulorekisteri-ilmoittamisesta\n\n\n\n\nPalkka-avoimuuteen liittyvä raportointi \n\n\n\n\nKenen on raportoitava työntekijöiden palkkaeroista?\n\n\n\nMitä tietoja raportoidaan ja millä aikataululla?\n\n\n\n\nVerohallinnon viimeaikaiset ohjeet ja uusin oikeuskäytäntö \n\n\n\n…………………………………………………………………………………..Koulutuspäivän hinta:295 EUR + alv / osallistuja \n\n\n\nHinta sisältää koulutuksen ja materiaalin sähköisessä muodossa. \n\n\n\nOsallistujille lähetetään tarkemmat ohjeet ja materiaalit sähköpostitse ennen koulutusta. \n\n\n\nIlmoittautumiset koulutuspäivään viimeistään15.12.2025 klo 9.00 mennessä. \n\n\n\nPeruutukset kuluitta 15 vrk ennen tilaisuutta. \n\n\n\nIlmoittautumiset ohjelmasivun yläosassa olevalla painikkeella\, puhelimella:010 4231 040 tai sähköpostilla: pk-koulutuskeskus@pk-koulutuskeskus.fi
URL:https://pk-koulutuskeskus.fi/event/ennakkoperinta-2026-webinaari-15-12-2025-klo-8-30-12-00/
ATTACH;FMTTYPE=image/jpeg:https://pk-koulutuskeskus.fi/wp-content/uploads/2025/05/Sari_Wulff3_2025-1.jpg
END:VEVENT
END:VCALENDAR