BEGIN:VCALENDAR
VERSION:2.0
PRODID:-//PK-Koulutuskeskus Oy - ECPv6.8.2//NONSGML v1.0//EN
CALSCALE:GREGORIAN
METHOD:PUBLISH
X-ORIGINAL-URL:https://pk-koulutuskeskus.fi
X-WR-CALDESC:Events for PK-Koulutuskeskus Oy
REFRESH-INTERVAL;VALUE=DURATION:PT1H
X-Robots-Tag:noindex
X-PUBLISHED-TTL:PT1H
BEGIN:VTIMEZONE
TZID:Europe/Helsinki
BEGIN:DAYLIGHT
TZOFFSETFROM:+0200
TZOFFSETTO:+0300
TZNAME:EEST
DTSTART:20250330T010000
END:DAYLIGHT
BEGIN:STANDARD
TZOFFSETFROM:+0300
TZOFFSETTO:+0200
TZNAME:EET
DTSTART:20251026T010000
END:STANDARD
END:VTIMEZONE
BEGIN:VEVENT
DTSTART;TZID=Europe/Helsinki:20251106T083000
DTEND;TZID=Europe/Helsinki:20251106T120000
DTSTAMP:20260424T021151
CREATED:20250611T075354Z
LAST-MODIFIED:20251016T073755Z
UID:10000103-1762417800-1762430400@pk-koulutuskeskus.fi
SUMMARY:Arvonlisäverokantojen muutokset ja niiden käytännön vaikutukset WEBINAARI 6.11.2025 klo 8.30-12.00
DESCRIPTION:VT\, KTM Hanna Huhtala\, Lecklé OyTorstai 6.11.2025 klo 8.30-12.00Webinaari \n\n\n\nKoulutuspäivän hinta: 295 EUR + alv / osallistuja \n\n\n\nWEBINAARI TALLENNETAAN JA TALLENNE ON KATSOTTAVISSA 30 PÄIVÄN AJAN KOULUTUKSEN JÄLKEEN! \n\n\n\nIlmoittautuminen 6.11.2025 mennessä! \n\n\n\n\n	\n	\n	\n	\n    \n\n	    \n    \n        Ilmoittautuminen tapahtumaan on päättynyt. \n        \n        	\n\n\n\n\n\nOHJELMA \n\n\n\nYleinen arvonlisäverokanta nousi 1.9.2024 alkaen 24 prosentista 25\,5 prosenttiin usean 10 prosentin verokannan alaisen hyödykkeen verokanta 1.1.2025 alkaen 14 prosenttiin. Ja lisää muutoksia on luvassa\, kun 14 prosentin verokannan on tarkoitus vuoden 2026 alussa laskea 13\,5 prosenttiin. Koulutuksessa käydään läpi verokantamuutoksia ja niiden käytännön vaikutuksia. Erilaistan luovutusten\, ennakkomaksujen ja oikaisuerien verokannan määräytymistä tarkastellaan esimerkkien valossa. Lopuksi tarkastellaan laskun merkitystä arvonlisäverotuksessa sekä sitä\, mitä virheellisen laskun osalta olisi hyvä huomioida. \n\n\n\n \n\n\n\nIlmoittautuminen klo 8.30-9.00Koulutus klo 9.00-12.00 \n\n\n\n\nArvonlisäverokantojen muutosMikä on muuttunut ja mitä muutoksia on tiedossa\n\nMuutoksen käytännön vaikutuksia ja kokemuksia\n\n\n\n\n\nMitä verokantaa tulee soveltaa?Pääperiaatteet verokannan määräytymisessä\n\nKeskeisiä huomioita ja kipukohtia\n\n\n\n\n\nKäytännön esimerkkejä verokantamuutokseen liittyenTavaran luovutus ja palveluiden suoritusProjektit ja urakatEnnakkomaksutHyvitykset\, alennukset yms.\n\nUlkomaan ostolaskut\n\n\n\n\n\nLaskun merkitys ja virheellisen laskun käsittely\n\n\n\n\nKoulutus päättyy klo 12.00 \n\n\n\n \n\n\n\n \n\n\n\n…………………………………………………………………………………. \n\n\n\nKoulutuspäivän hinta:295 EUR + alv / osallistujaHinta sisältää koulutuksen ja materiaalin sähköisessä muodossa. \n\n\n\nOsallistujille lähetetään tarkemmat ohjeet ja materiaalit sähköpostitse ennen koulutusta.Ilmoittautumiset koulutuspäivään viimeistään6.11.2025 klo 9.00 mennessä. \n\n\n\nPeruutukset kuluitta 15 vrk ennen tilaisuutta. \n\n\n\nIlmoittautumiset ohjelmasivun yläosassa olevalla painikkeella\, puhelimella:010 4231 040 tai sähköpostilla: pk-koulutuskeskus@pk-koulutuskeskus.fi
URL:https://pk-koulutuskeskus.fi/event/arvonlisaverokantojen-muutokset-ja-niiden-kaytannon-vaikutukset-webinaari-6-11-2025-klo-8-30-12-00/
ATTACH;FMTTYPE=image/jpeg:https://pk-koulutuskeskus.fi/wp-content/uploads/2023/10/Hanna_Huhtala_4.jpeg
END:VEVENT
BEGIN:VEVENT
DTSTART;TZID=Europe/Helsinki:20251112T083000
DTEND;TZID=Europe/Helsinki:20251112T120000
DTSTAMP:20260424T021151
CREATED:20250526T072943Z
LAST-MODIFIED:20251031T093239Z
UID:10000095-1762936200-1762948800@pk-koulutuskeskus.fi
SUMMARY:Tulorekisterin takautuvat korjaukset ja vaikutukset seuraamusmaksuihin WEBINAARI 12.11.2025 klo 8.30-12.00
DESCRIPTION:OTM Sari Wulff\, Johtava Asiantuntija\, Tulorekisteriyksikkö\, VerohallintoKeskiviikko 12.11.2025 klo 8.30-12.00Webinaari \n\n\n\nKoulutuspäivän hinta: 295 EUR + alv / osallistuja \n\n\n\nWEBINAARI TALLENNETAAN JA TALLENNE ON KATSOTTAVISSA 30 PÄIVÄN AJAN KOULUTUKSEN JÄLKEEN \n\n\n\nIlmoittautuminen 12.11.2025 mennessä \n\n\n\n\n	\n	\n	\n	\n    \n\n	    \n    \n        Ilmoittautuminen tapahtumaan on päättynyt. \n        \n        	\n\n\n\n\n\nOHJELMA \n\n\n\nTulorekisteriin annettavien ilmoitusten myöhästymisestä määrättävä myöhästymismaksu on otettu käyttöön vuoden 2021 alusta palkkatietojen osalta. Tämä heijastuu myös tietojen korjaamiseen. Koulutuksessa käsitellään palkkatietojen ilmoittamiseen liittyviä yleisimpiä virhetilanteita ja taannehtivien korjausten vaikutusta ilmoittamismenettelyyn\, tiedon käyttäjien prosesseihin sekä suorituksen maksajan ja tulonsaajan asemaan. \n\n\n\nKoulutuksessa käydään läpi myös käytännön kokemuksia ilmoittamismenettelystä sekä tulorekisteri-ilmoittamisen periaatteita\, kompastuskiviä ja solmukohtia. Kuulet muun muassa\, kuka saa tietoja tulorekisteristä ja miten korjaaminen vaikuttaa tiedon käyttäjien menettelyihin. Koulutuksessa kuulet\, miten korjaaminen vaikuttaa erilaisiin määrättäviin seuraamusmaksuihin. \n\n\n\nKouluttajana tilaisuudessa toimii maan kärkiasiantuntija\, tulorekisteriuudistuksessa alusta asti mukana ollut tulorekisteriyksikön johtava asiantuntija Sari Wulff Verohallinnosta.8.30 – 9.00 Kirjautuminen webinaariin sähköpostin linkistä9.00 – 12.00 \n\n\n\n\nIlmoittamisen kompastuskivet\n\nyleisimmät virheet\n\n\n\nvakuuttamistietojen ilmoittaminen\n\n\n\nkansainvälisten tietojen ilmoittaminen\n\n\n\n\n\nLuontoisetujen ilmoittaminen\n\nTaannehtivat korjaukset ja muutokset luontoisetuihin\n\n\n\nLuontoisetujen periminen takaisin\n\n\n\n\n\nTietojen korjaaminen tulorekisterissä\n\nkorjaamismenettelystä yleisesti\n\n\n\nvirheellisen tiedon korjaaminen\n\n\n\nlisämaksut\n\n\n\nlikasuoritusten ja takaisinperittyjen tulojen ilmoittaminen\n\n\n\nmissä tilanteessa on korjattava poistamalla aiempi ilmoitus?\n\n\n\nmiten korjaaminen vaikuttaa tiedon käyttäjien menettelyihin?\n\n\n\n\n\nMyöhästymismaksun käyttöönotto ja muut seuraamukset\n\nTakautuvien korjausten vaikutus myöhästymismaksuun\n\n\n\n\n\nVastauksia osallistujien esittämiin kysymyksiin\n\n\n\n\n…………………………………………………………………………………..Koulutuspäivän hinta:295 EUR + alv / osallistuja \n\n\n\nHinta sisältää koulutuksen ja materiaalin sähköisessä muodossa. \n\n\n\nOsallistujille lähetetään tarkemmat ohjeet ja materiaalit sähköpostitse ennen koulutusta. \n\n\n\nIlmoittautumiset koulutuspäivään viimeistään12.11.2025 klo 9.00 mennessä. \n\n\n\nPeruutukset kuluitta 15 vrk ennen tilaisuutta. \n\n\n\nIlmoittautumiset ohjelmasivun yläosassa olevalla painikkeella\, puhelimella:010 4231 040 tai sähköpostilla: pk-koulutuskeskus@pk-koulutuskeskus.fi
URL:https://pk-koulutuskeskus.fi/event/tulorekisterin-takautuvat-korjaukset-ja-vaikutukset-seuraamusmaksuihin-webinaari-12-11-2025-klo-8-30-12-00/
ATTACH;FMTTYPE=image/jpeg:https://pk-koulutuskeskus.fi/wp-content/uploads/2025/05/Sari_Wulff3_2025-1.jpg
END:VEVENT
BEGIN:VEVENT
DTSTART;TZID=Europe/Helsinki:20251119T083000
DTEND;TZID=Europe/Helsinki:20251119T120000
DTSTAMP:20260424T021151
CREATED:20250526T073549Z
LAST-MODIFIED:20251107T080244Z
UID:10000096-1763541000-1763553600@pk-koulutuskeskus.fi
SUMMARY:Henkilökuntaedut verotuksessa WEBINAARI 19.11.2025 klo 8.30-12.00
DESCRIPTION:OTM Sari Wulff\, Johtava Asiantuntija\, Tulorekisteriyksikkö\, VerohallintoKeskiviikko 19.11.2025 klo 8.30-12.00Webinaari \n\n\n\nKoulutuspäivän hinta: 295 EUR + alv / osallistuja \n\n\n\nWEBINAARI TALLENNETAAN JA TALLENNE ON KATSOTTAVISSA 30 PÄIVÄN AJAN KOULUTUKSEN JÄLKEEN \n\n\n\nIlmoittautuminen 19.11.2025 mennessä! \n\n\n\n\n	\n	\n	\n	\n    \n\n	    \n    \n        Ilmoittautuminen tapahtumaan on päättynyt. \n        \n        	\n\n\n\n\n\nOHJELMA \n\n\n\nKoulutuksessa käsitellään erilaisten henkilökunnalle annettujen etujen verokohteluita ja sosiaalivakuuttamista. Koulutuksessa selvitetään\, mitä etuja on mahdollista antaa verovapaasti henkilöstölle ja millä edellytyksillä sekä mitä niiden suhteen on otettava huomioon. Koulutuksessa käsitellään henkilökuntaetuja ja luontoisetuja osana henkilöstön palkkaa. Verovapaiden henkilökuntaetujen myöntämisessä pitää täyttyä tietyt edellytykset. Tämän lisäksi työnantajalla on mahdollisuus tarjota veronalaisia luontoisetuja\, joiden edellytykset ja verotusarvot ovat erikseen määritelty. Näiden lisäksi työnantajan on mahdollista tarjota henkilöstölle myös osittain verovapaita luontoisetuja. Koulutuksessa käsitellään edellä mainittujen lisäksi myös veronalaisten etujen työnantajamenettelyt. \n\n\n\n8.30 – 9.00 Kirjautuminen webinaariin sähköpostin linkistä9.00 – 12.00 \n\n\n\n\nHenkilökuntaedut ja luontoisedut osana palkkaaMilloin on kyseessä luontoisetu tai henkilökuntaetu?Etu palkan päälle vai osana kokonaispalkkaa?Miten edun järjestämistapa vaikuttaa verotukseen ja sosiaalivakuuttamiseen?Henkilökuntaetujen edellytyksetVerovapaiden etujen yleiset edellytyksetKollektiiviset ja  yksilölliset edutVerovapaat  ja veronalaiset edutTyöterveys\, joulu- ym. lahjat\, virkistys- ja harrastustoiminta\, liikunta- ja kulttuuritoiminta ym.Etäyhteyden välityksellä tapahtuvat tilaisuudetMissä tilanteissa veronalaista etua ei muodostu?Veronalaiset luontoisedutLuontoisetujen yleiset edellytyksetAsuntoetu\, autoetu\, ravintoetu\, puhelinetu ym.Verohallinnon luontoisetupäätöksen mukaisten luontoisetujen arvostaminenMuiden luontoisetujen arvostaminenOsittain verovapaat luontoisedutTyösuhdematkalippu ja työsuhdepolkupyöräVeronalaisten etujen työnantajamenettelyt\n\nEnnakonpidätyksen toimittaminen\n\n\n\nSosiaalivakuuttaminen\n\n\n\n\n\n\n…………………………………………………………………………………..Koulutuspäivän hinta:295 EUR + alv / osallistuja \n\n\n\nHinta sisältää koulutuksen ja materiaalin sähköisessä muodossa. \n\n\n\nOsallistujille lähetetään tarkemmat ohjeet ja materiaalit sähköpostitse ennen koulutusta. \n\n\n\nIlmoittautumiset koulutuspäivään viimeistään19.11.2025 klo 9.00 mennessä. \n\n\n\nPeruutukset kuluitta 15 vrk ennen tilaisuutta. \n\n\n\nIlmoittautumiset ohjelmasivun yläosassa olevalla painikkeella\, puhelimella:010 4231 040 tai sähköpostilla: pk-koulutuskeskus@pk-koulutuskeskus.fi
URL:https://pk-koulutuskeskus.fi/event/henkilokuntaedut-verotuksessa-webinaari-19-11-2025-klo-8-30-12-00/
ATTACH;FMTTYPE=image/jpeg:https://pk-koulutuskeskus.fi/wp-content/uploads/2025/05/Sari_Wulff3_2025-1.jpg
END:VEVENT
BEGIN:VEVENT
DTSTART;TZID=Europe/Helsinki:20251120T083000
DTEND;TZID=Europe/Helsinki:20251120T120000
DTSTAMP:20260424T021151
CREATED:20250526T074027Z
LAST-MODIFIED:20251107T080333Z
UID:10000097-1763627400-1763640000@pk-koulutuskeskus.fi
SUMMARY:Matkakustannusten korvaukset verotuksessa WEBINAARI 20.11.2025 klo 8.30-12.00
DESCRIPTION:OTM Sari Wulff\, Johtava Asiantuntija\, Tulorekisteriyksikkö\, VerohallintoTorstai 20.11.2025 klo 8.30-12.00Webinaari \n\n\n\nKoulutuspäivän hinta: 295 EUR + alv / osallistuja \n\n\n\nWEBINAARI TALLENNETAAN JA TALLENNE ON KATSOTTAVISSA 30 PÄIVÄN AJAN KOULUTUKSEN JÄLKEEN! \n\n\n\nIlmoittautuminen 20.11.2025 mennessä! \n\n\n\n\n	\n	\n	\n	\n    \n\n	    \n    \n        Ilmoittautuminen tapahtumaan on päättynyt. \n        \n        	\n\n\n\n\n\nOHJELMA \n\n\n\nWebinaarissa käsitellään matkan erilaisia käsitteitä verotuksessa\, verohallinnon ohjeita ja työehtosopimusten vaikutuksia korvausten maksamiseen. Koulutuksessa tarkastellaan mm. mitä voidaan korvata verovapaasti sekä milloin matkasta voi syntyä veronalaista etua? Koulutuksessa kuulet koti- ja ulkomaan päivärahoista\, ateriakorvauksista sekä kilometrikorvauksista. Tilaisuudessa käsitellään erityistilanteita sekä veronalaisten matkakustannusten korvaamista. Lisäksi käsitellään matkalaskuvaatimuksia sekä kustannusten korvausten ilmoittamista tulorekisteriin. \n\n\n\n8.30 – 9.00 Kirjautuminen webinaariin sähköpostin linkistä9.00 – 12.00 \n\n\n\nMatkustamiskustannusten korvaukset \n\n\n\n\nmatkan erilaiset käsitteet verotuksessa\n\n\n\nmitä voidaan korvata verovapaasti?\n\n\n\nmilloin matkasta voi syntyä veronalaista etua?\n\n\n\nverohallinnon ohjeet\n\n\n\ntyöehtosopimusten vaikutus korvausten maksamiseen\n\n\n\n\nKoti- ja ulkomaan päivärahat\, ateriakorvaukset ja kilometrikorvaukset \n\n\n\n\nmatkavuorokausi\, matkan alkaminen ja päättyminen\n\n\n\netäisyys- ja aikavaatimus päivärahassa\n\n\n\naterioiden vaikutus päivärahaan\n\n\n\nulkomaan päiväraha: minkä maan mukaan päiväraha määräytyy?\n\n\n\n\nErityistilanteita \n\n\n\nVeronalaiset matkakustannusten korvaukset \n\n\n\nMitä matkalaskulta vaaditaan? \n\n\n\nMiten kustannusten korvaukset ilmoitetaan tulorekisteriin? \n\n\n\n…………………………………………………………………………………..Koulutuspäivän hinta:295 EUR + alv / osallistuja \n\n\n\nHinta sisältää koulutuksen ja materiaalin sähköisessä muodossa. \n\n\n\nOsallistujille lähetetään tarkemmat ohjeet ja materiaalit sähköpostitse ennen koulutusta. \n\n\n\nIlmoittautumiset koulutuspäivään viimeistään20.11.2025 klo 9.00 mennessä. \n\n\n\nPeruutukset kuluitta 15 vrk ennen tilaisuutta. \n\n\n\nIlmoittautumiset ohjelmasivun yläosassa olevalla painikkeella\, puhelimella:010 4231 040 tai sähköpostilla: pk-koulutuskeskus@pk-koulutuskeskus.fi
URL:https://pk-koulutuskeskus.fi/event/matkakustannusten-korvaukset-verotuksessa-webinaari-20-11-2025-klo-8-30-12-00/
ATTACH;FMTTYPE=image/jpeg:https://pk-koulutuskeskus.fi/wp-content/uploads/2025/05/Sari_Wulff3_2025-1.jpg
END:VEVENT
BEGIN:VEVENT
DTSTART;TZID=Europe/Helsinki:20251125T083000
DTEND;TZID=Europe/Helsinki:20251125T153000
DTSTAMP:20260424T021151
CREATED:20250613T054750Z
LAST-MODIFIED:20251107T080417Z
UID:10000106-1764059400-1764084600@pk-koulutuskeskus.fi
SUMMARY:Kansainvälisen kaupan arvonlisäverotus WEBINAARI 25.11.2025 klo 8.30-15.30
DESCRIPTION:VT\, KTM Hanna Huhtala\, Lecklé OyTiistai 25.11.2025 klo 8.30-15.30Webinaari \n\n\n\nKoulutuspäivän hinta: 395 EUR + alv / osallistuja \n\n\n\nWEBINAARI TALLENNETAAN JA TALLENNE ON KATSOTTAVISSA 30 PÄIVÄN AJAN KOULUTUKSEN JÄLKEEN! \n\n\n\nIlmoittautuminen 25.11.2025 mennessä! \n\n\n\n\n	\n	\n	\n	\n    \n\n	    \n    \n        Ilmoittautuminen tapahtumaan on päättynyt. \n        \n        	\n\n\n\n\n\nOHJELMA \n\n\n\nKansainvälisen kaupan arvonlisäverotus \n\n\n\nKansainvälisen kaupan arvonlisäverotus on usein haastavaa ja keskeisten periaatteiden osaaminen on ensiarvoisen tärkeää kansainvälisellä markkinalla toimijoille. Tässä koulutuksessa käymme läpi tavara- ja palvelukaupan keskeiset periaatteet ja -säännöt yritysten välisessä (B2B) kaupassa.  \n\n\n\nAamupäivän osuudessa käymme läpi kansainvälisen tavarakaupan keskeisiä periaatteita yritysten välisen kaupankäynnin näkökulmasta. Iltapäivän osuus koostuu palvelukaupan arvonlisäverotuksesta sekä kulujen edelleen veloitukseen liittyvistä kysymyksistä. Iltapäivän osuuden päätteeksi otamme katsauksen kansainvälisen kaupan arvonlisäverotuksen ajankohtaisiin teemoihin.8.30 – 9.00 Kirjautuminen webinaariin sähköpostin linkistä \n\n\n\nAamupäivä 9.00 – 12.00 \n\n\n\nKansainvälisen kaupan arvonlisäverotuksen perusteet \n\n\n\nKansainvälisen arvonlisäverotuksen lähtökohdat \n\n\n\n\nSuorituksen alv-kohtelun ratkaiseminen ja myyntimaan määräytyminen\n\n\n\nKeskeisiä kansainvälisen kaupan käsitteitäTavaran ja palvelun käsiteLiittymis- ja jakamisperiaateKiinteä toimipaikka ja sen merkitys\n\nKäännetty verovelvollisuus\n\n\n\n\n\n\nKansainvälinen tavarakauppa \n\n\n\nTavarakaupan keskeiset periaatteet ja myyntimaan määräytyminen \n\n\n\nTavarakauppa EU:ssa \n\n\n\n\nTavaran yhteisömyyntiVerottomuuden edellytykset\n\nRaportointi ja laskumerkinnät\n\n\n\n\n\nTavaran yhteisöhankintaVerottomuuden edellytykset\n\nRaportointi ja laskumerkinnät\n\n\n\n\n\nTavarakaupan erityistilanteitaOman tavaran siirto ja varastot muissa EU-maissaToimituslausekkeiden merkitys\n\nKolmikantakauppa ja muut ketjukaupan tilanteet\n\n\n\n\n\nKäytännön esimerkkejä\n\n\n\n\nTavaran vienti ja maahantuonti \n\n\n\n\nTavaran vienti EU:n ulkopuolelleVerottomuuden edellytykset\n\nVientiin liittyviä erityistilanteita\n\n\n\n\n\nTavaran maahantuonti SuomessaMaahantuonnin veron peruste\n\nMaahantuonnin arvonlisäveron raportointi\n\n\n\n\n\n\nLounas 12.00 – 13.00 \n\n\n\nIltapäivä 13.00 – 15.30 \n\n\n\nKansainvälisen palvelukaupan arvonlisäverotus \n\n\n\nProjektitoimitusten arvonlisäverotus \n\n\n\n\nTavaran myynti asennettuna\n\n\n\nKeskeiset alv-kysymykset ja periaatteet\n\n\n\n\nPalvelukaupan arvonlisäverotuksen perusperiaatteet \n\n\n\n\nVerotuskohtelun ratkaiseminen\n\n\n\nPalveluiden myyntimaaPääsääntöPoikkeussäännösten piirissä olevat palvelutKäytännön esimerkkejä\n\nLaskumerkinnät ja raportointi\n\n\n\n\n\nVerokantamuutoksen vaikutus palvelukauppaan\n\n\n\n\nKulujen edelleen veloitus kansainvälisessä kaupassa \n\n\n\n\nMitä tarkoitetaan kulujen edelleen veloituksella?\n\n\n\nTyypillisiä ongelmatilanteita\n\n\n\nKäytännön esimerkkejä\n\n\n\n\nAjankohtaista kansainvälisen kaupan arvonlisäverotuksesta \n\n\n\n\nViimeaikaista verotus- ja oikeuskäytäntöä\n\n\n\nVAT in Digital AgeMistä on kyse?\n\nMitkä ovat muutoksen tavoitteet?\n\n\n\n\n\n\nPäivä päättyy klo 15.30 \n\n\n\n………………………………………………………………………………….. \n\n\n\nKoulutuspäivän hinta:395 EUR + alv / osallistujaHinta sisältää koulutuksen ja materiaalin sähköisessä muodossa. \n\n\n\nOsallistujille lähetetään tarkemmat ohjeet ja materiaalit sähköpostitse ennen koulutusta.Ilmoittautumiset koulutuspäivään viimeistään25.11.2025 klo 9.00 mennessä. \n\n\n\nPeruutukset kuluitta 15 vrk ennen tilaisuutta. \n\n\n\nIlmoittautumiset ohjelmasivun yläosassa olevalla painikkeella\, puhelimella:010 4231 040 tai sähköpostilla: pk-koulutuskeskus@pk-koulutuskeskus.fi
URL:https://pk-koulutuskeskus.fi/event/kansainvalisen-kaupan-arvonlisaverotus-webinaari-25-11-2024-klo-8-30-15-30/
ATTACH;FMTTYPE=image/jpeg:https://pk-koulutuskeskus.fi/wp-content/uploads/2023/10/Hanna_Huhtala_4.jpeg
END:VEVENT
BEGIN:VEVENT
DTSTART;TZID=Europe/Helsinki:20251127T083000
DTEND;TZID=Europe/Helsinki:20251127T120000
DTSTAMP:20260424T021151
CREATED:20251028T123357Z
LAST-MODIFIED:20260128T072911Z
UID:10000110-1764232200-1764244800@pk-koulutuskeskus.fi
SUMMARY:Hankintalaki uudistuu WEBINAARI 27.11.2025 klo 8.30-12.00
DESCRIPTION:OTM Saila Eskola\, PTCServices OyTorstai 27.11.2025 klo 8.30-12.00Webinaari \n\n\n\nKoulutuspäivän hinta: 295 EUR + alv / osallistuja \n\n\n\nWEBINAARI TALLENNETAAN JA TALLENNE ON KATSOTTAVISSA 30 PÄIVÄN AJAN KOULUTUKSEN JÄLKEEN! \n\n\n\nIlmoittautuminen 27.11.2025 mennessä! \n\n\n\n\n	\n	\n	\n	\n    \n\n	    \n    \n        Ilmoittautuminen tapahtumaan on päättynyt. \n        \n        	\n\n\n\n\n\nOHJELMA \n\n\n\nHankintalakia uudistetaan jälleen! Hallituksen esitys uudesta hankintalaista julkaistaan marraskuussa 2025 ja muutokset tulevat voimaan 2026. Mitä muutoksia on tulossa ja miten muutokset vaikuttavat hankintojen tekemiseen käytännössä? Tervetuloa koulutukseen\, jossa saat selkeän kokonaiskuvan tulevista muutoksista: \n\n\n\n\nHallituksen esityksen keskeinen sisältö\n\n\n\nVaikutukset hankintaprosesseihin ja käytännön toimintaan\n\n\n\nLakiuudistuksen aikataulu ja siirtymäsäännökset\n\n\n\n\nKoulutus on suunnattu kaikille julkisten hankintojen parissa työskenteleville asiantuntijoille. \n\n\n\nIlmoittautuminen klo 8.30-9.00Koulutus klo 9.00-12.00 \n\n\n\nHankintalakiuudistus\n\n\n\n\nLakiuudistuksen aikataulu\n\n\n\nTaustat ja tavoitteet\n\n\n\nSidosyksikköhankinnat\n\n\n\nHankinnan valmistelu\n\n\n\nHankintasopimuksen jakaminen osiin\n\n\n\nKilpailutuksen uusimisvelvoite\n\n\n\nUudet poissulkuperusteet\n\n\n\nMuut kirjaukset: mm. huoltovarmuus ja turvallisuus\, hankintojen vastuullisuus\, sote-hankinnat\n\n\n\nOikeussuoja/muutoksenhaku\n\n\n\n\nKoulutus päättyy klo 12.00 \n\n\n\n \n\n\n\n \n\n\n\n…………………………………………………………………………………. \n\n\n\nKoulutuspäivän hinta:295 EUR + alv / osallistujaHinta sisältää koulutuksen ja materiaalin sähköisessä muodossa. \n\n\n\nOsallistujille lähetetään tarkemmat ohjeet ja materiaalit sähköpostitse ennen koulutusta.Ilmoittautumiset koulutuspäivään viimeistään27.11.2025 klo 9.00 mennessä. \n\n\n\nPeruutukset kuluitta 15 vrk ennen tilaisuutta. \n\n\n\nIlmoittautumiset ohjelmasivun yläosassa olevalla painikkeella\, puhelimella:010 4231 040 tai sähköpostilla: pk-koulutuskeskus@pk-koulutuskeskus.fi
URL:https://pk-koulutuskeskus.fi/event/hankintalain-uudistus-tutuksi-webinaari-27-11-2025-klo-8-30-12-00/
ATTACH;FMTTYPE=image/jpeg:https://pk-koulutuskeskus.fi/wp-content/uploads/2025/11/PTCS-Saila-Eskola-2573.jpg
END:VEVENT
END:VCALENDAR