BEGIN:VCALENDAR
VERSION:2.0
PRODID:-//PK-Koulutuskeskus Oy - ECPv6.8.2//NONSGML v1.0//EN
CALSCALE:GREGORIAN
METHOD:PUBLISH
X-WR-CALNAME:PK-Koulutuskeskus Oy
X-ORIGINAL-URL:https://pk-koulutuskeskus.fi
X-WR-CALDESC:Events for PK-Koulutuskeskus Oy
REFRESH-INTERVAL;VALUE=DURATION:PT1H
X-Robots-Tag:noindex
X-PUBLISHED-TTL:PT1H
BEGIN:VTIMEZONE
TZID:Europe/Helsinki
BEGIN:DAYLIGHT
TZOFFSETFROM:+0200
TZOFFSETTO:+0300
TZNAME:EEST
DTSTART:20250330T010000
END:DAYLIGHT
BEGIN:STANDARD
TZOFFSETFROM:+0300
TZOFFSETTO:+0200
TZNAME:EET
DTSTART:20251026T010000
END:STANDARD
END:VTIMEZONE
BEGIN:VEVENT
DTSTART;TZID=Europe/Helsinki:20251022T083000
DTEND;TZID=Europe/Helsinki:20251022T153000
DTSTAMP:20260424T034525
CREATED:20250613T055504Z
LAST-MODIFIED:20251006T052144Z
UID:10000107-1761121800-1761147000@pk-koulutuskeskus.fi
SUMMARY:Arvonlisäveron vähennysoikeudet ja arvonlisäveron ajankohtaiskatsaus WEBINAARI 22.10.2025 klo 8.30-15.30
DESCRIPTION:KTM Eveliina Laakso\, Lecklé OyKeskiviikko 22.10.2025 klo 8.30-15.30Webinaari \n\n\n\nKoulutuspäivän hinta: 395 EUR + alv / osallistuja \n\n\n\nWEBINAARI TALLENNETAAN JA TALLENNE ON KATSOTTAVISSA 30 PÄIVÄN AJAN KOULUTUKSEN JÄLKEEN! \n\n\n\nIlmoittautuminen 22.10.2025 mennessä! \n\n\n\n\n	\n	\n	\n	\n    \n\n	    \n    \n        Ilmoittautuminen tapahtumaan on päättynyt. \n        \n        	\n\n\n\n\n\nOHJELMA \n\n\n\nArvonlisäveron vähennysoikeudet ja arvonlisäveron ajankohtaiskatsaus \n\n\n\nAamupäivän osuudessa käymme läpi arvonlisäveron vähennysoikeuteen liittyviä kysymyksiä ja keskeisiä periaatteita. Iltapäivän osuudessa painopiste on arvonlisäveron ajankohtaisissa kysymyksissä – mitkä asiat ovat Verohallinnossa pinnalla\, mitkä ovat tuoreimmat muutokset ja mitä uudistuksia on lähiaikoina tulossa. Lisäksi perehdymme oman käytön arvonlisäverotuksen pääperiaatteisiin. \n\n\n\nTule kuulemaan\, mitä tiedämme arvonlisäverotukseen tulleista ja tulossa olevista muutoksista sekä saamaan vinkit muutoksiin valmistautumiseen! \n\n\n\nAamu- ja iltapäivän osuudet ovat itsenäisiä ja voit ilmoittautua vain toiseen osuuteen hintaan 295 eur + alv.8.30 – 9.00 Kirjautuminen webinaariin sähköpostin linkistä \n\n\n\nAamupäivä klo 9.00 – 12.00 \n\n\n\n\nArvonlisäveron vähennysoikeuden perusperiaatteet ja tyypillisimmät rajanvetotilanteet\n\n\n\nVähennysoikeuden yleiset edellytykset ja rajoituksetVähennysoikeuden yleiset edellytyksetVähennysoikeuden rajoitukset\n\nLasku vähennysoikeuden edellytyksenä\n\n\n\n\n\nYleiskulujen vähennysoikeus\n\n\n\nHenkilöstö- ja edustuskulut arvonlisäverotuksessaHenkilöstökulujen vähennysoikeusEdustus- ja markkinointikulujen rajanvetotilanteet\n\nMuita rajanvetotilanteita\n\n\n\n\n\n\nLounas klo 12.00 – 13.00 \n\n\n\nIltapäivä klo 13.00 – 15.30 \n\n\n\n\nOman käytön arvonlisäverotuksen pääperiaatteitaMikä oman käytön verotus?\n\nMiten tunnistaa tyypillisiä oman käytön verotuksen tilanteita?\n\n\n\n\n\nArvonlisäverokantojen muutokset – mitä huomioida muutoksesta?Mikä on jo muuttunut ja mitä muutoksia on tiedossa\n\nMuutoksen käytännön vaikutuksia\n\n\n\n\n\nMuita ajankohtaisia nostojaVAT in Digital AgeUusinta oikeuskäytäntöä\n\nMuutokset Verohallinnon arvonlisävero-ohjeissa\n\n\n\n\n\nMuuta ajankohtaista\n\n\n\n\nKoulutus päättyy noin 15.30 \n\n\n\n………………………………………………………………………………….. \n\n\n\nKoulutuspäivän hinta:395 EUR + alv / osallistujaHinta sisältää koulutuksen ja materiaalin sähköisessä muodossa. \n\n\n\nOsallistujille lähetetään tarkemmat ohjeet ja materiaalit sähköpostitse ennen koulutusta.Ilmoittautumiset koulutuspäivään viimeistään22.10.2025 klo 9.00 mennessä. \n\n\n\nPeruutukset kuluitta 15 vrk ennen tilaisuutta. \n\n\n\nIlmoittautumiset ohjelmasivun yläosassa olevalla painikkeella\, puhelimella:010 4231 040 tai sähköpostilla: pk-koulutuskeskus@pk-koulutuskeskus.fi
URL:https://pk-koulutuskeskus.fi/event/arvonlisaveron-vahennysoikeudet-ja-arvonlisaveron-ajankohtaiskatsaus-webinaari-22-10-2025-klo-8-30-15-30/
ATTACH;FMTTYPE=image/jpeg:https://pk-koulutuskeskus.fi/wp-content/uploads/2023/10/LexAlvia_Eveliina.jpeg
END:VEVENT
BEGIN:VEVENT
DTSTART;TZID=Europe/Helsinki:20251023T083000
DTEND;TZID=Europe/Helsinki:20251023T120000
DTSTAMP:20260424T034525
CREATED:20250526T072322Z
LAST-MODIFIED:20251006T052334Z
UID:10000094-1761208200-1761220800@pk-koulutuskeskus.fi
SUMMARY:Matkakustannusten korvaukset verotuksessa WEBINAARI 23.10.2025 klo 8.30-12.00
DESCRIPTION:OTM Sari Wulff\, Johtava Asiantuntija\, Tulorekisteriyksikkö\, VerohallintoTorstai 23.10.2025 klo 8.30-12.00Webinaari \n\n\n\nKoulutuspäivän hinta: 295 EUR + alv / osallistuja \n\n\n\nWEBINAARI TALLENNETAAN JA TALLENNE ON KATSOTTAVISSA 30 PÄIVÄN AJAN KOULUTUKSEN JÄLKEEN! \n\n\n\nIlmoittautuminen 23.10.2025 mennessä! \n\n\n\n\n	\n	\n	\n	\n    \n\n	    \n    \n        Ilmoittautuminen tapahtumaan on päättynyt. \n        \n        	\n\n\n\n\n\nOHJELMA \n\n\n\nWebinaarissa käsitellään matkan erilaisia käsitteitä verotuksessa\, verohallinnon ohjeita ja työehtosopimusten vaikutuksia korvausten maksamiseen. Koulutuksessa tarkastellaan mm. mitä voidaan korvata verovapaasti sekä milloin matkasta voi syntyä veronalaista etua? Koulutuksessa kuulet koti- ja ulkomaan päivärahoista\, ateriakorvauksista sekä kilometrikorvauksista. Tilaisuudessa käsitellään erityistilanteita sekä veronalaisten matkakustannusten korvaamista. Lisäksi käsitellään matkalaskuvaatimuksia sekä kustannusten korvausten ilmoittamista tulorekisteriin. \n\n\n\n8.30 – 9.00 Kirjautuminen webinaariin sähköpostin linkistä9.00 – 12.00 \n\n\n\nMatkustamiskustannusten korvaukset \n\n\n\n\nmatkan erilaiset käsitteet verotuksessa\n\n\n\nmitä voidaan korvata verovapaasti?\n\n\n\nmilloin matkasta voi syntyä veronalaista etua?\n\n\n\nverohallinnon ohjeet\n\n\n\ntyöehtosopimusten vaikutus korvausten maksamiseen\n\n\n\n\nKoti- ja ulkomaan päivärahat\, ateriakorvaukset ja kilometrikorvaukset \n\n\n\n\nmatkavuorokausi\, matkan alkaminen ja päättyminen\n\n\n\netäisyys- ja aikavaatimus päivärahassa\n\n\n\naterioiden vaikutus päivärahaan\n\n\n\nulkomaan päiväraha: minkä maan mukaan päiväraha määräytyy?\n\n\n\n\nErityistilanteita \n\n\n\nVeronalaiset matkakustannusten korvaukset \n\n\n\nMitä matkalaskulta vaaditaan? \n\n\n\nMiten kustannusten korvaukset ilmoitetaan tulorekisteriin? \n\n\n\n…………………………………………………………………………………..Koulutuspäivän hinta:295 EUR + alv / osallistuja \n\n\n\nHinta sisältää koulutuksen ja materiaalin sähköisessä muodossa. \n\n\n\nOsallistujille lähetetään tarkemmat ohjeet ja materiaalit sähköpostitse ennen koulutusta. \n\n\n\nIlmoittautumiset koulutuspäivään viimeistään23.10.2025 klo 9.00 mennessä. \n\n\n\nPeruutukset kuluitta 15 vrk ennen tilaisuutta. \n\n\n\nIlmoittautumiset ohjelmasivun yläosassa olevalla painikkeella\, puhelimella:010 4231 040 tai sähköpostilla: pk-koulutuskeskus@pk-koulutuskeskus.fi
URL:https://pk-koulutuskeskus.fi/event/matkakustannusten-korvaukset-verotuksessa-webinaari-23-10-2025-klo-8-30-12-00/
ATTACH;FMTTYPE=image/jpeg:https://pk-koulutuskeskus.fi/wp-content/uploads/2025/05/Sari_Wulff3_2025-1.jpg
END:VEVENT
BEGIN:VEVENT
DTSTART;TZID=Europe/Helsinki:20251029T083000
DTEND;TZID=Europe/Helsinki:20251029T160000
DTSTAMP:20260424T034525
CREATED:20250923T083301Z
LAST-MODIFIED:20251006T052436Z
UID:10000109-1761726600-1761753600@pk-koulutuskeskus.fi
SUMMARY:Rakentamisen tiedonantovelvollisuus ja veronumero WEBINAARI 29.10.2025 klo 8.30-12.00
DESCRIPTION:Johtava asiantuntija Pirkko Vuori\, VerohallintoKeskiiikko 29.10.2025 klo 8.30-12.00Webinaari \n\n\n\nKoulutuspäivän hinta: 295 EUR + alv / osallistuja \n\n\n\nWEBINAARI TALLENNETAAN JA TALLENNE ON KATSOTTAVISSA 30 PÄIVÄN AJAN KOULUTUKSEN JÄLKEEN \n\n\n\nIlmoittautuminen 29.10.2025 mennessä \n\n\n\n\n	\n	\n	\n	\n    \n\n	    \n    \n        Ilmoittautuminen tapahtumaan on päättynyt. \n        \n        	\n\n\n\n\n\nRakentamisen tiedonantovelvollisuus ja veronumero \n\n\n\nRakentamiseen liittyvä tiedonantovelvollisuus koskee kaikkia\, ei ainoastaan rakennusalan toimijoita. Tiedonantovelvollisuuteen kuuluu velvollisuus antaa urakkatiedot ja työntekijätiedot. \n\n\n\nKoulutuksessa käydään läpi lyhyesti yrityksiä koskeva tiedonantovelvollisuus kokonaisuudessaan ja keskitytään erityisesti erityistilanteisiin kuten kevytyrittäjiin\, ulkomaisiin tilanteisiin\, perustajaurakoitsijoihin sekä kerrotaan eri toimijoiden vastuita sanktioinnin näkökulmasta. Lisäksi käydään läpi rakennusalan veronumero ja julkisen veronumerorekisterin velvollisuudet ja vastuut. \n\n\n\nOHJELMA8.30 – 9.00 Kirjautuminen webinaariin sähköpostin linkistä9.00 – 12.00 \n\n\n\nRakentamisen tiedonantovelvollisuus ja veronumero \n\n\n\nUrakkailmoitus \n\n\n\n\nMistä pitää antaa urakkatiedot?\n\n\n\nTietojen toimittamisen erilaiset tavat ja niiden soveltaminen\n\n\n\nErityistilanteet\n\n\n\n\nVeronumero \n\n\n\n\nMiten veronumeron saa ja missä sitä pitää käyttää?\n\n\n\nJulkinen veronumerorekisteri\n\n\n\n\nTyöntekijätietojen antaminen \n\n\n\n\nMistä pitää antaa työntekijätiedot?\n\n\n\nMiten ilmoitetaan erilaiset työntekijät (ammatinharjoittajat\, vuokratyöntekijät jne…)\n\n\n\nPäätoteuttajan ja työnantajien roolit sekä vastuut ilmoittamisessa\n\n\n\nErityistilanteet\n\n\n\n\nTietojen korjaaminen urakka- ja työntekijätiedoissa \n\n\n\nLaiminlyöntimaksut \n\n\n\n\nsanktiot ja niiden eri tasot\n\n\n\n\nTilannekatsaus \n\n\n\n\nhavaintoja ja kokemuksia ilmoittamisesta\n\n\n\n\n \n\n\n\n………………………………………………………………………………….. \n\n\n\nKoulutuspäivän hinta:295 EUR + alv / osallistuja \n\n\n\nHinta sisältää koulutuksen ja materiaalin sähköisessä muodossa. \n\n\n\nOsallistujille lähetetään tarkemmat ohjeet ja materiaalit sähköpostitse ennen koulutusta. \n\n\n\nIlmoittautumiset koulutuspäivään viimeistään29.10.2025 klo 9.00 mennessä. \n\n\n\nPeruutukset kuluitta 15 vrk ennen tilaisuutta. \n\n\n\nIlmoittautumiset ohjelmasivun yläosassa olevalla painikkeella\, puhelimella:010 4231 040 tai sähköpostilla: pk-koulutuskeskus@pk-koulutuskeskus.fi
URL:https://pk-koulutuskeskus.fi/event/rakentamisen-tiedonantovelvollisuus-ja-veronumero-webinaari-29-10-2025-klo-8-30-12-00/
ATTACH;FMTTYPE=image/jpeg:https://pk-koulutuskeskus.fi/wp-content/uploads/2023/11/Pirkko_Vuori2.jpg
END:VEVENT
BEGIN:VEVENT
DTSTART;TZID=Europe/Helsinki:20251030T083000
DTEND;TZID=Europe/Helsinki:20251030T160000
DTSTAMP:20260424T034525
CREATED:20250526T064806Z
LAST-MODIFIED:20251006T052547Z
UID:10000089-1761813000-1761840000@pk-koulutuskeskus.fi
SUMMARY:Rakentamisen tiedonantovelvollisuus\, veronumero ja tilaajavastuulaki WEBINAARI 30.10.2025 klo 8.30-16.00
DESCRIPTION:Johtava asiantuntija Pirkko Vuori\, VerohallintoTorstai 30.10.2025 klo 8.30-16.00Webinaari \n\n\n\nKoulutuspäivän hinta: 395 EUR + alv / osallistuja \n\n\n\nWEBINAARI TALLENNETAAN JA TALLENNE ON KATSOTTAVISSA 30 PÄIVÄN AJAN KOULUTUKSEN JÄLKEEN \n\n\n\nIlmoittautuminen 30.10.2025 mennessä \n\n\n\n\n	\n	\n	\n	\n    \n\n	    \n    \n        Ilmoittautuminen tapahtumaan on päättynyt. \n        \n        	\n\n\n\n\n\nRakentamisen tiedonantovelvollisuus\, veronumero ja tilaajavastuulaki \n\n\n\nRakentamiseen liittyvä tiedonantovelvollisuus koskee kaikkia\, ei ainoastaan rakennusalan toimijoita. Tiedonantovelvollisuuteen kuuluu yritysten velvollisuus antaa urakkatiedot ja työntekijätiedot sekä valvoa veronumeron rekisteröintiä. \n\n\n\nKoulutuksessa käydään läpi tietojen toimittaminen eri tilanteissa\, korjaaminen sekä tavat ja menetelmät\, joilla tiedonantovelvollisuus hoidetaan. Erityistilanteissa käsitellään mm. kevytyrittäjien tulkintoja\, ulkomaisia tilanteita sekä kerrotaan eri toimijoiden vastuista sanktioinnin näkökulmasta. \n\n\n\nTilaajavastuulain osuudessa käydään lävitse lain nykytila ja velvoitteet sekä miten velvollisuudet tulee hoidettua. Erityisinä nostoina käsitellään mm. kevytyrittäjien selvitysvelvollisuutta sekä ulkomaisia sopimuskumppaneita. \n\n\n\nOHJELMA8.30 – 9.00 Kirjautuminen webinaariin sähköpostin linkistä9.00 – 16.00 \n\n\n\nRakentamisen tiedonantovelvollisuus\, veronumero ja tilaajavastuulaki \n\n\n\nUrakkailmoitus \n\n\n\n\nMistä pitää antaa urakkatiedot?\n\nrakentamispalvelu\, työvoiman vuokraus jne…\n\n\n\nerityistilanteet (takuukorjaukset\, perustajaurakointi yms tilanteet)\n\n\n\n\n\nMitä ja miten tietoja urakoista annetaan?\n\npakolliset ja vapaaehtoiset tiedot\n\n\n\nmitä annettavat tiedot tarkoittavat\n\n\n\n\n\nTietojen toimittamisen erilaiset tavat ja niiden soveltaminen\n\nUrakkatiedot annetaan sopimus- tai työmaakohtaisesti\n\n\n\nTietojen antaminen erilaisissa sopimustilanteissa (tuntiveloitus\, puitesopimus\, yms tilanteet)\n\n\n\nAlarajan soveltaminen eri tilanteissa\n\n\n\n\n\n\nVeronumero \n\n\n\n\nLaivanrakennus – ja rakennusalan veronumero\n\nKenellä pitää olla veronumero?\n\n\n\nEri rekistereiden erot?\n\n\n\nMihin veronumeroita eri aloilla käytetään ja mitä niiden lisäksi tarvitaan?\n\n\n\nVeronumero ja erityisasiantuntijat\n\n\n\n\n\nMiten veronumeron saa ja missä sitä pitää käyttää?\n\nkuvallinen henkilötunniste\n\n\n\nveronumeron hakeminen\n\n\n\nKenen vastuulla on valvoa veronumeroa?\n\n\n\n\n\nJulkinen veronumerorekisteri\n\nLaivanrakennus- ja rakennusalan veronumeron rekisteröiminen\n\n\n\nTyönantajan ja päätoteuttajan vastuut\n\nveronumeron tarkistamisen vaihtoehdot\n\nuusittuja palveluita eri tarkistamisen tilanteisiin\n\n\n\n\n\n\n\nVeronumero ja henkilötunnus verotoimistosta\n\nhenkilötunnuksen hakeminen ja tarvittavat tiedot\n\nvaadittavat asiakirjat ja rekisteröinnin tiedot\n\n\n\n\n\nveronumero ulkomaisissa tilanteissa\n\n\n\nmitä tietoja rekisteröintiin tarvitaan\n\n\n\n\n\nVeronumerorekisteristä poistaminen\n\nVeronumerorekisterin poistamisen säännökset laivanrakennus- ja rakennusalalla\n\n\n\n\n\nMihin tulee kiinnittää huomiota?\n\n\n\n\n\n\nTyöntekijätietojen antaminen \n\n\n\n\nMistä pitää antaa työntekijätiedot?\n\nyhteinen työmaa (mitä on rakentamistyö?)\n\n\n\nVerohallinnon rajaukset työntekijätietojen antamiseen\n\n\n\nAluehallintoviranomaisen rajaukset yhteiseen työmaahan ja rakentamistyöhön\n\n\n\nKenestä kaikista pitää antaa työntekijätiedot?\n\nvierailijat\, viranomaiset\, valvojat yms. tapaukset\n\n\n\n\n\nMitä tietoja työntekijöistä kerätään?\n\npakolliset ja vapaaehtoiset tiedot\n\n\n\n\n\nMiten ilmoitetaan erilaiset työntekijät (ammatinharjoittajat\, vuokratyöntekijät jne…)\n\nPäätoteuttajan ja työnantajien roolit sekä vastuut\n\n\n\n\n\n\n\n\n12.00 – 13.00 Lounas \n\n\n\nKotitalouden ilmoitusmenettely \n\n\n\n\nMistä töistä pitää ilmoittaa?\n\nmitä pitää ilmoittaa kotitalouden työmaalla\n\n\n\nyritys toimii kotitalouden työmaalla\n\n\n\n\n\n\nTietojen korjaaminen urakka- ja työntekijätiedoissa \n\n\n\n\nmitä tietoja pitää korjata\n\n\n\nmilloin pitää korjata\n\n\n\n\nLaiminlyöntimaksut \n\n\n\n\nsanktiot ja niiden eri tasot\n\n\n\n\nTilannekatsaus \n\n\n\n\nhavaintoja ja kokemuksia ilmoittamisesta\n\n\n\n\n \n\n\n\nTilaajavastuulain tavoitteet ja tarkoitus \n\n\n\n\nTilaajavastuulaki\n\nlain tarkoitus\n\n\n\nKetä selvitysvelvollisuus koskee?\n\n\n\n\n\nTilaajan selvitysvelvollisuus ja sen sisältö\n\nMitä pitää selvittää?\n\n\n\nMilloin selvitykset ovat oikea-aikaiset?\n\n\n\n\n\nTilaajavastuulain rajaukset\n\nluotettava toimija\, vakiintunut toiminta ym. rajaukset\n\n\n\n\n\nKuka on selvitysvelvollinen ja mihin pitää kiinnittää huomiota\n\nSelvityksien tyypillisimpiä ongelmakohtia\n\noikeustapauksia ja valvontatapauksia\n\n\n\n\n\n\n\nIlmiöt ja erityistilanteet\n\nUlkomaiset yritykset\n\n\n\nKevytyrittäjät\n\n\n\n\n\nSanktiot\n\nLaiminlyöntimaksuihin muutoksia\n\n\n\nTyypillisimmät virhetilanteet\n\n\n\nLaiminlyöntitapauksia ja oikeuskäytäntöä\n\n\n\n\n\n\n………………………………………………………………………………….. \n\n\n\nKoulutuspäivän hinta:395 EUR + alv / osallistuja \n\n\n\nHinta sisältää koulutuksen ja materiaalin sähköisessä muodossa. \n\n\n\nOsallistujille lähetetään tarkemmat ohjeet ja materiaalit sähköpostitse ennen koulutusta. \n\n\n\nIlmoittautumiset koulutuspäivään viimeistään30.10.2025 klo 9.00 mennessä. \n\n\n\nPeruutukset kuluitta 15 vrk ennen tilaisuutta. \n\n\n\nIlmoittautumiset ohjelmasivun yläosassa olevalla painikkeella\, puhelimella:010 4231 040 tai sähköpostilla: pk-koulutuskeskus@pk-koulutuskeskus.fi
URL:https://pk-koulutuskeskus.fi/event/rakentamisen-tiedonantovelvollisuus-veronumero-ja-tilaajavastuulaki-webinaari-30-10-2025-klo-8-30-16-00/
ATTACH;FMTTYPE=image/jpeg:https://pk-koulutuskeskus.fi/wp-content/uploads/2023/11/Pirkko_Vuori2.jpg
END:VEVENT
END:VCALENDAR