BEGIN:VCALENDAR
VERSION:2.0
PRODID:-//PK-Koulutuskeskus Oy - ECPv6.8.2//NONSGML v1.0//EN
CALSCALE:GREGORIAN
METHOD:PUBLISH
X-WR-CALNAME:PK-Koulutuskeskus Oy
X-ORIGINAL-URL:https://pk-koulutuskeskus.fi
X-WR-CALDESC:Events for PK-Koulutuskeskus Oy
REFRESH-INTERVAL;VALUE=DURATION:PT1H
X-Robots-Tag:noindex
X-PUBLISHED-TTL:PT1H
BEGIN:VTIMEZONE
TZID:Europe/Helsinki
BEGIN:DAYLIGHT
TZOFFSETFROM:+0200
TZOFFSETTO:+0300
TZNAME:EEST
DTSTART:20250330T010000
END:DAYLIGHT
BEGIN:STANDARD
TZOFFSETFROM:+0300
TZOFFSETTO:+0200
TZNAME:EET
DTSTART:20251026T010000
END:STANDARD
END:VTIMEZONE
BEGIN:VEVENT
DTSTART;TZID=Europe/Helsinki:20250909T083000
DTEND;TZID=Europe/Helsinki:20250909T160000
DTSTAMP:20260424T053530
CREATED:20250526T064317Z
LAST-MODIFIED:20250827T053414Z
UID:10000088-1757406600-1757433600@pk-koulutuskeskus.fi
SUMMARY:Rakentamisen tiedonantovelvollisuus\, veronumero ja tilaajavastuulaki WEBINAARI 9.9.2025 klo 8.30-16.00
DESCRIPTION:Johtava asiantuntija Pirkko Vuori\, VerohallintoTiistai 9.9.2025 klo 8.30-16.00Webinaari \n\n\n\nKoulutuspäivän hinta: 395 EUR + alv / osallistuja \n\n\n\nWEBINAARI TALLENNETAAN JA TALLENNE ON KATSOTTAVISSA 30 PÄIVÄN AJAN KOULUTUKSEN JÄLKEEN \n\n\n\nIlmoittautuminen 9.9.2025 mennessä \n\n\n\n\n	\n	\n	\n	\n    \n\n	    \n    \n        Ilmoittautuminen tapahtumaan on päättynyt. \n        \n        	\n\n\n\n\n\nRakentamisen tiedonantovelvollisuus\, veronumero ja tilaajavastuulaki \n\n\n\nRakentamiseen liittyvä tiedonantovelvollisuus koskee kaikkia\, ei ainoastaan rakennusalan toimijoita. Tiedonantovelvollisuuteen kuuluu yritysten velvollisuus antaa urakkatiedot ja työntekijätiedot sekä valvoa veronumeron rekisteröintiä. \n\n\n\nKoulutuksessa käydään läpi tietojen toimittaminen eri tilanteissa\, korjaaminen sekä tavat ja menetelmät\, joilla tiedonantovelvollisuus hoidetaan. Erityistilanteissa käsitellään mm. kevytyrittäjien tulkintoja\, ulkomaisia tilanteita sekä kerrotaan eri toimijoiden vastuista sanktioinnin näkökulmasta. \n\n\n\nTilaajavastuulain osuudessa käydään lävitse lain nykytila ja velvoitteet sekä miten velvollisuudet tulee hoidettua. Erityisinä nostoina käsitellään mm. kevytyrittäjien selvitysvelvollisuutta sekä ulkomaisia sopimuskumppaneita. \n\n\n\nOHJELMA8.30 – 9.00 Kirjautuminen webinaariin sähköpostin linkistä9.00 – 16.00 \n\n\n\nRakentamisen tiedonantovelvollisuus\, veronumero ja tilaajavastuulaki \n\n\n\nUrakkailmoitus \n\n\n\n\nMistä pitää antaa urakkatiedot?\n\nrakentamispalvelu\, työvoiman vuokraus jne…\n\n\n\nerityistilanteet (takuukorjaukset\, perustajaurakointi yms tilanteet)\n\n\n\n\n\nMitä ja miten tietoja urakoista annetaan?\n\npakolliset ja vapaaehtoiset tiedot\n\n\n\nmitä annettavat tiedot tarkoittavat\n\n\n\n\n\nTietojen toimittamisen erilaiset tavat ja niiden soveltaminen\n\nUrakkatiedot annetaan sopimus- tai työmaakohtaisesti\n\n\n\nTietojen antaminen erilaisissa sopimustilanteissa (tuntiveloitus\, puitesopimus\, yms tilanteet)\n\n\n\nAlarajan soveltaminen eri tilanteissa\n\n\n\n\n\n\nVeronumero \n\n\n\n\nLaivanrakennus – ja rakennusalan veronumero\n\nKenellä pitää olla veronumero?\n\n\n\nEri rekistereiden erot?\n\n\n\nMihin veronumeroita eri aloilla käytetään ja mitä niiden lisäksi tarvitaan?\n\n\n\nVeronumero ja erityisasiantuntijat\n\n\n\n\n\nMiten veronumeron saa ja missä sitä pitää käyttää?\n\nkuvallinen henkilötunniste\n\n\n\nveronumeron hakeminen\n\n\n\nKenen vastuulla on valvoa veronumeroa?\n\n\n\n\n\nJulkinen veronumerorekisteri\n\nLaivanrakennus- ja rakennusalan veronumeron rekisteröiminen\n\n\n\nTyönantajan ja päätoteuttajan vastuut\n\nveronumeron tarkistamisen vaihtoehdot\n\nuusittuja palveluita eri tarkistamisen tilanteisiin\n\n\n\n\n\n\n\nVeronumero ja henkilötunnus verotoimistosta\n\nhenkilötunnuksen hakeminen ja tarvittavat tiedot\n\nvaadittavat asiakirjat ja rekisteröinnin tiedot\n\n\n\n\n\nveronumero ulkomaisissa tilanteissa\n\n\n\nmitä tietoja rekisteröintiin tarvitaan\n\n\n\n\n\nVeronumerorekisteristä poistaminen\n\nVeronumerorekisterin poistamisen säännökset laivanrakennus- ja rakennusalalla\n\n\n\n\n\nMihin tulee kiinnittää huomiota?\n\n\n\n\n\n\nTyöntekijätietojen antaminen \n\n\n\n\nMistä pitää antaa työntekijätiedot?\n\nyhteinen työmaa (mitä on rakentamistyö?)\n\n\n\nVerohallinnon rajaukset työntekijätietojen antamiseen\n\n\n\nAluehallintoviranomaisen rajaukset yhteiseen työmaahan ja rakentamistyöhön\n\n\n\nKenestä kaikista pitää antaa työntekijätiedot?\n\nvierailijat\, viranomaiset\, valvojat yms. tapaukset\n\n\n\n\n\nMitä tietoja työntekijöistä kerätään?\n\npakolliset ja vapaaehtoiset tiedot\n\n\n\n\n\nMiten ilmoitetaan erilaiset työntekijät (ammatinharjoittajat\, vuokratyöntekijät jne…)\n\nPäätoteuttajan ja työnantajien roolit sekä vastuut\n\n\n\n\n\n\n\n\n12.00 – 13.00 Lounas \n\n\n\nKotitalouden ilmoitusmenettely \n\n\n\n\nMistä töistä pitää ilmoittaa?\n\nmitä pitää ilmoittaa kotitalouden työmaalla\n\n\n\nyritys toimii kotitalouden työmaalla\n\n\n\n\n\n\nTietojen korjaaminen urakka- ja työntekijätiedoissa \n\n\n\n\nmitä tietoja pitää korjata\n\n\n\nmilloin pitää korjata\n\n\n\n\nLaiminlyöntimaksut \n\n\n\n\nsanktiot ja niiden eri tasot\n\n\n\n\nTilannekatsaus \n\n\n\n\nhavaintoja ja kokemuksia ilmoittamisesta\n\n\n\n\n \n\n\n\nTilaajavastuulain tavoitteet ja tarkoitus \n\n\n\n\nTilaajavastuulaki\n\nlain tarkoitus\n\n\n\nKetä selvitysvelvollisuus koskee?\n\n\n\n\n\nTilaajan selvitysvelvollisuus ja sen sisältö\n\nMitä pitää selvittää?\n\n\n\nMilloin selvitykset ovat oikea-aikaiset?\n\n\n\n\n\nTilaajavastuulain rajaukset\n\nluotettava toimija\, vakiintunut toiminta ym. rajaukset\n\n\n\n\n\nKuka on selvitysvelvollinen ja mihin pitää kiinnittää huomiota\n\nSelvityksien tyypillisimpiä ongelmakohtia\n\noikeustapauksia ja valvontatapauksia\n\n\n\n\n\n\n\nIlmiöt ja erityistilanteet\n\nUlkomaiset yritykset\n\n\n\nKevytyrittäjät\n\n\n\n\n\nSanktiot\n\nLaiminlyöntimaksuihin muutoksia\n\n\n\nTyypillisimmät virhetilanteet\n\n\n\nLaiminlyöntitapauksia ja oikeuskäytäntöä\n\n\n\n\n\n\n………………………………………………………………………………….. \n\n\n\nKoulutuspäivän hinta:395 EUR + alv / osallistuja \n\n\n\nHinta sisältää koulutuksen ja materiaalin sähköisessä muodossa. \n\n\n\nOsallistujille lähetetään tarkemmat ohjeet ja materiaalit sähköpostitse ennen koulutusta. \n\n\n\nIlmoittautumiset koulutuspäivään viimeistään9.9.2025 klo 9.00 mennessä. \n\n\n\nPeruutukset kuluitta 15 vrk ennen tilaisuutta. \n\n\n\nIlmoittautumiset ohjelmasivun yläosassa olevalla painikkeella\, puhelimella:010 4231 040 tai sähköpostilla: pk-koulutuskeskus@pk-koulutuskeskus.fi
URL:https://pk-koulutuskeskus.fi/event/rakentamisen-tiedonantovelvollisuus-veronumero-ja-tilaajavastuulaki-webinaari-9-9-2025-klo-8-30-16-00/
ATTACH;FMTTYPE=image/jpeg:https://pk-koulutuskeskus.fi/wp-content/uploads/2023/11/Pirkko_Vuori2.jpg
END:VEVENT
BEGIN:VEVENT
DTSTART;TZID=Europe/Helsinki:20250910T083000
DTEND;TZID=Europe/Helsinki:20250910T120000
DTSTAMP:20260424T053530
CREATED:20250526T070328Z
LAST-MODIFIED:20250905T054252Z
UID:10000091-1757493000-1757505600@pk-koulutuskeskus.fi
SUMMARY:Tulorekisterin takautuvat korjaukset ja vaikutukset seuraamusmaksuihin WEBINAARI 10.9.2025 klo 8.30-12.00
DESCRIPTION:OTM Sari Wulff\, Johtava Asiantuntija\, Tulorekisteriyksikkö\, VerohallintoKeskiviikko 10.9.2025 klo 8.30-12.00Webinaari \n\n\n\nKoulutuspäivän hinta: 295 EUR + alv / osallistuja \n\n\n\nWEBINAARI TALLENNETAAN JA TALLENNE ON KATSOTTAVISSA 30 PÄIVÄN AJAN KOULUTUKSEN JÄLKEEN \n\n\n\nIlmoittautuminen 10.9.2025 mennessä \n\n\n\n\n	\n	\n	\n	\n    \n\n	    \n    \n        Ilmoittautuminen tapahtumaan on päättynyt. \n        \n        	\n\n\n\n\n\nOHJELMA \n\n\n\nTulorekisteriin annettavien ilmoitusten myöhästymisestä määrättävä myöhästymismaksu on otettu käyttöön vuoden 2021 alusta palkkatietojen osalta. Tämä heijastuu myös tietojen korjaamiseen. Koulutuksessa käsitellään palkkatietojen ilmoittamiseen liittyviä yleisimpiä virhetilanteita ja taannehtivien korjausten vaikutusta ilmoittamismenettelyyn\, tiedon käyttäjien prosesseihin sekä suorituksen maksajan ja tulonsaajan asemaan. \n\n\n\nKoulutuksessa käydään läpi myös käytännön kokemuksia ilmoittamismenettelystä sekä tulorekisteri-ilmoittamisen periaatteita\, kompastuskiviä ja solmukohtia. Kuulet muun muassa\, kuka saa tietoja tulorekisteristä ja miten korjaaminen vaikuttaa tiedon käyttäjien menettelyihin. Koulutuksessa kuulet\, miten korjaaminen vaikuttaa erilaisiin määrättäviin seuraamusmaksuihin. \n\n\n\nKouluttajana tilaisuudessa toimii maan kärkiasiantuntija\, tulorekisteriuudistuksessa alusta asti mukana ollut tulorekisteriyksikön johtava asiantuntija Sari Wulff Verohallinnosta.8.30 – 9.00 Kirjautuminen webinaariin sähköpostin linkistä9.00 – 12.00 \n\n\n\n\nIlmoittamisen kompastuskivet\n\nyleisimmät virheet\n\n\n\nvakuuttamistietojen ilmoittaminen\n\n\n\nkansainvälisten tietojen ilmoittaminen\n\n\n\n\n\nLuontoisetujen ilmoittaminen\n\nTaannehtivat korjaukset ja muutokset luontoisetuihin\n\n\n\nLuontoisetujen periminen takaisin\n\n\n\n\n\nTietojen korjaaminen tulorekisterissä\n\nkorjaamismenettelystä yleisesti\n\n\n\nvirheellisen tiedon korjaaminen\n\n\n\nlisämaksut\n\n\n\nlikasuoritusten ja takaisinperittyjen tulojen ilmoittaminen\n\n\n\nmissä tilanteessa on korjattava poistamalla aiempi ilmoitus?\n\n\n\nmiten korjaaminen vaikuttaa tiedon käyttäjien menettelyihin?\n\n\n\n\n\nMyöhästymismaksun käyttöönotto ja muut seuraamukset\n\nTakautuvien korjausten vaikutus myöhästymismaksuun\n\n\n\n\n\nVastauksia osallistujien esittämiin kysymyksiin\n\n\n\n\n…………………………………………………………………………………..Koulutuspäivän hinta:295 EUR + alv / osallistuja \n\n\n\nHinta sisältää koulutuksen ja materiaalin sähköisessä muodossa. \n\n\n\nOsallistujille lähetetään tarkemmat ohjeet ja materiaalit sähköpostitse ennen koulutusta. \n\n\n\nIlmoittautumiset koulutuspäivään viimeistään10.9.2025 klo 9.00 mennessä. \n\n\n\nPeruutukset kuluitta 15 vrk ennen tilaisuutta. \n\n\n\nIlmoittautumiset ohjelmasivun yläosassa olevalla painikkeella\, puhelimella:010 4231 040 tai sähköpostilla: pk-koulutuskeskus@pk-koulutuskeskus.fi
URL:https://pk-koulutuskeskus.fi/event/tulorekisterin-takautuvat-korjaukset-ja-vaikutukset-seuraamusmaksuihin-webinaari-10-9-2025-klo-8-30-12-00/
ATTACH;FMTTYPE=image/jpeg:https://pk-koulutuskeskus.fi/wp-content/uploads/2025/05/Sari_Wulff3_2025-1.jpg
END:VEVENT
BEGIN:VEVENT
DTSTART;TZID=Europe/Helsinki:20250916T083000
DTEND;TZID=Europe/Helsinki:20250916T120000
DTSTAMP:20260424T053530
CREATED:20250526T071255Z
LAST-MODIFIED:20250827T053518Z
UID:10000092-1758011400-1758024000@pk-koulutuskeskus.fi
SUMMARY:Henkilökuntaedut verotuksessa WEBINAARI 16.9.2025 klo 8.30-12.00
DESCRIPTION:OTM Sari Wulff\, Johtava Asiantuntija\, Tulorekisteriyksikkö\, VerohallintoTiistai 16.9.2025 klo 8.30-12.00Webinaari \n\n\n\nKoulutuspäivän hinta: 295 EUR + alv / osallistuja \n\n\n\nWEBINAARI TALLENNETAAN JA TALLENNE ON KATSOTTAVISSA 30 PÄIVÄN AJAN KOULUTUKSEN JÄLKEEN \n\n\n\nIlmoittautuminen 16.9.2025 mennessä! \n\n\n\n\n	\n	\n	\n	\n    \n\n	    \n    \n        Ilmoittautuminen tapahtumaan on päättynyt. \n        \n        	\n\n\n\n\n\nOHJELMA \n\n\n\nKoulutuksessa käsitellään erilaisten henkilökunnalle annettujen etujen verokohteluita ja sosiaalivakuuttamista. Koulutuksessa selvitetään\, mitä etuja on mahdollista antaa verovapaasti henkilöstölle ja millä edellytyksillä sekä mitä niiden suhteen on otettava huomioon. Koulutuksessa käsitellään henkilökuntaetuja ja luontoisetuja osana henkilöstön palkkaa. Verovapaiden henkilökuntaetujen myöntämisessä pitää täyttyä tietyt edellytykset. Tämän lisäksi työnantajalla on mahdollisuus tarjota veronalaisia luontoisetuja\, joiden edellytykset ja verotusarvot ovat erikseen määritelty. Näiden lisäksi työnantajan on mahdollista tarjota henkilöstölle myös osittain verovapaita luontoisetuja. Koulutuksessa käsitellään edellä mainittujen lisäksi myös veronalaisten etujen työnantajamenettelyt. \n\n\n\n8.30 – 9.00 Kirjautuminen webinaariin sähköpostin linkistä9.00 – 12.00 \n\n\n\n\nHenkilökuntaedut ja luontoisedut osana palkkaaMilloin on kyseessä luontoisetu tai henkilökuntaetu?Etu palkan päälle vai osana kokonaispalkkaa?Miten edun järjestämistapa vaikuttaa verotukseen ja sosiaalivakuuttamiseen?Henkilökuntaetujen edellytyksetVerovapaiden etujen yleiset edellytyksetKollektiiviset ja  yksilölliset edutVerovapaat  ja veronalaiset edutTyöterveys\, joulu- ym. lahjat\, virkistys- ja harrastustoiminta\, liikunta- ja kulttuuritoiminta ym.Etäyhteyden välityksellä tapahtuvat tilaisuudetMissä tilanteissa veronalaista etua ei muodostu?Veronalaiset luontoisedutLuontoisetujen yleiset edellytyksetAsuntoetu\, autoetu\, ravintoetu\, puhelinetu ym.Verohallinnon luontoisetupäätöksen mukaisten luontoisetujen arvostaminenMuiden luontoisetujen arvostaminenOsittain verovapaat luontoisedutTyösuhdematkalippu ja työsuhdepolkupyöräVeronalaisten etujen työnantajamenettelyt\n\nEnnakonpidätyksen toimittaminen\n\n\n\nSosiaalivakuuttaminen\n\n\n\n\n\n\n…………………………………………………………………………………..Koulutuspäivän hinta:295 EUR + alv / osallistuja \n\n\n\nHinta sisältää koulutuksen ja materiaalin sähköisessä muodossa. \n\n\n\nOsallistujille lähetetään tarkemmat ohjeet ja materiaalit sähköpostitse ennen koulutusta. \n\n\n\nIlmoittautumiset koulutuspäivään viimeistään16.9.2025 klo 9.00 mennessä. \n\n\n\nPeruutukset kuluitta 15 vrk ennen tilaisuutta. \n\n\n\nIlmoittautumiset ohjelmasivun yläosassa olevalla painikkeella\, puhelimella:010 4231 040 tai sähköpostilla: pk-koulutuskeskus@pk-koulutuskeskus.fi
URL:https://pk-koulutuskeskus.fi/event/henkilokuntaedut-verotuksessa-webinaari-16-9-2025-klo-8-30-12-00/
ATTACH;FMTTYPE=image/jpeg:https://pk-koulutuskeskus.fi/wp-content/uploads/2025/05/Sari_Wulff3_2025-1.jpg
END:VEVENT
BEGIN:VEVENT
DTSTART;TZID=Europe/Helsinki:20250917T083000
DTEND;TZID=Europe/Helsinki:20250917T120000
DTSTAMP:20260424T053530
CREATED:20250526T071712Z
LAST-MODIFIED:20250827T053616Z
UID:10000093-1758097800-1758110400@pk-koulutuskeskus.fi
SUMMARY:Matkakustannusten korvaukset verotuksessa WEBINAARI 17.9.2025 klo 8.30-12.00
DESCRIPTION:OTM Sari Wulff\, Johtava Asiantuntija\, Tulorekisteriyksikkö\, VerohallintoKeskiviikko 17.9.2025 klo 8.30-12.00Webinaari \n\n\n\nKoulutuspäivän hinta: 295 EUR + alv / osallistuja \n\n\n\nWEBINAARI TALLENNETAAN JA TALLENNE ON KATSOTTAVISSA 30 PÄIVÄN AJAN KOULUTUKSEN JÄLKEEN! \n\n\n\nIlmoittautuminen 17.9.2025 mennessä! \n\n\n\n\n	\n	\n	\n	\n    \n\n	    \n    \n        Ilmoittautuminen tapahtumaan on päättynyt. \n        \n        	\n\n\n\n\n\nOHJELMA \n\n\n\nWebinaarissa käsitellään matkan erilaisia käsitteitä verotuksessa\, verohallinnon ohjeita ja työehtosopimusten vaikutuksia korvausten maksamiseen. Koulutuksessa tarkastellaan mm. mitä voidaan korvata verovapaasti sekä milloin matkasta voi syntyä veronalaista etua? Koulutuksessa kuulet koti- ja ulkomaan päivärahoista\, ateriakorvauksista sekä kilometrikorvauksista. Tilaisuudessa käsitellään erityistilanteita sekä veronalaisten matkakustannusten korvaamista. Lisäksi käsitellään matkalaskuvaatimuksia sekä kustannusten korvausten ilmoittamista tulorekisteriin. \n\n\n\n8.30 – 9.00 Kirjautuminen webinaariin sähköpostin linkistä9.00 – 12.00 \n\n\n\nMatkustamiskustannusten korvaukset \n\n\n\n\nmatkan erilaiset käsitteet verotuksessa\n\n\n\nmitä voidaan korvata verovapaasti?\n\n\n\nmilloin matkasta voi syntyä veronalaista etua?\n\n\n\nverohallinnon ohjeet\n\n\n\ntyöehtosopimusten vaikutus korvausten maksamiseen\n\n\n\n\nKoti- ja ulkomaan päivärahat\, ateriakorvaukset ja kilometrikorvaukset \n\n\n\n\nmatkavuorokausi\, matkan alkaminen ja päättyminen\n\n\n\netäisyys- ja aikavaatimus päivärahassa\n\n\n\naterioiden vaikutus päivärahaan\n\n\n\nulkomaan päiväraha: minkä maan mukaan päiväraha määräytyy?\n\n\n\n\nErityistilanteita \n\n\n\nVeronalaiset matkakustannusten korvaukset \n\n\n\nMitä matkalaskulta vaaditaan? \n\n\n\nMiten kustannusten korvaukset ilmoitetaan tulorekisteriin? \n\n\n\n…………………………………………………………………………………..Koulutuspäivän hinta:295 EUR + alv / osallistuja \n\n\n\nHinta sisältää koulutuksen ja materiaalin sähköisessä muodossa. \n\n\n\nOsallistujille lähetetään tarkemmat ohjeet ja materiaalit sähköpostitse ennen koulutusta. \n\n\n\nIlmoittautumiset koulutuspäivään viimeistään17.9.2025 klo 9.00 mennessä. \n\n\n\nPeruutukset kuluitta 15 vrk ennen tilaisuutta. \n\n\n\nIlmoittautumiset ohjelmasivun yläosassa olevalla painikkeella\, puhelimella:010 4231 040 tai sähköpostilla: pk-koulutuskeskus@pk-koulutuskeskus.fi
URL:https://pk-koulutuskeskus.fi/event/matkakustannusten-korvaukset-verotuksessa-webinaari-17-9-2025-klo-8-30-12-00/
ATTACH;FMTTYPE=image/jpeg:https://pk-koulutuskeskus.fi/wp-content/uploads/2025/05/Sari_Wulff3_2025-1.jpg
END:VEVENT
BEGIN:VEVENT
DTSTART;TZID=Europe/Helsinki:20250918T083000
DTEND;TZID=Europe/Helsinki:20250918T153000
DTSTAMP:20260424T053530
CREATED:20250611T074028Z
LAST-MODIFIED:20250905T053044Z
UID:10000102-1758184200-1758209400@pk-koulutuskeskus.fi
SUMMARY:Rakentamisen arvonlisäveropäivä WEBINAARI 18.9.2025 klo 8.30-15.30
DESCRIPTION:VT\, KTM Hanna Huhtala\, Lecklé OyTorstai 18.9.2025 klo 8.30-15.30Webinaari \n\n\n\nKoulutuspäivän hinta: 395 EUR + alv / osallistuja \n\n\n\nWEBINAARI TALLENNETAAN JA TALLENNE ON KATSOTTAVISSA 30 PÄIVÄN AJAN KOULUTUKSEN JÄLKEEN! \n\n\n\nIlmoittautuminen 18.9.2025 mennessä! \n\n\n\n\n	\n	\n	\n	\n    \n\n	    \n    \n        Ilmoittautuminen tapahtumaan on päättynyt. \n        \n        	\n\n\n\n\n\nOHJELMA \n\n\n\nRakentamispalveluiden myyntiin liittyy monia erityissäännöksiä. Rakentamispalvelun myynnistä on suoritettava arvonlisäveroa. Erikseen on kuitenkin tiedettävä ja varmistettava\, että kuka arvonlisäveron suorittaa ja miten arvonlisäveron määrä lasketaan. Rakentamisen arvonlisäveropäivä on tiivis paketti rakentamisen arvonlisäverotuksen keskeisistä kysymyksistä. Koulutuksessa käydään läpi myös keskeiset verokantojen muutoksessa huomioitavat seikat myyntien ja ostojen sekä oman käytön arvonlisäveron suorittamisen näkökulmasta. \n\n\n\nAamupäivän osuudessa käydään läpi rakentamiseen liittyviä keskeisiä käsitteitä ja painopisteenä on rakentamisen käännetty arvonlisäverovelvollisuus. Iltapäivän osuus keskittyy oman käytön arvonlisäverotukseen sekä lyhyesti muun muassa arvonlisäveron vähennysoikeuteen ja ajankohtaisiin rakentamisen arvonlisäverotukseen liittyviin asioihin. \n\n\n\nAamu- ja iltapäivän osuudet ovat itsenäisiä ja voit ilmoittautua vain toiseen osuuteen hintaan 295 eur + alv / osallistuja. \n\n\n\nAamupäivä klo 9.00 – 12.00 \n\n\n\nRakentamisen arvonlisäverotuksen perusperiaatteet \n\n\n\n\nRakentamisen arvonlisäverotuksen lähtökohdat\n\nKiinteistön määritelmä\n\n\n\nRakentamispalvelun määritelmä\n\n\n\nMuita rakentamiseen liittyviä määritelmiä ja huomioitavia seikkoja\n\n\n\n\n\nRakentamispalvelun myynti ja käännetty verovelvollisuus\n\nNs. avoimen arvonlisäverotuksen piirissä oleva myynti\n\n\n\nKäännetty verovelvollisuus\n\nSoveltamisala\n\n\n\nMitä tarkoittaa käytännössä?\n\n\n\nRakentamispalvelun määritelmä\n\n\n\nOstajan aseman määrittäminen\n\n\n\n\n\n\n\nVerokantamuutos ja rakentamispalvelut – käytännön huomioita\n\n\n\n\nLounas klo 12.00 – 13.00 \n\n\n\nIltapäivä klo 13.00 – 15.30 \n\n\n\nOman käytön arvonlisäverotus ja veron peruste \n\n\n\n\nMitä on oman käytön arvonlisäverotus?\n\n\n\nPerustajaurakoinnin oman käytön arvonlisäverotus\n\nsoveltamisedellytykset\n\n\n\noman käytön veron peruste\n\n\n\n\n\nMuut oman käytön arvonlisäverotuksen soveltamistilanteet\n\n\n\n\nVerokantamuutos ja oman käytön arvonlisäveron suorittaminen \n\n\n\nArvonlisäveron vähennysoikeuden pääperiaatteet \n\n\n\n\nVähennysoikeuden yleiset edellytykset ja rajoitukset\n\n\n\nVähennysoikeus erityisesti rakentamisen näkökulmasta\n\n\n\n\nRakentamisen arvonlisäverotuksen ajankohtaisia asioita  \n\n\n\nTilaisuus päättyy klo 15:30 \n\n\n\n………………………………………………………………………………….. \n\n\n\nKoulutuspäivän hinta:395 EUR + alv / osallistujaHinta sisältää koulutuksen ja materiaalin sähköisessä muodossa. \n\n\n\nOsallistujille lähetetään tarkemmat ohjeet ja materiaalit sähköpostitse ennen koulutusta.Ilmoittautumiset koulutuspäivään viimeistään18.9.2025 klo 9.00 mennessä. \n\n\n\nPeruutukset kuluitta 15 vrk ennen tilaisuutta. \n\n\n\nIlmoittautumiset ohjelmasivun yläosassa olevalla painikkeella\, puhelimella:010 4231 040 tai sähköpostilla: pk-koulutuskeskus@pk-koulutuskeskus.fi
URL:https://pk-koulutuskeskus.fi/event/rakentamisen-arvonlisaveropaiva-webinaari-18-9-2025-klo-8-30-15-30/
ATTACH;FMTTYPE=image/jpeg:https://pk-koulutuskeskus.fi/wp-content/uploads/2023/10/Hanna_Huhtala_4.jpeg
END:VEVENT
BEGIN:VEVENT
DTSTART;TZID=Europe/Helsinki:20250930T083000
DTEND;TZID=Europe/Helsinki:20250930T153000
DTSTAMP:20260424T053530
CREATED:20250613T053454Z
LAST-MODIFIED:20250918T105036Z
UID:10000105-1759221000-1759246200@pk-koulutuskeskus.fi
SUMMARY:Kuntien ja hyvinvointialueiden arvonlisäverotus – ostojen ja kiinteistöjen ajankohtaiset kysymykset WEBINAARI 30.9.2025 klo 8.30-15.30
DESCRIPTION:KTM Eveliina Laakso\, Lecklé OyTiistai 30.9.2025 klo 8.30-15.30Webinaari \n\n\n\nKoulutuspäivän hinta: 395 EUR + alv / osallistuja \n\n\n\nWEBINAARI TALLENNETAAN JA TALLENNE ON KATSOTTAVISSA 30 PÄIVÄN AJAN KOULUTUKSEN JÄLKEEN! \n\n\n\nIlmoittautuminen 30.9.2025 mennessä! \n\n\n\n\n	\n	\n	\n	\n    \n\n	    \n    \n        Ilmoittautuminen tapahtumaan on päättynyt. \n        \n        	\n\n\n\n\n\nOHJELMA \n\n\n\nKuntien ja hyvinvointialueiden arvonlisäverotus – ostojen ja kiinteistöjen ajankohtaiset kysymykset \n\n\n\nKoulutuspäivässä keskitytään kuntien ja hyvinvointialueiden tekemien hankintojen arvonlisäverokäsittelyn periaatteisiin.  Aamupäivällä koulutuksessa käydään läpi arvonlisäverotusta ostojen näkökulmasta. Tarkastelun kohteena ovat ennen kaikkea vähennys- ja kuntapalautusoikeuteen liittyvät kysymykset. \n\n\n\nIltapäivän osuus keskittyy kiinteistöihin liittyviin kysymyksiin ja erityisesti kiinteistöihin kohdistuvien hankintojen arvonlisäverokäsittelyyn. Verohallinto on hiljattain päivittänyt ohjettaan kiinteistöinvestointien tarkistusmenettelyyn liittyen ja lisäksi hallitus on esittämässä muutoksia tarkistusmenettelyyn. Koulutuksessa otamme katsauksen uudistuneeseen ohjeistukseen ja tuleviin muutoksiin. Iltapäivän osuudessa on myös katsaus rakentamisen käännetyn arvonlisäverovelvollisuuden keskeisiin periaatteisiin sekä kiinteistöhallintapalveluiden oman käytön verotukseen. \n\n\n\nAamu- ja iltapäivän osuudet ovat erillisiä ja itsenäisiä kokonaisuuksia\, joten voit ilmoittautua vain toiseen osuuteen hintaan 295 eur + alv.8.30 – 9.00 Kirjautuminen webinaariin sähköpostin linkistä \n\n\n\nAamupäivä klo 9.00 – 12.00 \n\n\n\nOstojen arvonlisäverokäsittely \n\n\n\n\nKuntien ja hyvinvointialueiden arvonlisäverotuksen lähtökohdatAsema arvonlisäverotuksessa\n\nHankintojen arvonlisäverokäsittely – pääperiaatteet\n\n\n\n\n\nOstojen vähennys- ja kuntapalautusoikeus sekä niiden rajoitukset\n\nVähennysoikeus vai kuntapalautusoikeus?\n\n\n\n\n\nVähennys- ja kuntapalautusoikeuden rajoituksetYleiset periaatteet\n\nEdustuskulut ja henkilöstömenot\n\n\n\nKiinteistöihin kohdistuvat hankinnat\n\n\n\n\n\nLasku vähennysoikeuden edellytyksenä\n\n\n\nYleiskulujen jakaminen\n\n\n\n\n \n\n\n\nLaskennallinen palautus \n\n\n\n\nLaskennalliseen palautuksen edellytykset\n\n\n\nLaskumerkinnät ja niiden merkitys\n\n\n\nMuutamia ajankohtaisia kysymyksiä\n\n\n\n\nLounas klo 12.00 – 13.00 \n\n\n\nIltapäivä klo 13.00 – 15.30 \n\n\n\nKiinteistöihin kohdistuvat hankinnat \n\n\n\n\nKiinteistöjen arvonlisäverotuksen lähtökohdatKiinteistöjen omistusmuodot\n\nKiinteistön määritelmä lyhyesti\n\n\n\n\n\nKiinteistöjen loppukäyttö ja vähennysoikeusKiinteistön tosiasiallinen loppukäyttö ratkaiseeArvonlisäverollinen kiinteistön käyttöoikeuden luovutus lyhyestiVuokraus hyvinvointialueilleLasku ja laskun merkitys\n\nEnergiavähennys\n\n\n\n\n\n\nKiinteistöinvestointien arvonlisäverotus \n\n\n\n\nKiinteistöinvestointi ja tarkistamismenettely\n\n\n\nTarkistuksen laskeminen\n\n\n\nKiinteistöinvestointien huomioiminen kiinteistön kaupassa\n\n\n\n\nRakentamisen käännetty arvonlisäverotus – ostojen näkökulma \n\n\n\n\nSoveltamisala lyhyesti\n\n\n\nMerkitys käytännössä ja erityiset huomioitavat seikat\n\n\n\nRakentamispalvelun määritelmä\n\n\n\nMilloin ei ole sovellettava käännettyä verovelvollisuutta?\n\n\n\n\nKiinteistöhallintapalveluiden oman käytön verotus \n\n\n\n\nKiinteistöhallintapalvelun määritelmä\n\n\n\nVeron peruste\n\n\n\n\nKoulutus päättyy noin klo 15.30 \n\n\n\n………………………………………………………………………………….. \n\n\n\nKoulutuspäivän hinta:395 EUR + alv / osallistujaHinta sisältää koulutuksen ja materiaalin sähköisessä muodossa. \n\n\n\nOsallistujille lähetetään tarkemmat ohjeet ja materiaalit sähköpostitse ennen koulutusta.Ilmoittautumiset koulutuspäivään viimeistään30.9.2025 klo 9.00 mennessä. \n\n\n\nPeruutukset kuluitta 15 vrk ennen tilaisuutta. \n\n\n\nIlmoittautumiset ohjelmasivun yläosassa olevalla painikkeella\, puhelimella:010 4231 040 tai sähköpostilla: pk-koulutuskeskus@pk-koulutuskeskus.fi
URL:https://pk-koulutuskeskus.fi/event/kuntien-ja-hyvinvointialueiden-arvonlisaverotus-ostojen-ja-kiinteistojen-ajankohtaiset-kysymykset-webinaari-30-9-2025-klo-8-30-15-30/
ATTACH;FMTTYPE=image/jpeg:https://pk-koulutuskeskus.fi/wp-content/uploads/2023/10/LexAlvia_Eveliina.jpeg
END:VEVENT
END:VCALENDAR