BEGIN:VCALENDAR
VERSION:2.0
PRODID:-//PK-Koulutuskeskus Oy - ECPv6.8.2//NONSGML v1.0//EN
CALSCALE:GREGORIAN
METHOD:PUBLISH
X-WR-CALNAME:PK-Koulutuskeskus Oy
X-ORIGINAL-URL:https://pk-koulutuskeskus.fi
X-WR-CALDESC:Events for PK-Koulutuskeskus Oy
REFRESH-INTERVAL;VALUE=DURATION:PT1H
X-Robots-Tag:noindex
X-PUBLISHED-TTL:PT1H
BEGIN:VTIMEZONE
TZID:Europe/Helsinki
BEGIN:DAYLIGHT
TZOFFSETFROM:+0200
TZOFFSETTO:+0300
TZNAME:EEST
DTSTART:20250330T010000
END:DAYLIGHT
BEGIN:STANDARD
TZOFFSETFROM:+0300
TZOFFSETTO:+0200
TZNAME:EET
DTSTART:20251026T010000
END:STANDARD
END:VTIMEZONE
BEGIN:VEVENT
DTSTART;TZID=Europe/Helsinki:20250407T083000
DTEND;TZID=Europe/Helsinki:20250407T120000
DTSTAMP:20260424T142844
CREATED:20250217T080310Z
LAST-MODIFIED:20250327T061109Z
UID:10000081-1744014600-1744027200@pk-koulutuskeskus.fi
SUMMARY:Henkilökuntaedut verotuksessa WEBINAARI 7.4.2025 klo 8.30-12.00
DESCRIPTION:OTM Sari Wulff\, Johtava Asiantuntija\, Tulorekisteriyksikkö\, VerohallintoMaanantai 7.4.2025 klo 8.30-12.00Webinaari \n\n\n\nKoulutuspäivän hinta: 295 EUR + alv / osallistuja \n\n\n\nWEBINAARI TALLENNETAAN JA TALLENNE ON KATSOTTAVISSA 30 PÄIVÄN AJAN KOULUTUKSEN JÄLKEEN \n\n\n\nIlmoittautuminen 7.4.2025 mennessä! \n\n\n\n\n	\n	\n	\n	\n    \n\n	    \n    \n        Ilmoittautuminen tapahtumaan on päättynyt. \n        \n        	\n\n\n\n\n\nOHJELMA \n\n\n\nKoulutuksessa käsitellään erilaisten henkilökunnalle annettujen etujen verokohteluita ja sosiaalivakuuttamista. Koulutuksessa selvitetään\, mitä etuja on mahdollista antaa verovapaasti henkilöstölle ja millä edellytyksillä sekä mitä niiden suhteen on otettava huomioon. Koulutuksessa käsitellään henkilökuntaetuja ja luontoisetuja osana henkilöstön palkkaa. Verovapaiden henkilökuntaetujen myöntämisessä pitää täyttyä tietyt edellytykset. Tämän lisäksi työnantajalla on mahdollisuus tarjota veronalaisia luontoisetuja\, joiden edellytykset ja verotusarvot ovat erikseen määritelty. Näiden lisäksi työnantajan on mahdollista tarjota henkilöstölle myös osittain verovapaita luontoisetuja. Koulutuksessa käsitellään edellä mainittujen lisäksi myös veronalaisten etujen työnantajamenettelyt. \n\n\n\n8.30 – 9.00 Kirjautuminen webinaariin sähköpostin linkistä9.00 – 12.00 \n\n\n\n\nHenkilökuntaedut ja luontoisedut osana palkkaaMilloin on kyseessä luontoisetu tai henkilökuntaetu?Etu palkan päälle vai osana kokonaispalkkaa?Miten edun järjestämistapa vaikuttaa verotukseen ja sosiaalivakuuttamiseen?Henkilökuntaetujen edellytyksetVerovapaiden etujen yleiset edellytyksetKollektiiviset ja  yksilölliset edutVerovapaat  ja veronalaiset edutTyöterveys\, joulu- ym. lahjat\, virkistys- ja harrastustoiminta\, liikunta- ja kulttuuritoiminta ym.Etäyhteyden välityksellä tapahtuvat tilaisuudetMissä tilanteissa veronalaista etua ei muodostu?Veronalaiset luontoisedutLuontoisetujen yleiset edellytyksetAsuntoetu\, autoetu\, ravintoetu\, puhelinetu ym.Verohallinnon luontoisetupäätöksen mukaisten luontoisetujen arvostaminenMuiden luontoisetujen arvostaminenOsittain verovapaat luontoisedutTyösuhdematkalippu ja työsuhdepolkupyöräVeronalaisten etujen työnantajamenettelyt\n\nEnnakonpidätyksen toimittaminen\n\n\n\nSosiaalivakuuttaminen\n\n\n\n\n\n\n…………………………………………………………………………………..Koulutuspäivän hinta:295 EUR + alv / osallistuja \n\n\n\nHinta sisältää koulutuksen ja materiaalin sähköisessä muodossa. \n\n\n\nOsallistujille lähetetään tarkemmat ohjeet ja materiaalit sähköpostitse ennen koulutusta. \n\n\n\nIlmoittautumiset koulutuspäivään viimeistään7.4.2025 klo 9.00 mennessä. \n\n\n\nPeruutukset kuluitta 15 vrk ennen tilaisuutta. \n\n\n\nIlmoittautumiset ohjelmasivun yläosassa olevalla painikkeella\, puhelimella:010 4231 040 tai sähköpostilla: pk-koulutuskeskus@pk-koulutuskeskus.fi
URL:https://pk-koulutuskeskus.fi/event/henkilokuntaedut-verotuksessa-webinaari-7-4-2025-klo-8-30-12-00/
ATTACH;FMTTYPE=image/jpeg:https://pk-koulutuskeskus.fi/wp-content/uploads/2023/11/sari_wulff.jpg
END:VEVENT
BEGIN:VEVENT
DTSTART;TZID=Europe/Helsinki:20250408T083000
DTEND;TZID=Europe/Helsinki:20250408T160000
DTSTAMP:20260424T142844
CREATED:20250217T081021Z
LAST-MODIFIED:20250327T061326Z
UID:10000083-1744101000-1744128000@pk-koulutuskeskus.fi
SUMMARY:Rakentamisen tiedonantovelvollisuus\, veronumero ja tilaajavastuulaki WEBINAARI 8.4.2025 klo 8.30-16.00
DESCRIPTION:Ylitarkastaja Pirkko Vuori\, VerohallintoTiistai 8.4.2025 klo 8.30-16.00Webinaari \n\n\n\nKoulutuspäivän hinta: 395 EUR + alv / osallistuja \n\n\n\nWEBINAARI TALLENNETAAN JA TALLENNE ON KATSOTTAVISSA 30 PÄIVÄN AJAN KOULUTUKSEN JÄLKEEN \n\n\n\nIlmoittautuminen 8.4.2025 mennessä \n\n\n\n\n	\n	\n	\n	\n    \n\n	    \n    \n        Ilmoittautuminen tapahtumaan on päättynyt. \n        \n        	\n\n\n\n\n\nRakentamisen tiedonantovelvollisuus\, veronumero ja tilaajavastuulaki \n\n\n\nRakentamiseen liittyvä tiedonantovelvollisuus koskee kaikkia\, ei ainoastaan rakennusalan toimijoita. Tiedonantovelvollisuuteen kuuluu yritysten velvollisuus antaa urakkatiedot ja työntekijätiedot sekä valvoa veronumeron rekisteröintiä. \n\n\n\nKoulutuksessa käydään läpi tietojen toimittaminen eri tilanteissa\, korjaaminen sekä tavat ja menetelmät\, joilla tiedonantovelvollisuus hoidetaan. Erityistilanteissa käsitellään mm. kevytyrittäjien tulkintoja\, ulkomaisia tilanteita sekä kerrotaan eri toimijoiden vastuista sanktioinnin näkökulmasta. \n\n\n\nTilaajavastuulain osuudessa käydään lävitse lain nykytila ja velvoitteet sekä miten velvollisuudet tulee hoidettua. Erityisinä nostoina käsitellään mm. kevytyrittäjien selvitysvelvollisuutta sekä ulkomaisia sopimuskumppaneita. \n\n\n\nOHJELMA8.30 – 9.00 Kirjautuminen webinaariin sähköpostin linkistä9.00 – 16.00 \n\n\n\nRakentamisen tiedonantovelvollisuus\, veronumero ja tilaajavastuulaki \n\n\n\nUrakkailmoitus \n\n\n\n\nMistä pitää antaa urakkatiedot?\n\nrakentamispalvelu\, työvoiman vuokraus jne…\n\n\n\nerityistilanteet (takuukorjaukset\, perustajaurakointi yms tilanteet)\n\n\n\n\n\nMitä ja miten tietoja urakoista annetaan?\n\npakolliset ja vapaaehtoiset tiedot\n\n\n\nmitä annettavat tiedot tarkoittavat\n\n\n\n\n\nTietojen toimittamisen erilaiset tavat ja niiden soveltaminen\n\nUrakkatiedot annetaan sopimus- tai työmaakohtaisesti\n\n\n\nTietojen antaminen erilaisissa sopimustilanteissa (tuntiveloitus\, puitesopimus\, yms tilanteet)\n\n\n\nAlarajan soveltaminen eri tilanteissa\n\n\n\n\n\n\nVeronumero \n\n\n\n\nLaivanrakennus – ja rakennusalan veronumero\n\nKenellä pitää olla veronumero?\n\n\n\nEri rekistereiden erot?\n\n\n\nMihin veronumeroita eri aloilla käytetään ja mitä niiden lisäksi tarvitaan?\n\n\n\nVeronumero ja erityisasiantuntijat\n\n\n\n\n\nMiten veronumeron saa ja missä sitä pitää käyttää?\n\nkuvallinen henkilötunniste\n\n\n\nveronumeron hakeminen\n\n\n\nKenen vastuulla on valvoa veronumeroa?\n\n\n\n\n\nJulkinen veronumerorekisteri\n\nLaivanrakennus- ja rakennusalan veronumeron rekisteröiminen\n\n\n\nTyönantajan ja päätoteuttajan vastuut\n\nveronumeron tarkistamisen vaihtoehdot\n\nuusittuja palveluita eri tarkistamisen tilanteisiin\n\n\n\n\n\n\n\nVeronumero ja henkilötunnus verotoimistosta\n\nhenkilötunnuksen hakeminen ja tarvittavat tiedot\n\nvaadittavat asiakirjat ja rekisteröinnin tiedot\n\n\n\n\n\nveronumero ulkomaisissa tilanteissa\n\n\n\nmitä tietoja rekisteröintiin tarvitaan\n\n\n\n\n\nVeronumerorekisteristä poistaminen\n\nVeronumerorekisterin poistamisen säännökset laivanrakennus- ja rakennusalalla\n\n\n\n\n\nMihin tulee kiinnittää huomiota?\n\n\n\n\n\n\nTyöntekijätietojen antaminen \n\n\n\n\nMistä pitää antaa työntekijätiedot?\n\nyhteinen työmaa (mitä on rakentamistyö?)\n\n\n\nVerohallinnon rajaukset työntekijätietojen antamiseen\n\n\n\nAluehallintoviranomaisen rajaukset yhteiseen työmaahan ja rakentamistyöhön\n\n\n\nKenestä kaikista pitää antaa työntekijätiedot?\n\nvierailijat\, viranomaiset\, valvojat yms. tapaukset\n\n\n\n\n\nMitä tietoja työntekijöistä kerätään?\n\npakolliset ja vapaaehtoiset tiedot\n\n\n\n\n\nMiten ilmoitetaan erilaiset työntekijät (ammatinharjoittajat\, vuokratyöntekijät jne…)\n\nPäätoteuttajan ja työnantajien roolit sekä vastuut\n\n\n\n\n\n\n\n\n12.00 – 13.00 Lounas \n\n\n\nKotitalouden ilmoitusmenettely \n\n\n\n\nMistä töistä pitää ilmoittaa?\n\nmitä pitää ilmoittaa kotitalouden työmaalla\n\n\n\nyritys toimii kotitalouden työmaalla\n\n\n\n\n\n\nTietojen korjaaminen urakka- ja työntekijätiedoissa \n\n\n\n\nmitä tietoja pitää korjata\n\n\n\nmilloin pitää korjata\n\n\n\n\nLaiminlyöntimaksut \n\n\n\n\nsanktiot ja niiden eri tasot\n\n\n\n\nTilannekatsaus \n\n\n\n\nhavaintoja ja kokemuksia ilmoittamisesta\n\n\n\n\n \n\n\n\nTilaajavastuulain tavoitteet ja tarkoitus \n\n\n\n\nTilaajavastuulaki\n\nlain tarkoitus\n\n\n\nKetä selvitysvelvollisuus koskee?\n\n\n\n\n\nTilaajan selvitysvelvollisuus ja sen sisältö\n\nMitä pitää selvittää?\n\n\n\nMilloin selvitykset ovat oikea-aikaiset?\n\n\n\n\n\nTilaajavastuulain rajaukset\n\nluotettava toimija\, vakiintunut toiminta ym. rajaukset\n\n\n\n\n\nKuka on selvitysvelvollinen ja mihin pitää kiinnittää huomiota\n\nSelvityksien tyypillisimpiä ongelmakohtia\n\noikeustapauksia ja valvontatapauksia\n\n\n\n\n\n\n\nIlmiöt ja erityistilanteet\n\nUlkomaiset yritykset\n\n\n\nKevytyrittäjät\n\n\n\n\n\nSanktiot\n\nLaiminlyöntimaksuihin muutoksia\n\n\n\nTyypillisimmät virhetilanteet\n\n\n\nLaiminlyöntitapauksia ja oikeuskäytäntöä\n\n\n\n\n\n\n………………………………………………………………………………….. \n\n\n\nKoulutuspäivän hinta:395 EUR + alv / osallistuja \n\n\n\nHinta sisältää koulutuksen ja materiaalin sähköisessä muodossa. \n\n\n\nOsallistujille lähetetään tarkemmat ohjeet ja materiaalit sähköpostitse ennen koulutusta. \n\n\n\nIlmoittautumiset koulutuspäivään viimeistään8.4.2025 klo 9.00 mennessä. \n\n\n\nPeruutukset kuluitta 15 vrk ennen tilaisuutta. \n\n\n\nIlmoittautumiset ohjelmasivun yläosassa olevalla painikkeella\, puhelimella:010 4231 040 tai sähköpostilla: pk-koulutuskeskus@pk-koulutuskeskus.fi
URL:https://pk-koulutuskeskus.fi/event/rakentamisen-tiedonantovelvollisuus-veronumero-ja-tilaajavastuulaki-webinaari-8-4-2025-klo-8-30-16-00/
ATTACH;FMTTYPE=image/jpeg:https://pk-koulutuskeskus.fi/wp-content/uploads/2023/11/Pirkko_Vuori2.jpg
END:VEVENT
BEGIN:VEVENT
DTSTART;TZID=Europe/Helsinki:20250409T083000
DTEND;TZID=Europe/Helsinki:20250409T120000
DTSTAMP:20260424T142844
CREATED:20250217T080630Z
LAST-MODIFIED:20250327T061416Z
UID:10000082-1744187400-1744200000@pk-koulutuskeskus.fi
SUMMARY:Tulorekisterin takautuvat korjaukset ja vaikutukset seuraamusmaksuihin WEBINAARI 9.4.2025 klo 8.30-12.00
DESCRIPTION:OTM Sari Wulff\, Johtava Asiantuntija\, Tulorekisteriyksikkö\, VerohallintoKeskiviikko 9.4.2025 klo 8.30-12.00Webinaari \n\n\n\nKoulutuspäivän hinta: 295 EUR + alv / osallistuja \n\n\n\nWEBINAARI TALLENNETAAN JA TALLENNE ON KATSOTTAVISSA 30 PÄIVÄN AJAN KOULUTUKSEN JÄLKEEN \n\n\n\nIlmoittautuminen 9.4.2025 mennessä \n\n\n\n\n	\n	\n	\n	\n    \n\n	    \n    \n        Ilmoittautuminen tapahtumaan on päättynyt. \n        \n        	\n\n\n\n\n\nOHJELMA \n\n\n\nTulorekisteriin annettavien ilmoitusten myöhästymisestä määrättävä myöhästymismaksu on otettu käyttöön vuoden 2021 alusta palkkatietojen osalta. Tämä heijastuu myös tietojen korjaamiseen. Koulutuksessa käsitellään palkkatietojen ilmoittamiseen liittyviä yleisimpiä virhetilanteita ja taannehtivien korjausten vaikutusta ilmoittamismenettelyyn\, tiedon käyttäjien prosesseihin sekä suorituksen maksajan ja tulonsaajan asemaan. \n\n\n\nKoulutuksessa käydään läpi myös käytännön kokemuksia ilmoittamismenettelystä sekä tulorekisteri-ilmoittamisen periaatteita\, kompastuskiviä ja solmukohtia. Kuulet muun muassa\, kuka saa tietoja tulorekisteristä ja miten korjaaminen vaikuttaa tiedon käyttäjien menettelyihin. Koulutuksessa kuulet\, miten korjaaminen vaikuttaa erilaisiin määrättäviin seuraamusmaksuihin. \n\n\n\nKouluttajana tilaisuudessa toimii maan kärkiasiantuntija\, tulorekisteriuudistuksessa alusta asti mukana ollut tulorekisteriyksikön johtava asiantuntija Sari Wulff Verohallinnosta.8.30 – 9.00 Kirjautuminen webinaariin sähköpostin linkistä9.00 – 12.00 \n\n\n\n\nIlmoittamisen kompastuskivet\n\nyleisimmät virheet\n\n\n\nvakuuttamistietojen ilmoittaminen\n\n\n\nkansainvälisten tietojen ilmoittaminen\n\n\n\n\n\nLuontoisetujen ilmoittaminen\n\nTaannehtivat korjaukset ja muutokset luontoisetuihin\n\n\n\nLuontoisetujen periminen takaisin\n\n\n\n\n\nTietojen korjaaminen tulorekisterissä\n\nkorjaamismenettelystä yleisesti\n\n\n\nvirheellisen tiedon korjaaminen\n\n\n\nlisämaksut\n\n\n\nlikasuoritusten ja takaisinperittyjen tulojen ilmoittaminen\n\n\n\nmissä tilanteessa on korjattava poistamalla aiempi ilmoitus?\n\n\n\nmiten korjaaminen vaikuttaa tiedon käyttäjien menettelyihin?\n\n\n\n\n\nMyöhästymismaksun käyttöönotto ja muut seuraamukset\n\nTakautuvien korjausten vaikutus myöhästymismaksuun\n\n\n\n\n\nVastauksia osallistujien esittämiin kysymyksiin\n\n\n\n\n…………………………………………………………………………………..Koulutuspäivän hinta:295 EUR + alv / osallistuja \n\n\n\nHinta sisältää koulutuksen ja materiaalin sähköisessä muodossa. \n\n\n\nOsallistujille lähetetään tarkemmat ohjeet ja materiaalit sähköpostitse ennen koulutusta. \n\n\n\nIlmoittautumiset koulutuspäivään viimeistään9.4.2025 klo 9.00 mennessä. \n\n\n\nPeruutukset kuluitta 15 vrk ennen tilaisuutta. \n\n\n\nIlmoittautumiset ohjelmasivun yläosassa olevalla painikkeella\, puhelimella:010 4231 040 tai sähköpostilla: pk-koulutuskeskus@pk-koulutuskeskus.fi
URL:https://pk-koulutuskeskus.fi/event/tulorekisterin-takautuvat-korjaukset-ja-vaikutukset-seuraamusmaksuihin-webinaari-9-4-2025-klo-8-30-12-00/
ATTACH;FMTTYPE=image/jpeg:https://pk-koulutuskeskus.fi/wp-content/uploads/2023/11/sari_wulff.jpg
END:VEVENT
END:VCALENDAR