BEGIN:VCALENDAR
VERSION:2.0
PRODID:-//PK-Koulutuskeskus Oy - ECPv6.8.2//NONSGML v1.0//EN
CALSCALE:GREGORIAN
METHOD:PUBLISH
X-ORIGINAL-URL:https://pk-koulutuskeskus.fi
X-WR-CALDESC:Events for PK-Koulutuskeskus Oy
REFRESH-INTERVAL;VALUE=DURATION:PT1H
X-Robots-Tag:noindex
X-PUBLISHED-TTL:PT1H
BEGIN:VTIMEZONE
TZID:Europe/Helsinki
BEGIN:DAYLIGHT
TZOFFSETFROM:+0200
TZOFFSETTO:+0300
TZNAME:EEST
DTSTART:20250330T010000
END:DAYLIGHT
BEGIN:STANDARD
TZOFFSETFROM:+0300
TZOFFSETTO:+0200
TZNAME:EET
DTSTART:20251026T010000
END:STANDARD
END:VTIMEZONE
BEGIN:VEVENT
DTSTART;TZID=Europe/Helsinki:20250306T083000
DTEND;TZID=Europe/Helsinki:20250306T160000
DTSTAMP:20260424T162618
CREATED:20250130T131733Z
LAST-MODIFIED:20250221T070833Z
UID:10000076-1741249800-1741276800@pk-koulutuskeskus.fi
SUMMARY:Rakentamisen tiedonantovelvollisuus\, veronumero ja tilaajavastuulaki WEBINAARI 6.3.2025 klo 8.30-16.00
DESCRIPTION:Ylitarkastaja Pirkko Vuori\, VerohallintoTorstai 6.3.2025 klo 8.30-16.00Webinaari \n\n\n\nKoulutuspäivän hinta: 395 EUR + alv / osallistuja \n\n\n\nWEBINAARI TALLENNETAAN JA TALLENNE ON KATSOTTAVISSA 30 PÄIVÄN AJAN KOULUTUKSEN JÄLKEEN \n\n\n\nIlmoittautuminen 6.3.2025 mennessä \n\n\n\n\n	\n	\n	\n	\n    \n\n	    \n    \n        Ilmoittautuminen tapahtumaan on päättynyt. \n        \n        	\n\n\n\n\n\nRakentamisen tiedonantovelvollisuus\, veronumero ja tilaajavastuulaki \n\n\n\nRakentamiseen liittyvä tiedonantovelvollisuus koskee kaikkia\, ei ainoastaan rakennusalan toimijoita. Tiedonantovelvollisuuteen kuuluu yritysten velvollisuus antaa urakkatiedot ja työntekijätiedot sekä valvoa veronumeron rekisteröintiä. \n\n\n\nKoulutuksessa käydään läpi tietojen toimittaminen eri tilanteissa\, korjaaminen sekä tavat ja menetelmät\, joilla tiedonantovelvollisuus hoidetaan. Erityistilanteissa käsitellään mm. kevytyrittäjien tulkintoja\, ulkomaisia tilanteita sekä kerrotaan eri toimijoiden vastuista sanktioinnin näkökulmasta. \n\n\n\nTilaajavastuulain osuudessa käydään lävitse lain nykytila ja velvoitteet sekä miten velvollisuudet tulee hoidettua. Erityisinä nostoina käsitellään mm. kevytyrittäjien selvitysvelvollisuutta sekä ulkomaisia sopimuskumppaneita. \n\n\n\nOHJELMA8.30 – 9.00 Kirjautuminen webinaariin sähköpostin linkistä9.00 – 16.00 \n\n\n\nRakentamisen tiedonantovelvollisuus\, veronumero ja tilaajavastuulaki \n\n\n\nUrakkailmoitus \n\n\n\n\nMistä pitää antaa urakkatiedot?\n\nrakentamispalvelu\, työvoiman vuokraus jne…\n\n\n\nerityistilanteet (takuukorjaukset\, perustajaurakointi yms tilanteet)\n\n\n\n\n\nMitä ja miten tietoja urakoista annetaan?\n\npakolliset ja vapaaehtoiset tiedot\n\n\n\nmitä annettavat tiedot tarkoittavat\n\n\n\n\n\nTietojen toimittamisen erilaiset tavat ja niiden soveltaminen\n\nUrakkatiedot annetaan sopimus- tai työmaakohtaisesti\n\n\n\nTietojen antaminen erilaisissa sopimustilanteissa (tuntiveloitus\, puitesopimus\, yms tilanteet)\n\n\n\nAlarajan soveltaminen eri tilanteissa\n\n\n\n\n\n\nVeronumero \n\n\n\n\nLaivanrakennus – ja rakennusalan veronumero\n\nKenellä pitää olla veronumero?\n\n\n\nEri rekistereiden erot?\n\n\n\nMihin veronumeroita eri aloilla käytetään ja mitä niiden lisäksi tarvitaan?\n\n\n\nVeronumero ja erityisasiantuntijat\n\n\n\n\n\nMiten veronumeron saa ja missä sitä pitää käyttää?\n\nkuvallinen henkilötunniste\n\n\n\nveronumeron hakeminen\n\n\n\nKenen vastuulla on valvoa veronumeroa?\n\n\n\n\n\nJulkinen veronumerorekisteri\n\nLaivanrakennus- ja rakennusalan veronumeron rekisteröiminen\n\n\n\nTyönantajan ja päätoteuttajan vastuut\n\nveronumeron tarkistamisen vaihtoehdot\n\nuusittuja palveluita eri tarkistamisen tilanteisiin\n\n\n\n\n\n\n\nVeronumero ja henkilötunnus verotoimistosta\n\nhenkilötunnuksen hakeminen ja tarvittavat tiedot\n\nvaadittavat asiakirjat ja rekisteröinnin tiedot\n\n\n\n\n\nveronumero ulkomaisissa tilanteissa\n\n\n\nmitä tietoja rekisteröintiin tarvitaan\n\n\n\n\n\nVeronumerorekisteristä poistaminen\n\nVeronumerorekisterin poistamisen säännökset laivanrakennus- ja rakennusalalla\n\n\n\n\n\nMihin tulee kiinnittää huomiota?\n\n\n\n\n\n\nTyöntekijätietojen antaminen \n\n\n\n\nMistä pitää antaa työntekijätiedot?\n\nyhteinen työmaa (mitä on rakentamistyö?)\n\n\n\nVerohallinnon rajaukset työntekijätietojen antamiseen\n\n\n\nAluehallintoviranomaisen rajaukset yhteiseen työmaahan ja rakentamistyöhön\n\n\n\nKenestä kaikista pitää antaa työntekijätiedot?\n\nvierailijat\, viranomaiset\, valvojat yms. tapaukset\n\n\n\n\n\nMitä tietoja työntekijöistä kerätään?\n\npakolliset ja vapaaehtoiset tiedot\n\n\n\n\n\nMiten ilmoitetaan erilaiset työntekijät (ammatinharjoittajat\, vuokratyöntekijät jne…)\n\nPäätoteuttajan ja työnantajien roolit sekä vastuut\n\n\n\n\n\n\n\n\n12.00 – 13.00 Lounas \n\n\n\nKotitalouden ilmoitusmenettely \n\n\n\n\nMistä töistä pitää ilmoittaa?\n\nmitä pitää ilmoittaa kotitalouden työmaalla\n\n\n\nyritys toimii kotitalouden työmaalla\n\n\n\n\n\n\nTietojen korjaaminen urakka- ja työntekijätiedoissa \n\n\n\n\nmitä tietoja pitää korjata\n\n\n\nmilloin pitää korjata\n\n\n\n\nLaiminlyöntimaksut \n\n\n\n\nsanktiot ja niiden eri tasot\n\n\n\n\nTilannekatsaus \n\n\n\n\nhavaintoja ja kokemuksia ilmoittamisesta\n\n\n\n\n \n\n\n\nTilaajavastuulain tavoitteet ja tarkoitus \n\n\n\n\nTilaajavastuulaki\n\nlain tarkoitus\n\n\n\nKetä selvitysvelvollisuus koskee?\n\n\n\n\n\nTilaajan selvitysvelvollisuus ja sen sisältö\n\nMitä pitää selvittää?\n\n\n\nMilloin selvitykset ovat oikea-aikaiset?\n\n\n\n\n\nTilaajavastuulain rajaukset\n\nluotettava toimija\, vakiintunut toiminta ym. rajaukset\n\n\n\n\n\nKuka on selvitysvelvollinen ja mihin pitää kiinnittää huomiota\n\nSelvityksien tyypillisimpiä ongelmakohtia\n\noikeustapauksia ja valvontatapauksia\n\n\n\n\n\n\n\nIlmiöt ja erityistilanteet\n\nUlkomaiset yritykset\n\n\n\nKevytyrittäjät\n\n\n\n\n\nSanktiot\n\nLaiminlyöntimaksuihin muutoksia\n\n\n\nTyypillisimmät virhetilanteet\n\n\n\nLaiminlyöntitapauksia ja oikeuskäytäntöä\n\n\n\n\n\n\n………………………………………………………………………………….. \n\n\n\nKoulutuspäivän hinta:395 EUR + alv / osallistuja \n\n\n\nHinta sisältää koulutuksen ja materiaalin sähköisessä muodossa. \n\n\n\nOsallistujille lähetetään tarkemmat ohjeet ja materiaalit sähköpostitse ennen koulutusta. \n\n\n\nIlmoittautumiset koulutuspäivään viimeistään6.3.2025 klo 9.00 mennessä. \n\n\n\nPeruutukset kuluitta 15 vrk ennen tilaisuutta. \n\n\n\nIlmoittautumiset ohjelmasivun yläosassa olevalla painikkeella\, puhelimella:010 4231 040 tai sähköpostilla: pk-koulutuskeskus@pk-koulutuskeskus.fi
URL:https://pk-koulutuskeskus.fi/event/rakentamisen-tiedonantovelvollisuus-veronumero-ja-tilaajavastuulaki-webinaari-6-3-2025-klo-8-30-16-00/
ATTACH;FMTTYPE=image/jpeg:https://pk-koulutuskeskus.fi/wp-content/uploads/2023/11/Pirkko_Vuori2.jpg
END:VEVENT
BEGIN:VEVENT
DTSTART;TZID=Europe/Helsinki:20250312T083000
DTEND;TZID=Europe/Helsinki:20250312T120000
DTSTAMP:20260424T162618
CREATED:20250130T133642Z
LAST-MODIFIED:20250212T141114Z
UID:10000077-1741768200-1741780800@pk-koulutuskeskus.fi
SUMMARY:Työoikeuden ajankohtaiset asiat WEBINAARI 12.3.2025 klo 8.30-12.00
DESCRIPTION:OTM Simo Kahelin\, Lecklé OyKeskiviikko 12.3.2025 klo 8.30-12.00Webinaari \n\n\n\nKoulutuspäivän hinta: 295 EUR + alv / osallistuja \n\n\n\nWEBINAARI TALLENNETAAN JA TALLENNE ON KATSOTTAVISSA 30 PÄIVÄN AJAN KOULUTUKSEN JÄLKEEN \n\n\n\nIlmoittautuminen 5.3.2025 mennessä! \n\n\n\n\n	\n	\n	\n	\n    \n\n	    \n    \n        Ilmoittautuminen tapahtumaan on päättynyt. \n        \n        	\n\n\n\n\n\nOHJELMA \n\n\n\nValmistaudu työlainsäädännön muutoksiin ja niiden vaikutuksiin organisaatiossanne! Koulutuspaketti tarjoaa tiiviin katsauksen vuosien 2024-2025 ajankohtaisiin työlainsäädännön uudistuksiin ja tuoreeseen oikeuskäytäntöön. Aiheina käsitellään mm. seuraavia: \n\n\n\n8.30 – 9.00 Kirjautuminen webinaariin sähköpostin linkistä9.00 – 12.00 \n\n\n\n\nPaikallinen sopimisen mahdollisuuksien laajentaminen (paikallinen sopiminen tulee mahdolliseksi riippumatta yrityksen työnantajaliittoon kuulumisesta tai työntekijöiden edustuksesta)\n\n\n\nYhteistoimintalain velvoitteiden ”keventäminen” (soveltamisraja nousee 50 työntekijään ja neuvotteluajat lyhenevät)\n\n\n\nTyösopimuslain muutokset\n\nHenkilöön liittyvän irtisanomisperusteen keventäminen\n\n\n\nMääräaikaisen työsopimuksen perusteen helpottaminen\n\n\n\nLomautusilmoitusajan lyhentäminen ja takaisinottovelvoitteen keventäminen\n\n\n\nSairauspoissaolon omavastuupäivä\n\n\n\n\n\nLisäksi käsitellään oppeja työoikeuden ajankohtaisesta oikeuskäytännöstä\n\nPalkkauksen ja työsuhde-etuuksien yhdenvertaisuus ja tasapuolinen kohtelu (KKO 2024:80 ja KKO 2024:9)\n\n\n\nTyösuhteen purkaminen koeajalla – luvaton syrjintä terveydellisestä syystä (KKO 2024:63)\n\n\n\nTyösopimuksen kohtuuttomat ehdot – Kohtuuttoman ehdon sovittelu (KKO 2024:36)\n\n\n\nTyön tarjoamis- ja koulutusvelvollisuuden laajuus irtisanomisen yhteydessä (KKO 2024:24)\n\n\n\nVuokratyövoiman kielletty käyttäminen tietyillä TES-aloilla (TT 2024:22)\n\n\n\n\n\n\n\n\n\n\n\n\n…………………………………………………………………………………..Koulutuspäivän hinta:295 EUR + alv / osallistuja \n\n\n\nHinta sisältää koulutuksen ja materiaalin sähköisessä muodossa. \n\n\n\nOsallistujille lähetetään tarkemmat ohjeet ja materiaalit sähköpostitse ennen koulutusta. \n\n\n\nIlmoittautumiset koulutuspäivään viimeistään5.3.2025 klo 17.00 mennessä. \n\n\n\nPeruutukset kuluitta 15 vrk ennen tilaisuutta. \n\n\n\nIlmoittautumiset ohjelmasivun yläosassa olevalla painikkeella\, puhelimella:010 4231 040 tai sähköpostilla: pk-koulutuskeskus@pk-koulutuskeskus.fi
URL:https://pk-koulutuskeskus.fi/event/tyooikeuden-ajankohtaiset-asiat-webinaari-13-2-2025-klo-8-30-12-00/
ATTACH;FMTTYPE=image/jpeg:https://pk-koulutuskeskus.fi/wp-content/uploads/2025/01/Simo_pieni-002.jpg
END:VEVENT
BEGIN:VEVENT
DTSTART;TZID=Europe/Helsinki:20250318T083000
DTEND;TZID=Europe/Helsinki:20250318T143000
DTSTAMP:20260424T162618
CREATED:20250131T094129Z
LAST-MODIFIED:20250212T131638Z
UID:10000079-1742286600-1742308200@pk-koulutuskeskus.fi
SUMMARY:Osakeyhtiön veroilmoituksen laatiminen WEBINAARI 18.3.2025 klo 8.30-14.30
DESCRIPTION:KTM Olli Luotonen\, Lecklé OyTiistai 18.3.2025 klo 8.30-14.30Webinaari \n\n\n\nKoulutuspäivän hinta: 395 EUR + alv / osallistuja \n\n\n\nWEBINAARI TALLENNETAAN JA TALLENNE ON KATSOTTAVISSA 30 PÄIVÄN AJAN KOULUTUKSEN JÄLKEEN \n\n\n\nIlmoittautuminen 11.3.2025 mennessä! \n\n\n\n\n	\n	\n	\n	\n    \n\n	    \n    \n        Ilmoittautuminen tapahtumaan on päättynyt. \n        \n        	\n\n\n\n\n\nOHJELMA8.30 – 9.00 Kirjautuminen webinaariin sähköpostin linkistä \n\n\n\nAamupäivä klo 9.00 – 12.00 \n\n\n\nOsakeyhtiön veroilmoituksen antaminen\, logiikka ja täyttäminen \n\n\n\n\nYleistä veroprosessista\n\n\n\npääveroilmoituslomake\, logiikka ja pääkohdat\n\n\n\nomistajanvaihdokset ja niiden ilmoittaminen\n\n\n\nliitelomakkeet\n\n\n\n\nVirheistä ja erehdyksistä määrättävät veronkorotukset \n\n\n\nVerotuksen poistoperiaatteet\, kirjanpitosidonnaisuus ja mahdollisuus poistojen hyllyttämiseen \n\n\n\nVerolaskelman laatiminen \n\n\n\nLounas klo 12.00 – 13.00 \n\n\n\nIltapäivä klo 13.00 – 14.30 \n\n\n\nVeroilmoitukseen liittyviä erityiskysymyksiä \n\n\n\n\nvaraukset\, lahjoitukset ja osingot\n\n\n\nnettovarallisuuslaskelma ja osakkeen matemaattinen arvo\n\n\n\nkonserniavustus\n\n\n\nkorkojen vähennysoikeuden rajoitukset\n\n\n\nosakeluovutukset ja niiden verovapaus tietyissä tilanteissa\n\n\n\n\nKoulutus päättyy noin 14.30 \n\n\n\n………………………………………………………………………………….. \n\n\n\nKoulutuspäivän hinta:395 EUR + alv / osallistujaHinta sisältää koulutuksen ja materiaalin sähköisessä muodossa. \n\n\n\nOsallistujille lähetetään tarkemmat ohjeet ja materiaalit sähköpostitse ennen koulutusta.Ilmoittautumiset koulutuspäivään viimeistään11.3.2025 klo 17.00 mennessä. \n\n\n\nPeruutukset kuluitta 15 vrk ennen tilaisuutta. \n\n\n\nIlmoittautumiset ohjelmasivun yläosassa olevalla painikkeella\, puhelimella:010 4231 040 tai sähköpostilla: pk-koulutuskeskus@pk-koulutuskeskus.fi
URL:https://pk-koulutuskeskus.fi/event/osakeyhtion-veroilmoituksen-laatiminen-webinaari-18-3-2025-klo-8-30-14-30/
ATTACH;FMTTYPE=image/jpeg:https://pk-koulutuskeskus.fi/wp-content/uploads/2025/01/Luotonen1.jpg
END:VEVENT
BEGIN:VEVENT
DTSTART;TZID=Europe/Helsinki:20250325T083000
DTEND;TZID=Europe/Helsinki:20250325T153000
DTSTAMP:20260424T162619
CREATED:20250127T135845Z
LAST-MODIFIED:20250313T065243Z
UID:10000075-1742891400-1742916600@pk-koulutuskeskus.fi
SUMMARY:Arvonlisäveron vähennysoikeudet ja arvonlisäveron ajankohtaiskatsaus WEBINAARI 25.3.2025 klo 8.30-15.30
DESCRIPTION:KTM Eveliina Laakso\, Lecklé OyTiistai 25.3.2025 klo 8.30-15.30Webinaari \n\n\n\nKoulutuspäivän hinta: 395 EUR + alv / osallistuja \n\n\n\nWEBINAARI TALLENNETAAN JA TALLENNE ON KATSOTTAVISSA 30 PÄIVÄN AJAN KOULUTUKSEN JÄLKEEN \n\n\n\nIlmoittautuminen 25.3.2025 mennessä! \n\n\n\n\n	\n	\n	\n	\n    \n\n	    \n    \n        Ilmoittautuminen tapahtumaan on päättynyt. \n        \n        	\n\n\n\n\n\nOHJELMA \n\n\n\nArvonlisäveron vähennysoikeudet ja arvonlisäveron ajankohtaiskatsaus \n\n\n\nAamupäivän osuudessa käymme läpi arvonlisäveron vähennysoikeuteen liittyviä kysymyksiä ja keskeisiä periaatteita. Iltapäivän osuudessa painopiste on arvonlisäveron ajankohtaisissa kysymyksissä – mitkä asiat ovat Verohallinnossa pinnalla\, mitkä ovat tuoreimmat muutokset ja mitä uudistuksia on lähiaikoina tulossa. Lisäksi perehdymme oman käytön arvonlisäverotuksen pääperiaatteisiin. \n\n\n\nTule kuulemaan\, mitä tiedämme arvonlisäverotukseen tulleista ja tulossa olevista muutoksista sekä saamaan vinkit muutoksiin valmistautumiseen! \n\n\n\nAamu- ja iltapäivän osuudet ovat itsenäisiä ja voit ilmoittautua vain toiseen osuuteen hintaan 295 eur + alv.8.30 – 9.00 Kirjautuminen webinaariin sähköpostin linkistä \n\n\n\nAamupäivä klo 9.00 – 12.00 \n\n\n\n\nArvonlisäveron vähennysoikeuden perusperiaatteet ja tyypillisimmät rajanvetotilanteet\n\n\n\nVähennysoikeuden yleiset edellytykset ja rajoituksetVähennysoikeuden yleiset edellytyksetVähennysoikeuden rajoitukset\n\nLasku vähennysoikeuden edellytyksenä\n\n\n\n\n\nYleiskulujen vähennysoikeus\n\n\n\nHenkilöstö- ja edustuskulut arvonlisäverotuksessaHenkilöstökulujen vähennysoikeusEdustus- ja markkinointikulujen rajanvetotilanteet\n\nMuita rajanvetotilanteita\n\n\n\n\n\n\nLounas klo 12.00 – 13.00 \n\n\n\nIltapäivä klo 13.00 – 15.30 \n\n\n\n\nOman käytön arvonlisäverotuksen pääperiaatteitaMikä oman käytön verotus?\n\nMiten tunnistaa tyypillisiä oman käytön verotuksen tilanteita?\n\n\n\n\n\nArvonlisäverokantojen muutokset – mitä huomioida muutoksesta?Mikä on jo muuttunut ja mitä muutoksia on tiedossa\n\nMuutoksen käytännön vaikutuksia\n\n\n\n\n\nMuita ajankohtaisia nostojaVAT in Digital AgeUusinta oikeuskäytäntöä\n\nMuutokset Verohallinnon arvonlisävero-ohjeissa\n\n\n\n\n\nMuuta ajankohtaista\n\n\n\n\nKoulutus päättyy noin 15.30 \n\n\n\n………………………………………………………………………………….. \n\n\n\nKoulutuspäivän hinta:395 EUR + alv / osallistujaHinta sisältää koulutuksen ja materiaalin sähköisessä muodossa. \n\n\n\nOsallistujille lähetetään tarkemmat ohjeet ja materiaalit sähköpostitse ennen koulutusta.Ilmoittautumiset koulutuspäivään viimeistään25.3.2025 klo 9.00 mennessä. \n\n\n\nPeruutukset kuluitta 15 vrk ennen tilaisuutta. \n\n\n\nIlmoittautumiset ohjelmasivun yläosassa olevalla painikkeella\, puhelimella:010 4231 040 tai sähköpostilla: pk-koulutuskeskus@pk-koulutuskeskus.fi
URL:https://pk-koulutuskeskus.fi/event/arvonlisaveron-vahennysoikeudet-ja-arvonlisaveron-ajankohtaiskatsaus-webinaari-25-3-2025-klo-8-30-15-30/
ATTACH;FMTTYPE=image/jpeg:https://pk-koulutuskeskus.fi/wp-content/uploads/2023/10/LexAlvia_Eveliina.jpeg
END:VEVENT
BEGIN:VEVENT
DTSTART;TZID=Europe/Helsinki:20250327T083000
DTEND;TZID=Europe/Helsinki:20250327T120000
DTSTAMP:20260424T162619
CREATED:20250217T075923Z
LAST-MODIFIED:20250318T081808Z
UID:10000080-1743064200-1743076800@pk-koulutuskeskus.fi
SUMMARY:Matkakustannusten korvaukset verotuksessa WEBINAARI 27.3.2025 klo 8.30-12.00
DESCRIPTION:OTM Sari Wulff\, Johtava Asiantuntija\, Tulorekisteriyksikkö\, VerohallintoTorstai 27.3.2025 klo 8.30-12.00Webinaari \n\n\n\nKoulutuspäivän hinta: 295 EUR + alv / osallistuja \n\n\n\nIlmoittautuminen 27.3.2025 mennessä! \n\n\n\n\n	\n	\n	\n	\n    \n\n	    \n    \n        Ilmoittautuminen tapahtumaan on päättynyt. \n        \n        	\n\n\n\n\n\nOHJELMA \n\n\n\nWebinaarissa käsitellään matkan erilaisia käsitteitä verotuksessa\, verohallinnon ohjeita ja työehtosopimusten vaikutuksia korvausten maksamiseen. Koulutuksessa tarkastellaan mm. mitä voidaan korvata verovapaasti sekä milloin matkasta voi syntyä veronalaista etua? Koulutuksessa kuulet koti- ja ulkomaan päivärahoista\, ateriakorvauksista sekä kilometrikorvauksista. Tilaisuudessa käsitellään erityistilanteita sekä veronalaisten matkakustannusten korvaamista. Lisäksi käsitellään matkalaskuvaatimuksia sekä kustannusten korvausten ilmoittamista tulorekisteriin. \n\n\n\n8.30 – 9.00 Kirjautuminen webinaariin sähköpostin linkistä9.00 – 12.00 \n\n\n\nMatkustamiskustannusten korvaukset \n\n\n\n\nmatkan erilaiset käsitteet verotuksessa\n\n\n\nmitä voidaan korvata verovapaasti?\n\n\n\nmilloin matkasta voi syntyä veronalaista etua?\n\n\n\nverohallinnon ohjeet\n\n\n\ntyöehtosopimusten vaikutus korvausten maksamiseen\n\n\n\n\nKoti- ja ulkomaan päivärahat\, ateriakorvaukset ja kilometrikorvaukset \n\n\n\n\nmatkavuorokausi\, matkan alkaminen ja päättyminen\n\n\n\netäisyys- ja aikavaatimus päivärahassa\n\n\n\naterioiden vaikutus päivärahaan\n\n\n\nulkomaan päiväraha: minkä maan mukaan päiväraha määräytyy?\n\n\n\n\nErityistilanteita \n\n\n\nVeronalaiset matkakustannusten korvaukset \n\n\n\nMitä matkalaskulta vaaditaan? \n\n\n\nMiten kustannusten korvaukset ilmoitetaan tulorekisteriin? \n\n\n\n…………………………………………………………………………………..Koulutuspäivän hinta:295 EUR + alv / osallistuja \n\n\n\nHinta sisältää koulutuksen ja materiaalin sähköisessä muodossa. \n\n\n\nOsallistujille lähetetään tarkemmat ohjeet ja materiaalit sähköpostitse ennen koulutusta. \n\n\n\nIlmoittautumiset koulutuspäivään viimeistään27.3.2025 klo 9.00 mennessä. \n\n\n\nPeruutukset kuluitta 15 vrk ennen tilaisuutta. \n\n\n\nIlmoittautumiset ohjelmasivun yläosassa olevalla painikkeella\, puhelimella:010 4231 040 tai sähköpostilla: pk-koulutuskeskus@pk-koulutuskeskus.fi
URL:https://pk-koulutuskeskus.fi/event/matkakustannusten-korvaukset-verotuksessa-webinaari-27-3-2025-klo-8-30-12-00/
ATTACH;FMTTYPE=image/jpeg:https://pk-koulutuskeskus.fi/wp-content/uploads/2023/11/sari_wulff.jpg
END:VEVENT
END:VCALENDAR