BEGIN:VCALENDAR
VERSION:2.0
PRODID:-//PK-Koulutuskeskus Oy - ECPv6.8.2//NONSGML v1.0//EN
CALSCALE:GREGORIAN
METHOD:PUBLISH
X-WR-CALNAME:PK-Koulutuskeskus Oy
X-ORIGINAL-URL:https://pk-koulutuskeskus.fi
X-WR-CALDESC:Events for PK-Koulutuskeskus Oy
REFRESH-INTERVAL;VALUE=DURATION:PT1H
X-Robots-Tag:noindex
X-PUBLISHED-TTL:PT1H
BEGIN:VTIMEZONE
TZID:Europe/Helsinki
BEGIN:DAYLIGHT
TZOFFSETFROM:+0200
TZOFFSETTO:+0300
TZNAME:EEST
DTSTART:20230326T010000
END:DAYLIGHT
BEGIN:STANDARD
TZOFFSETFROM:+0300
TZOFFSETTO:+0200
TZNAME:EET
DTSTART:20231029T010000
END:STANDARD
END:VTIMEZONE
BEGIN:VEVENT
DTSTART;TZID=Europe/Helsinki:20231201T083000
DTEND;TZID=Europe/Helsinki:20231201T120000
DTSTAMP:20260425T190251
CREATED:20231102T080440Z
LAST-MODIFIED:20240206T070308Z
UID:10000015-1701419400-1701432000@pk-koulutuskeskus.fi
SUMMARY:Ennakkoperintä 2024 WEBINAARI 1.12.2023 klo 08.30-12.00
DESCRIPTION:Ylitarkastaja Pirkko Vuori\, VerohallintoPerjantai 1.12.2023 klo 8.30-12.00Webinaari \n\n\n\nKoulutuspäivän hinta: 295 EUR + alv / osallistuja \n\n\n\nIlmoittautuminen 24.11.2023 mennessä! \n\n\n\n\n\n\n\nOHJELMA \n\n\n\n8.30 – 9.00 Kirjautuminen webinaariin sähköpostin linkistä \n\n\n\n9.00 – 12.00 \n\n\n\nVerolainsäädännön muutokset  \n\n\n\n\nVeroperusteet\n\n\n\nTuloverolain muutokset\n\n\n\nTyönantajan ja työntekijän sosiaalivakuutusmaksut v. 2024\n\n\n\nHallitusohjelman linjaukset\n\n\n\n\n Ennakkoperintä 2024 \n\n\n\n\nVerokorttien voimaantulo ja alkuvuoden menettely\n\n\n\nEnnakonpidätystiedot työnantajalle\n\n\n\nLuontoisedut ja kustannusten korvaukset\n\n\n\nVuodelta 2023 annettavat vuosi-ilmoitukset\n\n\n\nVerohallinnon viimeaikaiset ohjeet\n\n\n\n\n Ajankohtaista tulorekisteristä  \n\n\n\n\nVuoden 2024 alusta tulevat muutokset\, mm uudet tulolajit palkkatietoilmoitukselle\n\n\n\nUudet ja muuttuneet ohjeet tulorekisteri-ilmoittamisesta\n\n\n\nTulolajien oikea käyttö\n\n\n\nUsein kysytyt kysymykset ilmoittamisesta\n\n\n\n\n………………………………………………………………………………….. \n\n\n\nKoulutuspäivän hinta:295 EUR + alv / osallistuja \n\n\n\nHinta sisältää koulutuksen ja materiaalin sähköisessä muodossa. \n\n\n\nOsallistujille lähetetään tarkemmat ohjeet ja materiaalit sähköpostitse ennen koulutusta. \n\n\n\nIlmoittautumiset koulutuspäivään viimeistään24.11.2023 klo 17.00 mennessä. \n\n\n\nPeruutukset kuluitta 15 vrk ennen tilaisuutta. \n\n\n\nIlmoittautumiset ohjelmasivun yläosassa olevalla painikkeella\, puhelimella:010 4231 040 tai sähköpostilla: pk-koulutuskeskus@pk-koulutuskeskus.fi
URL:https://pk-koulutuskeskus.fi/event/ennakkoperinta-2024-webinaari-1-12-2023-klo-08-30-12-00/
ATTACH;FMTTYPE=image/jpeg:https://pk-koulutuskeskus.fi/wp-content/uploads/2023/11/Pirkko_Vuori2.jpg
END:VEVENT
BEGIN:VEVENT
DTSTART;TZID=Europe/Helsinki:20231220T083000
DTEND;TZID=Europe/Helsinki:20231220T120000
DTSTAMP:20260425T190251
CREATED:20231102T081039Z
LAST-MODIFIED:20240206T070236Z
UID:10000016-1703061000-1703073600@pk-koulutuskeskus.fi
SUMMARY:Ennakkoperintä 2024 WEBINAARI 20.12.2023 klo 08.30-12.00
DESCRIPTION:OTM Sari Wulff\, Johtava Asiantuntija\, Tulorekisteriyksikkö\, VerohallintoKeskiviikko 20.12.2023 klo 08.30-12.00Webinaari \n\n\n\nKoulutuspäivän hinta: 295 EUR + alv / osallistuja \n\n\n\nIlmoittautuminen 13.12.2023 mennessä! \n\n\n\n\n\n\n\nOHJELMA \n\n\n\n08.30 – 09.00 Kirjautuminen webinaariin sähköpostin linkistä09.00 – 12.00 \n\n\n\nVerolainsäädännön muutokset  \n\n\n\n\nVeroperusteet\n\n\n\nTuloverolain muutokset\n\n\n\nTyönantajan ja työntekijän sosiaalivakuutusmaksut v. 2024\n\n\n\nHallitusohjelman linjaukset\n\n\n\n\n Ennakkoperintä 2024 \n\n\n\n\nVerokorttien voimaantulo ja alkuvuoden menettely\n\n\n\nEnnakonpidätystiedot työnantajalle\n\n\n\nLuontoisedut ja kustannusten korvaukset\n\n\n\nVuodelta 2023 annettavat vuosi-ilmoitukset\n\n\n\nVerohallinnon viimeaikaiset ohjeet\n\n\n\n\n Ajankohtaista tulorekisteristä  \n\n\n\n\nVuoden 2024 alusta tulevat muutokset\, mm uudet tulolajit palkkatietoilmoitukselle\n\n\n\nUudet ja muuttuneet ohjeet tulorekisteri-ilmoittamisesta\n\n\n\nTulolajien oikea käyttö\n\n\n\nUsein kysytyt kysymykset ilmoittamisesta\n\n\n\n\n…………………………………………………………………………………..Koulutuspäivän hinta:295 EUR + alv / osallistuja \n\n\n\nHinta sisältää koulutuksen ja materiaalin sähköisessä muodossa. \n\n\n\nOsallistujille lähetetään tarkemmat ohjeet ja materiaalit sähköpostitse ennen koulutusta. \n\n\n\nIlmoittautumiset koulutuspäivään viimeistään13.12.2023 klo 17.00 mennessä. \n\n\n\nPeruutukset kuluitta 15 vrk ennen tilaisuutta. \n\n\n\nIlmoittautumiset ohjelmasivun yläosassa olevalla painikkeella\, puhelimella:010 4231 040 tai sähköpostilla: pk-koulutuskeskus@pk-koulutuskeskus.fi
URL:https://pk-koulutuskeskus.fi/event/ennakkoperinta-2024-webinaari-20-12-2023-klo-08-30-12-00/
ATTACH;FMTTYPE=image/jpeg:https://pk-koulutuskeskus.fi/wp-content/uploads/2023/11/sari_wulff.jpg
END:VEVENT
END:VCALENDAR