BEGIN:VCALENDAR
VERSION:2.0
PRODID:-//PK-Koulutuskeskus Oy - ECPv6.8.2//NONSGML v1.0//EN
CALSCALE:GREGORIAN
METHOD:PUBLISH
X-WR-CALNAME:PK-Koulutuskeskus Oy
X-ORIGINAL-URL:https://pk-koulutuskeskus.fi
X-WR-CALDESC:Events for PK-Koulutuskeskus Oy
REFRESH-INTERVAL;VALUE=DURATION:PT1H
X-Robots-Tag:noindex
X-PUBLISHED-TTL:PT1H
BEGIN:VTIMEZONE
TZID:Europe/Helsinki
BEGIN:DAYLIGHT
TZOFFSETFROM:+0200
TZOFFSETTO:+0300
TZNAME:EEST
DTSTART:20230326T010000
END:DAYLIGHT
BEGIN:STANDARD
TZOFFSETFROM:+0300
TZOFFSETTO:+0200
TZNAME:EET
DTSTART:20231029T010000
END:STANDARD
END:VTIMEZONE
BEGIN:VEVENT
DTSTART;TZID=Europe/Helsinki:20231025T083000
DTEND;TZID=Europe/Helsinki:20231025T153000
DTSTAMP:20260424T174839
CREATED:20231023T112856Z
LAST-MODIFIED:20240206T070816Z
UID:10000004-1698222600-1698247800@pk-koulutuskeskus.fi
SUMMARY:Kansainvälisen kaupan arvonlisäverotus WEBINAARI 25.10.2023 klo 8.30-15.30
DESCRIPTION:VT\, KTM Hanna Huhtala\, Lecklé OyKeskiviikko 25.10.2023 klo 8.30-15.30Webinaari \n\n\n\nKoulutuspäivän hinta: 395 EUR + alv / osallistuja \n\n\n\n\n	\n	\n	\n	\n    \n\n	    \n    \n        Ilmoittautuminen tapahtumaan on päättynyt. \n        \n        	\n\n\n\n\n\nOHJELMA \n\n\n\nKansainvälisen kaupan arvonlisäveropäivä \n\n\n\nKansainvälisen kaupan arvonlisäverotus on usein haastavaa ja keskeisten periaatteiden osaaminen on ensiarvoisen tärkeää. Tässä koulutuksessa käymme läpi tavara- ja palvelukaupan keskeiset periaatteet ja -säännöt yritysten välisessä (B2B) kaupassa. \n\n\n\nAamupäivän osuudessa käymme läpi kansainvälisen tavarakaupan keskeisiä periaatteita yritysten välisen kaupankäynnin näkökulmasta. Iltapäivän osuus koostuu palvelukaupan arvonlisäverotuksesta sekä kulujen edelleen veloitukseen liittyvistä kysymyksistä\, jotka ajoittain ovat haasteellisia erityisesti kansainvälisessä kaupassa. Iltapäivän osuuden päätteeksi otamme katsauksen kansainväliseen kauppaan ajankohtaisiin teemoihin.08.30 – 09.00 Kirjautuminen webinaariin sähköpostin linkistä \n\n\n\nAamupäivä 9.00-12.00 \n\n\n\nKansainvälisen kaupan arvonlisäverotuksen perusteet \n\n\n\nKansainvälisen arvonlisäverotuksen lähtökohdat \n\n\n\n\nSuorituksen alv-kohtelun ratkaiseminen ja myyntimaan määräytyminen\n\n\n\nKeskeisiä kansainvälisen kaupan käsitteitä\n\nTavaran ja palvelun käsite\n\n\n\nLiittymis- ja jakamisperiaate\n\n\n\nKiinteä toimipaikka ja sen merkitys\n\n\n\nKäännetty verovelvollisuus\n\n\n\n\n\n\n Kansainvälinen tavarakauppa \n\n\n\nTavarakaupan keskeiset periaatteet ja myyntimaan määräytyminen \n\n\n\nTavarakauppa EU:ssa \n\n\n\n\nTavaran yhteisömyynti\n\nVerottomuuden edellytykset\n\n\n\nRaportointi ja laskumerkinnät\n\n\n\n\n\nTavaran yhteisöhankinta\n\nVerottomuuden edellytykset\n\n\n\nRaportointi ja laskumerkinnät\n\n\n\n\n\nTavarakaupan erityistilanteita\n\nOman tavaran siirto ja varastot muissa EU-maissa\n\n\n\nToimituslausekkeiden merkitys\n\n\n\nKolmikantakauppa ja muut ketjukaupan tilanteet\n\n\n\n\n\nKäytännön esimerkkejä\n\n\n\n\nTavaran vienti ja maahantuonti \n\n\n\n\nTavaran vienti EU:n ulkopuolelle\n\nVerottomuuden edellytykset\n\n\n\nVientiin liittyviä erityistilanteita\n\n\n\n\n\nTavaran maahantuonti Suomessa\n\nMaahantuonnin veron peruste\n\n\n\nMaahantuonnin arvonlisäveron raportointi\n\n\n\n\n\n\nLounas 12.00-13.00 \n\n\n\nIltapäivä 13.00-15.30 \n\n\n\nKansainvälisen palvelukaupan arvonlisäverotus \n\n\n\nProjektitoimitusten arvonlisäverotus \n\n\n\n\nTavaran myynti asennettuna\n\n\n\nKeskeiset alv-kysymykset ja periaatteet\n\n\n\n\nPalvelukaupan arvonlisäverotuksen perusperiaatteet \n\n\n\n\nVerotuskohtelun ratkaiseminen\n\n\n\nPalveluiden myyntimaa\n\nPääsääntö\n\n\n\nPoikkeussäännösten piirissä olevat palvelut\n\n\n\nKäytännön esimerkkejä\n\n\n\nLaskumerkinnät ja raportointi\n\n\n\n\n\n\nKulujen edelleen veloitus kansainvälisessä kaupassa \n\n\n\n\nMitä tarkoitetaan kulujen edelleen veloituksella?\n\n\n\nTyypillisiä ongelmatilanteita\n\n\n\nKäytännön esimerkkejä\n\n\n\n\nAjankohtaista kansainvälisen kaupan arvonlisäverotuksesta \n\n\n\n\nViimeaikaista verotus- ja oikeuskäytäntöä\n\n\n\nVAT in Digital Age\n\nMistä on kyse?\n\n\n\nMitkä ovat muutoksen tavoitteet?\n\n\n\n\n\n\nKoulutus päättyy 15.30 \n\n\n\n………………………………………………………………………………….. \n\n\n\nKoulutuspäivän hinta:395 EUR + alv / osallistujaHinta sisältää koulutuksen ja materiaalin sähköisessä muodossa. \n\n\n\nOsallistujille lähetetään tarkemmat ohjeet ja materiaalit sähköpostitse ennen koulutusta.Ilmoittautumiset koulutuspäivään viimeistään25.10.2023 klo 8.00 mennessä. \n\n\n\nPeruutukset kuluitta 15 vrk ennen tilaisuutta. \n\n\n\nIlmoittautumiset ohjelmasivun yläosassa olevalla painikkeella\, puhelimella:010 4231 040 tai sähköpostilla: pk-koulutuskeskus@pk-koulutuskeskus.fi
URL:https://pk-koulutuskeskus.fi/event/kansainvalisen-kaupan-arvonlisaverotus-webinaari-25-10-2023-klo-8-30-15-30/
ATTACH;FMTTYPE=image/jpeg:https://pk-koulutuskeskus.fi/wp-content/uploads/2023/10/Hanna_Huhtala_4.jpeg
END:VEVENT
END:VCALENDAR