BEGIN:VCALENDAR
VERSION:2.0
PRODID:-//PK-Koulutuskeskus Oy - ECPv6.8.2//NONSGML v1.0//EN
CALSCALE:GREGORIAN
METHOD:PUBLISH
X-WR-CALNAME:PK-Koulutuskeskus Oy
X-ORIGINAL-URL:https://pk-koulutuskeskus.fi
X-WR-CALDESC:Events for PK-Koulutuskeskus Oy
REFRESH-INTERVAL;VALUE=DURATION:PT1H
X-Robots-Tag:noindex
X-PUBLISHED-TTL:PT1H
BEGIN:VTIMEZONE
TZID:Europe/Helsinki
BEGIN:DAYLIGHT
TZOFFSETFROM:+0200
TZOFFSETTO:+0300
TZNAME:EEST
DTSTART:20260329T010000
END:DAYLIGHT
BEGIN:STANDARD
TZOFFSETFROM:+0300
TZOFFSETTO:+0200
TZNAME:EET
DTSTART:20261025T010000
END:STANDARD
END:VTIMEZONE
BEGIN:VEVENT
DTSTART;TZID=Europe/Helsinki:20260521T083000
DTEND;TZID=Europe/Helsinki:20260521T153000
DTSTAMP:20260423T204018
CREATED:20260414T075502Z
LAST-MODIFIED:20260414T075503Z
UID:10000127-1779352200-1779377400@pk-koulutuskeskus.fi
SUMMARY:Arvonlisäveron vähennysoikeudet ja arvonlisäveron ajankohtaiskatsaus WEBINAARI 21.5.2026 klo 8.30-15.30
DESCRIPTION:KTM Eveliina Laakso\, Lecklé OyTorstai 21.5.2026 klo 8.30-15.30Webinaari \n\n\n\nKoulutuspäivän hinta: 395 EUR + alv / osallistuja \n\n\n\nWEBINAARI TALLENNETAAN JA TALLENNE ON KATSOTTAVISSA 30 PÄIVÄN AJAN KOULUTUKSEN JÄLKEEN! \n\n\n\nIlmoittautuminen 13.5.2026 mennessä! \n\n\n\n\n	\n	\n	\n	\n    \n\n	    \n            Ilmoittaudu koulutukseen\n        Ilmoittaudu koulutukseen\n    \n        		There were errors with your submission. Please try again.\n		\n        \n\n\n		\n\n	\n\n				\n				\n\n		\n		\n			\n			\n	\n		OSALLISTUJAN TIEDOT\n\n	Etunimi*\n	\n						\n									\n\n\n\n	Sukunimi*\n	\n						\n									\n\n\n\n	Email*\n	\n						\n									\n\n\n\n	Puhelin*\n	\n						\n									\n\n\n\n	Tehtävä yrityksessä\n	\n						\n									\n\nYRITYKSEN TIEDOT\n\n	Yritys tai yhteisö*\n	\n						\n									\n\n\n\n	Laskutusosoite*\n	\n						\n									\n\n\n\n	Verkkolaskuosoite\n	\n						\n									\n\n\n\n	Y-tunnus\n	\n						\n									\n\nLisätkää halutessanne yhteyshenkilön\, ilmoittajan tai lisäosallistujien nimet ja yhteystiedot sekä erityisruokavaliot yms. lisätietoja kenttään\n\n	Lisätietoja\n	\n				\n							\n\n\n\n	What is 5 + 4*\n	\n						\n									\n\n	\n		\n\n				\n			Address\n			\n				\n				If you are a human\, do not fill in this field \n			\n		\n\n		\n						\n					\n\n	\n\n	\n		\n	\n\n\n\n        	\n\n\n\n\n\nOHJELMA \n\n\n\nArvonlisäveron vähennysoikeudet ja arvonlisäveron ajankohtaiskatsaus \n\n\n\nAamupäivän osuudessa käymme läpi arvonlisäveron vähennysoikeuteen liittyviä kysymyksiä ja keskeisiä periaatteita. Iltapäivän osuudessa painopiste on arvonlisäveron ajankohtaisissa kysymyksissä – mitkä asiat ovat Verohallinnossa pinnalla\, mitkä ovat tuoreimmat muutokset ja mitä uudistuksia on lähiaikoina tulossa.  \n\n\n\nTule kuulemaan\, mitä tiedämme arvonlisäverotukseen tulleista ja tulossa olevista muutoksista sekä saamaan vinkit muutoksiin valmistautumiseen! \n\n\n\nAamu- ja iltapäivän osuudet ovat itsenäisiä ja voit ilmoittautua vain toiseen osuuteen hintaan 295 eur + alv.8.30 – 9.00 Kirjautuminen webinaariin sähköpostin linkistä \n\n\n\nAamupäivä klo 9.00 – 12.00 \n\n\n\n\nArvonlisäveron vähennysoikeuden perusperiaatteet ja tyypillisimmät rajanvetotilanteet\n\n\n\nVähennysoikeuden yleiset edellytykset ja rajoituksetVähennysoikeuden yleiset edellytyksetVähennysoikeuden rajoitukset\n\nLasku vähennysoikeuden edellytyksenä\n\n\n\n\n\nYleiskulujen vähennysoikeus\n\n\n\nHenkilöstö- ja edustuskulut arvonlisäverotuksessaHenkilöstökulujen vähennysoikeusEdustus- ja markkinointikulujen rajanvetotilanteet\n\nMuita rajanvetotilanteita\n\n\n\n\n\n\nLounas klo 12.00 – 13.00 \n\n\n\nIltapäivä klo 13.00 – 15.30 \n\n\n\n\nVAT in Digital AgeMikä ihmeen Vida?Milloin muutoksia on luvassa?Mikä kaikki muuttuu?Mitä tiedämme kansallisen lain muutoksista?\n\nMiten varautua muutokseen?\n\n\n\n\n\nKiinteistöinvestointien arvonlisäverotus muuttuuMilloin muutoksia on luvassa?Mitä tiedämme muutoksista?\n\nMiten varautua muutokseen?\n\n\n\n\n\nUusinta oikeuskäytäntöä mm.Rahoitusalan muutoksetKansainvälinen ketjukauppa\n\nTerveyden- ja sosiaalihuollon uudet ratkaisut\n\n\n\n\n\nMuutokset Verohallinnon arvonlisävero-ohjeissa\n\n\n\n\nKoulutus päättyy noin 15.30 \n\n\n\n………………………………………………………………………………….. \n\n\n\nKoulutuspäivän hinta:395 EUR + alv / osallistujaHinta sisältää koulutuksen ja materiaalin sähköisessä muodossa. \n\n\n\nOsallistujille lähetetään tarkemmat ohjeet ja materiaalit sähköpostitse ennen koulutusta.Ilmoittautumiset koulutuspäivään viimeistään13.5.2026 klo 17.00 mennessä. \n\n\n\nPeruutukset kuluitta 15 vrk ennen tilaisuutta. \n\n\n\nIlmoittautumiset ohjelmasivun yläosassa olevalla painikkeella\, puhelimella:010 4231 040 tai sähköpostilla: pk-koulutuskeskus@pk-koulutuskeskus.fi
URL:https://pk-koulutuskeskus.fi/event/arvonlisaveron-vahennysoikeudet-ja-arvonlisaveron-ajankohtaiskatsaus-webinaari-21-5-2026-klo-8-30-15-30/
ATTACH;FMTTYPE=image/jpeg:https://pk-koulutuskeskus.fi/wp-content/uploads/2023/10/LexAlvia_Eveliina.jpeg
END:VEVENT
END:VCALENDAR