BEGIN:VCALENDAR
VERSION:2.0
PRODID:-//PK-Koulutuskeskus Oy - ECPv6.8.2//NONSGML v1.0//EN
CALSCALE:GREGORIAN
METHOD:PUBLISH
X-WR-CALNAME:PK-Koulutuskeskus Oy
X-ORIGINAL-URL:https://pk-koulutuskeskus.fi
X-WR-CALDESC:Events for PK-Koulutuskeskus Oy
REFRESH-INTERVAL;VALUE=DURATION:PT1H
X-Robots-Tag:noindex
X-PUBLISHED-TTL:PT1H
BEGIN:VTIMEZONE
TZID:Europe/Helsinki
BEGIN:DAYLIGHT
TZOFFSETFROM:+0200
TZOFFSETTO:+0300
TZNAME:EEST
DTSTART:20260329T010000
END:DAYLIGHT
BEGIN:STANDARD
TZOFFSETFROM:+0300
TZOFFSETTO:+0200
TZNAME:EET
DTSTART:20261025T010000
END:STANDARD
END:VTIMEZONE
BEGIN:VEVENT
DTSTART;TZID=Europe/Helsinki:20260518T083000
DTEND;TZID=Europe/Helsinki:20260518T120000
DTSTAMP:20260423T204038
CREATED:20260320T083516Z
LAST-MODIFIED:20260320T083517Z
UID:10000124-1779093000-1779105600@pk-koulutuskeskus.fi
SUMMARY:Henkilökuntaedut verotuksessa WEBINAARI 18.5.2026 klo 8.30-12.00
DESCRIPTION:OTM Sari Wulff\, Johtava Asiantuntija\, Tulorekisteriyksikkö\, VerohallintoMaanantai 18.5.2026 klo 8.30-12.00Webinaari \n\n\n\nKoulutuspäivän hinta: 295 EUR + alv / osallistuja \n\n\n\nWEBINAARI TALLENNETAAN JA TALLENNE ON KATSOTTAVISSA 30 PÄIVÄN AJAN KOULUTUKSEN JÄLKEEN \n\n\n\nIlmoittautuminen 11.5.2026 mennessä! \n\n\n\n\n	\n	\n	\n	\n    \n\n	    \n            Ilmoittaudu koulutukseen\n        Ilmoittaudu koulutukseen\n    \n        		There were errors with your submission. Please try again.\n		\n        \n\n\n		\n\n	\n\n				\n				\n\n		\n		\n			\n			\n	\n		OSALLISTUJAN TIEDOT\n\n	Etunimi*\n	\n						\n									\n\n\n\n	Sukunimi*\n	\n						\n									\n\n\n\n	Email*\n	\n						\n									\n\n\n\n	Puhelin*\n	\n						\n									\n\n\n\n	Tehtävä yrityksessä\n	\n						\n									\n\nYRITYKSEN TIEDOT\n\n	Yritys tai yhteisö*\n	\n						\n									\n\n\n\n	Laskutusosoite*\n	\n						\n									\n\n\n\n	Verkkolaskuosoite\n	\n						\n									\n\n\n\n	Y-tunnus\n	\n						\n									\n\nLisätkää halutessanne yhteyshenkilön\, ilmoittajan tai lisäosallistujien nimet ja yhteystiedot sekä erityisruokavaliot yms. lisätietoja kenttään\n\n	Lisätietoja\n	\n				\n							\n\n\n\n	What is 2 + 3*\n	\n						\n									\n\n	\n		\n\n				\n			Address\n			\n				\n				If you are a human\, do not fill in this field \n			\n		\n\n		\n						\n					\n\n	\n\n	\n		\n	\n\n\n\n        	\n\n\n\n\n\nOHJELMA \n\n\n\nKoulutuksessa käsitellään erilaisten henkilökunnalle annettujen etujen verokohteluita ja sosiaalivakuuttamista. Koulutuksessa selvitetään\, mitä etuja on mahdollista antaa verovapaasti henkilöstölle ja millä edellytyksillä sekä mitä niiden suhteen on otettava huomioon. Koulutuksessa käsitellään henkilökuntaetuja ja luontoisetuja osana henkilöstön palkkaa. Verovapaiden henkilökuntaetujen myöntämisessä pitää täyttyä tietyt edellytykset. Tämän lisäksi työnantajalla on mahdollisuus tarjota veronalaisia luontoisetuja\, joiden edellytykset ja verotusarvot ovat erikseen määritelty. Näiden lisäksi työnantajan on mahdollista tarjota henkilöstölle myös osittain verovapaita luontoisetuja. Koulutuksessa käsitellään edellä mainittujen lisäksi myös veronalaisten etujen työnantajamenettelyt. \n\n\n\n8.30 – 9.00 Kirjautuminen webinaariin sähköpostin linkistä9.00 – 12.00 \n\n\n\n\nHenkilökuntaedut ja luontoisedut osana palkkaaMilloin on kyseessä luontoisetu tai henkilökuntaetu?Etu palkan päälle vai osana kokonaispalkkaa?Miten edun järjestämistapa vaikuttaa verotukseen ja sosiaalivakuuttamiseen?Henkilökuntaetujen edellytyksetVerovapaiden etujen yleiset edellytyksetKollektiiviset ja  yksilölliset edutVerovapaat  ja veronalaiset edutTyöterveys\, joulu- ym. lahjat\, virkistys- ja harrastustoiminta\, liikunta- ja kulttuuritoiminta ym.Etäyhteyden välityksellä tapahtuvat tilaisuudetMissä tilanteissa veronalaista etua ei muodostu?Veronalaiset luontoisedutLuontoisetujen yleiset edellytyksetAsuntoetu\, autoetu\, ravintoetu\, puhelinetu ym.Verohallinnon luontoisetupäätöksen mukaisten luontoisetujen arvostaminenMuiden luontoisetujen arvostaminenOsittain verovapaat luontoisedutTyösuhdematkalippu ja työsuhdepolkupyöräVeronalaisten etujen työnantajamenettelyt\n\nEnnakonpidätyksen toimittaminen\n\n\n\nSosiaalivakuuttaminen\n\n\n\n\n\n\n…………………………………………………………………………………..Koulutuspäivän hinta:295 EUR + alv / osallistuja \n\n\n\nHinta sisältää koulutuksen ja materiaalin sähköisessä muodossa. \n\n\n\nOsallistujille lähetetään tarkemmat ohjeet ja materiaalit sähköpostitse ennen koulutusta. \n\n\n\nIlmoittautumiset koulutuspäivään viimeistään11.5.2026 klo 17.00 mennessä. \n\n\n\nPeruutukset kuluitta 15 vrk ennen tilaisuutta. \n\n\n\nIlmoittautumiset ohjelmasivun yläosassa olevalla painikkeella\, puhelimella:010 4231 040 tai sähköpostilla: pk-koulutuskeskus@pk-koulutuskeskus.fi
URL:https://pk-koulutuskeskus.fi/event/henkilokuntaedut-verotuksessa-webinaari-18-5-2026-klo-8-30-12-00/
ATTACH;FMTTYPE=image/jpeg:https://pk-koulutuskeskus.fi/wp-content/uploads/2025/05/Sari_Wulff3_2025-1.jpg
END:VEVENT
END:VCALENDAR