BEGIN:VCALENDAR
VERSION:2.0
PRODID:-//PK-Koulutuskeskus Oy - ECPv6.8.2//NONSGML v1.0//EN
CALSCALE:GREGORIAN
METHOD:PUBLISH
X-WR-CALNAME:PK-Koulutuskeskus Oy
X-ORIGINAL-URL:https://pk-koulutuskeskus.fi
X-WR-CALDESC:Events for PK-Koulutuskeskus Oy
REFRESH-INTERVAL;VALUE=DURATION:PT1H
X-Robots-Tag:noindex
X-PUBLISHED-TTL:PT1H
BEGIN:VTIMEZONE
TZID:Europe/Helsinki
BEGIN:DAYLIGHT
TZOFFSETFROM:+0200
TZOFFSETTO:+0300
TZNAME:EEST
DTSTART:20260329T010000
END:DAYLIGHT
BEGIN:STANDARD
TZOFFSETFROM:+0300
TZOFFSETTO:+0200
TZNAME:EET
DTSTART:20261025T010000
END:STANDARD
END:VTIMEZONE
BEGIN:VEVENT
DTSTART;TZID=Europe/Helsinki:20260312T083000
DTEND;TZID=Europe/Helsinki:20260312T153000
DTSTAMP:20260423T204113
CREATED:20260202T073340Z
LAST-MODIFIED:20260202T073341Z
UID:10000118-1773304200-1773329400@pk-koulutuskeskus.fi
SUMMARY:Kansainvälisen kaupan arvonlisäverotuksen ajankohtaispäivä WEBINAARI 12.3.2026 klo 8.30-15.30
DESCRIPTION:KTM Eveliina Laakso\, Lecklé OyTorstai 12.3.2026 klo 8.30-15.30Webinaari \n\n\n\nKoulutuspäivän hinta: 395 EUR + alv / osallistuja \n\n\n\nWEBINAARI TALLENNETAAN JA TALLENNE ON KATSOTTAVISSA 30 PÄIVÄN AJAN KOULUTUKSEN JÄLKEEN! \n\n\n\nIlmoittautuminen 4.3.2026 mennessä! \n\n\n\n\n	\n	\n	\n	\n    \n\n	    \n    \n        Ilmoittautuminen tapahtumaan on päättynyt. \n        \n        	\n\n\n\n\n\nOHJELMA \n\n\n\nKansainvälisen kaupan arvonlisäverotus \n\n\n\nKansainvälisen kaupan arvonlisäverotus on usein haastavaa ja keskeisten periaatteiden osaaminen on ensiarvoisen tärkeää yrityksille\, jotka toimivat tai laajentavat toimintaansa kansainvälisille markkinoille. Tämä koulutus tarjoaa selkeän ja käytännönläheisen kokonaiskuvan tavara- ja palvelukaupan arvonlisäverotuksesta yritysten välisessä (B2B) kaupassa. \n\n\n\nSaat vastaukset muun muassa siihen: \n\n\n\n\nMillä perusteilla määritellään\, mihin maahan vero maksetaan?\n\n\n\nMitä tarkoittaa kiinteä toimipaikka?\n\n\n\nMiten tavaran ja palvelun käsitteet sekä verokohtelut eroavat toisistaan?\n\n\n\nMikä on yhteisömyynti\, entä vienti? Mitä erikoispiirteitä tulee huomioida?\n\n\n\nMikä merkitys toimituslausekkeilla on tavarakaupan verokohtelulle?\n\n\n\nMikä on tällä hetkellä ajankohtaista kansainvälisen kaupan arvonlisäverotuksessa?\n\n\n\n\nAamupäivän osuudessa käymme läpi kansainvälisen tavarakaupan keskeisiä periaatteita ja iltapäivällä keskitymme projektitoimituksiin sekä palvelukauppaan. Päivän päätteeksi otamme katsauksen kansainväliseen kauppaan ajankohtaisiin teemoihin.8.30 – 9.00 Kirjautuminen webinaariin sähköpostin linkistä \n\n\n\nAamupäivä 9.00 – 12.00 \n\n\n\nKansainvälisen kaupan arvonlisäverotuksen perusteet \n\n\n\nKansainvälisen arvonlisäverotuksen lähtökohdat \n\n\n\n\nSuorituksen alv-kohtelun ratkaiseminen ja myyntimaan määräytyminen\n\n\n\nKeskeisiä kansainvälisen kaupan käsitteitäTavaran ja palvelun käsiteLiittymis- ja jakamisperiaateKiinteä toimipaikka ja sen merkitys\n\nKäännetty verovelvollisuus\n\n\n\n\n\n\nKansainvälinen tavarakauppa \n\n\n\nTavarakaupan keskeiset periaatteet ja myyntimaan määräytyminen \n\n\n\nTavarakauppa EU:ssa \n\n\n\n\nTavaran yhteisömyyntiVerottomuuden edellytykset\n\nRaportointi ja laskumerkinnät\n\n\n\n\n\nTavaran yhteisöhankintaVerottomuuden edellytykset\n\nRaportointi ja laskumerkinnät\n\n\n\n\n\nTavarakaupan erityistilanteitaOman tavaran siirto ja varastot muissa EU-maissaToimituslausekkeiden merkitys\n\nKolmikantakauppa ja muut ketjukaupan tilanteet\n\n\n\n\n\nKäytännön esimerkkejä\n\n\n\n\nTavaran vienti ja maahantuonti \n\n\n\n\nTavaran vienti EU:n ulkopuolelleVerottomuuden edellytykset\n\nVientiin liittyviä erityistilanteita\n\n\n\n\n\nTavaran maahantuonti SuomessaMaahantuonnin veron peruste\n\nMaahantuonnin arvonlisäveron raportointi\n\n\n\n\n\n\nLounas 12.00 – 13.00 \n\n\n\nIltapäivä 13.00 – 15.30 \n\n\n\nKansainvälisen palvelukaupan arvonlisäverotus \n\n\n\nProjektitoimitusten arvonlisäverotus \n\n\n\n\nTavaran myynti asennettuna\n\n\n\nKeskeiset alv-kysymykset ja periaatteet\n\n\n\n\nPalvelukaupan arvonlisäverotuksen perusperiaatteet \n\n\n\n\nVerotuskohtelun ratkaiseminen\n\n\n\nPalveluiden myyntimaaPääsääntöPoikkeussäännösten piirissä olevat palvelutKäytännön esimerkkejä\n\nLaskumerkinnät ja raportointi\n\n\n\n\n\n\nKulujen edelleen veloitus kansainvälisessä kaupassa \n\n\n\n\nMitä tarkoitetaan kulujen edelleen veloituksella?\n\n\n\nTyypillisiä ongelmatilanteita\n\n\n\nKäytännön esimerkkejä\n\n\n\n\nAjankohtaista kansainvälisen kaupan arvonlisäverotuksesta \n\n\n\n\nViimeaikaista verotus- ja oikeuskäytäntöä\n\n\n\nVAT in Digital AgeMistä on kyse?\n\nMitkä ovat muutoksen tavoitteet?\n\n\n\nMitä tiedetään muutoksista ja aikataulusta?\n\n\n\n\n\n\nPäivä päättyy klo 15.30 \n\n\n\n………………………………………………………………………………….. \n\n\n\nKoulutuspäivän hinta:395 EUR + alv / osallistujaHinta sisältää koulutuksen ja materiaalin sähköisessä muodossa. \n\n\n\nOsallistujille lähetetään tarkemmat ohjeet ja materiaalit sähköpostitse ennen koulutusta.Ilmoittautumiset koulutuspäivään viimeistään12.3.2026 klo 17.00 mennessä. \n\n\n\nPeruutukset kuluitta 15 vrk ennen tilaisuutta. \n\n\n\nIlmoittautumiset ohjelmasivun yläosassa olevalla painikkeella\, puhelimella:010 4231 040 tai sähköpostilla: pk-koulutuskeskus@pk-koulutuskeskus.fi
URL:https://pk-koulutuskeskus.fi/event/kansainvalisen-kaupan-arvonlisaverotuksen-ajankohtaispaiva-webinaari-12-3-2026-klo-8-30-15-30/
ATTACH;FMTTYPE=image/jpeg:https://pk-koulutuskeskus.fi/wp-content/uploads/2023/10/LexAlvia_Eveliina.jpeg
END:VEVENT
END:VCALENDAR