BEGIN:VCALENDAR
VERSION:2.0
PRODID:-//PK-Koulutuskeskus Oy - ECPv6.8.2//NONSGML v1.0//EN
CALSCALE:GREGORIAN
METHOD:PUBLISH
X-WR-CALNAME:PK-Koulutuskeskus Oy
X-ORIGINAL-URL:https://pk-koulutuskeskus.fi
X-WR-CALDESC:Events for PK-Koulutuskeskus Oy
REFRESH-INTERVAL;VALUE=DURATION:PT1H
X-Robots-Tag:noindex
X-PUBLISHED-TTL:PT1H
BEGIN:VTIMEZONE
TZID:Europe/Helsinki
BEGIN:DAYLIGHT
TZOFFSETFROM:+0200
TZOFFSETTO:+0300
TZNAME:EEST
DTSTART:20250330T010000
END:DAYLIGHT
BEGIN:STANDARD
TZOFFSETFROM:+0300
TZOFFSETTO:+0200
TZNAME:EET
DTSTART:20251026T010000
END:STANDARD
END:VTIMEZONE
BEGIN:VEVENT
DTSTART;TZID=Europe/Helsinki:20251127T083000
DTEND;TZID=Europe/Helsinki:20251127T120000
DTSTAMP:20260424T034525
CREATED:20251028T123357Z
LAST-MODIFIED:20260128T072911Z
UID:10000110-1764232200-1764244800@pk-koulutuskeskus.fi
SUMMARY:Hankintalaki uudistuu WEBINAARI 27.11.2025 klo 8.30-12.00
DESCRIPTION:OTM Saila Eskola\, PTCServices OyTorstai 27.11.2025 klo 8.30-12.00Webinaari \n\n\n\nKoulutuspäivän hinta: 295 EUR + alv / osallistuja \n\n\n\nWEBINAARI TALLENNETAAN JA TALLENNE ON KATSOTTAVISSA 30 PÄIVÄN AJAN KOULUTUKSEN JÄLKEEN! \n\n\n\nIlmoittautuminen 27.11.2025 mennessä! \n\n\n\n\n	\n	\n	\n	\n    \n\n	    \n    \n        Ilmoittautuminen tapahtumaan on päättynyt. \n        \n        	\n\n\n\n\n\nOHJELMA \n\n\n\nHankintalakia uudistetaan jälleen! Hallituksen esitys uudesta hankintalaista julkaistaan marraskuussa 2025 ja muutokset tulevat voimaan 2026. Mitä muutoksia on tulossa ja miten muutokset vaikuttavat hankintojen tekemiseen käytännössä? Tervetuloa koulutukseen\, jossa saat selkeän kokonaiskuvan tulevista muutoksista: \n\n\n\n\nHallituksen esityksen keskeinen sisältö\n\n\n\nVaikutukset hankintaprosesseihin ja käytännön toimintaan\n\n\n\nLakiuudistuksen aikataulu ja siirtymäsäännökset\n\n\n\n\nKoulutus on suunnattu kaikille julkisten hankintojen parissa työskenteleville asiantuntijoille. \n\n\n\nIlmoittautuminen klo 8.30-9.00Koulutus klo 9.00-12.00 \n\n\n\nHankintalakiuudistus\n\n\n\n\nLakiuudistuksen aikataulu\n\n\n\nTaustat ja tavoitteet\n\n\n\nSidosyksikköhankinnat\n\n\n\nHankinnan valmistelu\n\n\n\nHankintasopimuksen jakaminen osiin\n\n\n\nKilpailutuksen uusimisvelvoite\n\n\n\nUudet poissulkuperusteet\n\n\n\nMuut kirjaukset: mm. huoltovarmuus ja turvallisuus\, hankintojen vastuullisuus\, sote-hankinnat\n\n\n\nOikeussuoja/muutoksenhaku\n\n\n\n\nKoulutus päättyy klo 12.00 \n\n\n\n \n\n\n\n \n\n\n\n…………………………………………………………………………………. \n\n\n\nKoulutuspäivän hinta:295 EUR + alv / osallistujaHinta sisältää koulutuksen ja materiaalin sähköisessä muodossa. \n\n\n\nOsallistujille lähetetään tarkemmat ohjeet ja materiaalit sähköpostitse ennen koulutusta.Ilmoittautumiset koulutuspäivään viimeistään27.11.2025 klo 9.00 mennessä. \n\n\n\nPeruutukset kuluitta 15 vrk ennen tilaisuutta. \n\n\n\nIlmoittautumiset ohjelmasivun yläosassa olevalla painikkeella\, puhelimella:010 4231 040 tai sähköpostilla: pk-koulutuskeskus@pk-koulutuskeskus.fi
URL:https://pk-koulutuskeskus.fi/event/hankintalain-uudistus-tutuksi-webinaari-27-11-2025-klo-8-30-12-00/
ATTACH;FMTTYPE=image/jpeg:https://pk-koulutuskeskus.fi/wp-content/uploads/2025/11/PTCS-Saila-Eskola-2573.jpg
END:VEVENT
END:VCALENDAR