BEGIN:VCALENDAR
VERSION:2.0
PRODID:-//PK-Koulutuskeskus Oy - ECPv6.8.2//NONSGML v1.0//EN
CALSCALE:GREGORIAN
METHOD:PUBLISH
X-ORIGINAL-URL:https://pk-koulutuskeskus.fi
X-WR-CALDESC:Events for PK-Koulutuskeskus Oy
REFRESH-INTERVAL;VALUE=DURATION:PT1H
X-Robots-Tag:noindex
X-PUBLISHED-TTL:PT1H
BEGIN:VTIMEZONE
TZID:Europe/Helsinki
BEGIN:DAYLIGHT
TZOFFSETFROM:+0200
TZOFFSETTO:+0300
TZNAME:EEST
DTSTART:20250330T010000
END:DAYLIGHT
BEGIN:STANDARD
TZOFFSETFROM:+0300
TZOFFSETTO:+0200
TZNAME:EET
DTSTART:20251026T010000
END:STANDARD
END:VTIMEZONE
BEGIN:VEVENT
DTSTART;TZID=Europe/Helsinki:20251029T083000
DTEND;TZID=Europe/Helsinki:20251029T160000
DTSTAMP:20260424T040455
CREATED:20250923T083301Z
LAST-MODIFIED:20251006T052436Z
UID:10000109-1761726600-1761753600@pk-koulutuskeskus.fi
SUMMARY:Rakentamisen tiedonantovelvollisuus ja veronumero WEBINAARI 29.10.2025 klo 8.30-12.00
DESCRIPTION:Johtava asiantuntija Pirkko Vuori\, VerohallintoKeskiiikko 29.10.2025 klo 8.30-12.00Webinaari \n\n\n\nKoulutuspäivän hinta: 295 EUR + alv / osallistuja \n\n\n\nWEBINAARI TALLENNETAAN JA TALLENNE ON KATSOTTAVISSA 30 PÄIVÄN AJAN KOULUTUKSEN JÄLKEEN \n\n\n\nIlmoittautuminen 29.10.2025 mennessä \n\n\n\n\n	\n	\n	\n	\n    \n\n	    \n    \n        Ilmoittautuminen tapahtumaan on päättynyt. \n        \n        	\n\n\n\n\n\nRakentamisen tiedonantovelvollisuus ja veronumero \n\n\n\nRakentamiseen liittyvä tiedonantovelvollisuus koskee kaikkia\, ei ainoastaan rakennusalan toimijoita. Tiedonantovelvollisuuteen kuuluu velvollisuus antaa urakkatiedot ja työntekijätiedot. \n\n\n\nKoulutuksessa käydään läpi lyhyesti yrityksiä koskeva tiedonantovelvollisuus kokonaisuudessaan ja keskitytään erityisesti erityistilanteisiin kuten kevytyrittäjiin\, ulkomaisiin tilanteisiin\, perustajaurakoitsijoihin sekä kerrotaan eri toimijoiden vastuita sanktioinnin näkökulmasta. Lisäksi käydään läpi rakennusalan veronumero ja julkisen veronumerorekisterin velvollisuudet ja vastuut. \n\n\n\nOHJELMA8.30 – 9.00 Kirjautuminen webinaariin sähköpostin linkistä9.00 – 12.00 \n\n\n\nRakentamisen tiedonantovelvollisuus ja veronumero \n\n\n\nUrakkailmoitus \n\n\n\n\nMistä pitää antaa urakkatiedot?\n\n\n\nTietojen toimittamisen erilaiset tavat ja niiden soveltaminen\n\n\n\nErityistilanteet\n\n\n\n\nVeronumero \n\n\n\n\nMiten veronumeron saa ja missä sitä pitää käyttää?\n\n\n\nJulkinen veronumerorekisteri\n\n\n\n\nTyöntekijätietojen antaminen \n\n\n\n\nMistä pitää antaa työntekijätiedot?\n\n\n\nMiten ilmoitetaan erilaiset työntekijät (ammatinharjoittajat\, vuokratyöntekijät jne…)\n\n\n\nPäätoteuttajan ja työnantajien roolit sekä vastuut ilmoittamisessa\n\n\n\nErityistilanteet\n\n\n\n\nTietojen korjaaminen urakka- ja työntekijätiedoissa \n\n\n\nLaiminlyöntimaksut \n\n\n\n\nsanktiot ja niiden eri tasot\n\n\n\n\nTilannekatsaus \n\n\n\n\nhavaintoja ja kokemuksia ilmoittamisesta\n\n\n\n\n \n\n\n\n………………………………………………………………………………….. \n\n\n\nKoulutuspäivän hinta:295 EUR + alv / osallistuja \n\n\n\nHinta sisältää koulutuksen ja materiaalin sähköisessä muodossa. \n\n\n\nOsallistujille lähetetään tarkemmat ohjeet ja materiaalit sähköpostitse ennen koulutusta. \n\n\n\nIlmoittautumiset koulutuspäivään viimeistään29.10.2025 klo 9.00 mennessä. \n\n\n\nPeruutukset kuluitta 15 vrk ennen tilaisuutta. \n\n\n\nIlmoittautumiset ohjelmasivun yläosassa olevalla painikkeella\, puhelimella:010 4231 040 tai sähköpostilla: pk-koulutuskeskus@pk-koulutuskeskus.fi
URL:https://pk-koulutuskeskus.fi/event/rakentamisen-tiedonantovelvollisuus-ja-veronumero-webinaari-29-10-2025-klo-8-30-12-00/
ATTACH;FMTTYPE=image/jpeg:https://pk-koulutuskeskus.fi/wp-content/uploads/2023/11/Pirkko_Vuori2.jpg
END:VEVENT
END:VCALENDAR