BEGIN:VCALENDAR
VERSION:2.0
PRODID:-//PK-Koulutuskeskus Oy - ECPv6.8.2//NONSGML v1.0//EN
CALSCALE:GREGORIAN
METHOD:PUBLISH
X-ORIGINAL-URL:https://pk-koulutuskeskus.fi
X-WR-CALDESC:Events for PK-Koulutuskeskus Oy
REFRESH-INTERVAL;VALUE=DURATION:PT1H
X-Robots-Tag:noindex
X-PUBLISHED-TTL:PT1H
BEGIN:VTIMEZONE
TZID:Europe/Helsinki
BEGIN:DAYLIGHT
TZOFFSETFROM:+0200
TZOFFSETTO:+0300
TZNAME:EEST
DTSTART:20250330T010000
END:DAYLIGHT
BEGIN:STANDARD
TZOFFSETFROM:+0300
TZOFFSETTO:+0200
TZNAME:EET
DTSTART:20251026T010000
END:STANDARD
END:VTIMEZONE
BEGIN:VEVENT
DTSTART;TZID=Europe/Helsinki:20250129T083000
DTEND;TZID=Europe/Helsinki:20250129T120000
DTSTAMP:20260424T201358
CREATED:20241220T123554Z
LAST-MODIFIED:20250128T102608Z
UID:10000072-1738139400-1738152000@pk-koulutuskeskus.fi
SUMMARY:Ennakkoperintä ja tulorekisterin ajankohtaiset asiat 2025 WEBINAARI 29.1.2025 klo 8.30-12.00
DESCRIPTION:OTM Sari Wulff\, Johtava Asiantuntija\, Tulorekisteriyksikkö\, VerohallintoKeskiviikko 29.1.2025 klo 8.30-12.00Webinaari \n\n\n\nKoulutuspäivän hinta: 295 EUR + alv / osallistuja \n\n\n\nIlmoittautuminen 29.1.2025 mennessä! \n\n\n\n\n	\n	\n	\n	\n    \n\n	    \n    \n        Ilmoittautuminen tapahtumaan on päättynyt. \n        \n        	\n\n\n\n\n\nOHJELMA \n\n\n\n \n\n\n\n8.30 – 9.00 Kirjautuminen webinaariin sähköpostin linkistä9.00 – 12.00 \n\n\n\nVerolainsäädännön muutokset \n\n\n\n\nVeroperusteet\n\n\n\nTuloverolain muut muutokset\n\n\n\nTyönantajan ja työntekijän sosiaalivakuutusmaksut v. 2025\n\n\n\n\nEnnakkoperintä 2025 \n\n\n\n\nVerokorttien uudistettu voimaantulo ja alkuvuoden menettely\n\n\n\nEnnakonpidätystiedot työnantajalle\n\n\n\nLuontoisedut ja kustannusten korvaukset\n\n\n\nVuodelta 2024 annettavat vuosi-ilmoitukset\n\n\n\n\nAjankohtaista tulorekisteristä \n\n\n\n\nVuoden 2025 alusta käyttöön tulevat muutokset\n\n\n\nPoissaolotietojen ilmoittaminen\n\n\n\nUudet ja muuttuneet ohjeet tulorekisteri-ilmoittamisesta\n\n\n\nUsein kysytyt kysymykset\, mm. polkupyöräedun ilmoittamisen ongelmakohdat\n\n\n\n\nAjankohtaista verotuksesta \n\n\n\n\nHenkilökuntaetujen uusi ohjeistus\n\n\n\nTärkeimmät tärpit matkakustannusten korvauksista\n\n\n\nMuut uudet ja päivitetyt ohjeet ja kannanotot\n\n\n\nViimeaikaista oikeuskäytäntöä\n\n\n\n\n \n\n\n\n…………………………………………………………………………………..Koulutuspäivän hinta:295 EUR + alv / osallistuja \n\n\n\nHinta sisältää koulutuksen ja materiaalin sähköisessä muodossa. \n\n\n\nOsallistujille lähetetään tarkemmat ohjeet ja materiaalit sähköpostitse ennen koulutusta. \n\n\n\nIlmoittautumiset koulutuspäivään viimeistään29.1.2025 klo 9.00 mennessä. \n\n\n\nPeruutukset kuluitta 15 vrk ennen tilaisuutta. \n\n\n\nIlmoittautumiset ohjelmasivun yläosassa olevalla painikkeella\, puhelimella:010 4231 040 tai sähköpostilla: pk-koulutuskeskus@pk-koulutuskeskus.fi
URL:https://pk-koulutuskeskus.fi/event/ennakkoperinta-ja-tulorekisterin-ajankohtaiset-asiat-2025-webinaari-29-1-2025-klo-8-30-12-00/
ATTACH;FMTTYPE=image/jpeg:https://pk-koulutuskeskus.fi/wp-content/uploads/2023/11/sari_wulff.jpg
END:VEVENT
END:VCALENDAR