BEGIN:VCALENDAR
VERSION:2.0
PRODID:-//PK-Koulutuskeskus Oy - ECPv6.8.2//NONSGML v1.0//EN
CALSCALE:GREGORIAN
METHOD:PUBLISH
X-WR-CALNAME:PK-Koulutuskeskus Oy
X-ORIGINAL-URL:https://pk-koulutuskeskus.fi
X-WR-CALDESC:Events for PK-Koulutuskeskus Oy
REFRESH-INTERVAL;VALUE=DURATION:PT1H
X-Robots-Tag:noindex
X-PUBLISHED-TTL:PT1H
BEGIN:VTIMEZONE
TZID:Europe/Helsinki
BEGIN:DAYLIGHT
TZOFFSETFROM:+0200
TZOFFSETTO:+0300
TZNAME:EEST
DTSTART:20240331T010000
END:DAYLIGHT
BEGIN:STANDARD
TZOFFSETFROM:+0300
TZOFFSETTO:+0200
TZNAME:EET
DTSTART:20241027T010000
END:STANDARD
END:VTIMEZONE
BEGIN:VEVENT
DTSTART;TZID=Europe/Helsinki:20240918T083000
DTEND;TZID=Europe/Helsinki:20240918T153000
DTSTAMP:20260425T044422
CREATED:20240625T102346Z
LAST-MODIFIED:20240909T051344Z
UID:10000063-1726648200-1726673400@pk-koulutuskeskus.fi
SUMMARY:Arvonlisäveron vähennysoikeudet ja arvonlisäveron ajankohtaiskatsaus WEBINAARI 18.9.2024 klo 8.30-15.30
DESCRIPTION:KTM Eveliina Laakso\, Lecklé OyKeskiviikko 18.9.2024 klo 8.30-15.30Webinaari \n\n\n\nKoulutuspäivän hinta: 395 EUR + alv / osallistuja \n\n\n\nIlmoittautuminen 18.9.2024 mennessä! \n\n\n\n\n	\n	\n	\n	\n    \n\n	    \n    \n        Ilmoittautuminen tapahtumaan on päättynyt. \n        \n        	\n\n\n\n\n\nOHJELMA \n\n\n\nArvonlisäveron vähennysoikeudet ja arvonlisäveron ajankohtaiskatsaus \n\n\n\nAamupäivän osuudessa käymme läpi arvonlisäveron vähennysoikeuteen liittyviä kysymyksiä ja keskeisiä periaatteita. Iltapäivän osuudessa painopiste on arvonlisäveron ajankohtaisissa kysymyksissä – verokantamuutoksessa\, digitaaliajan arvonlisäverotuksessa sekä kiinteistöinvestointien muuttuvassa verotuksessa. Osa muutoksista tulee todennäköisesti voimaan vielä tämän vuoden puolella. Erityisesti verokantojen osalta siirtymävaiheessa on syytä kiinnittää huomioita verokantojen oikeellisuuteen ja säännöt verokannan määräytymisen osalta on syytä olla selvillä. \n\n\n\nTule kuulemaan\, mitä tiedämme arvonlisäverotukseen tulleista ja tulossa olevista muutoksista sekä saamaan vinkit muutoksiin valmistautumiseen! \n\n\n\nAamu- ja iltapäivän osuudet ovat itsenäisiä ja voit ilmoittautua vain toiseen osuuteen hintaan 295 eur + alv.8.30 – 9.00 Kirjautuminen webinaariin sähköpostin linkistä \n\n\n\nAamupäivä klo 9.00 – 12.00 \n\n\n\n\nArvonlisäveron vähennysoikeuden perusperiaatteet ja tyypillisimmät rajanvetotilanteet\n\n\n\nVähennysoikeuden yleiset edellytykset ja rajoituksetVähennysoikeuden yleiset edellytyksetVähennysoikeuden rajoitukset\n\nLasku vähennysoikeuden edellytyksenä\n\n\n\n\n\nYleiskulujen vähennysoikeus\n\n\n\nHenkilöstö- ja edustuskulut arvonlisäverotuksessaHenkilöstökulujen vähennysoikeusEdustus- ja markkinointikulujen rajanvetotilanteet\n\nMuita rajanvetotilanteita\n\n\n\n\n\n\n\n\n\n\n\n\nLounas klo 12.00 – 13.00 \n\n\n\nIltapäivä klo 13.00 – 15.30 \n\n\n\n\nArvonlisäverokantojen muutos 1.9.2024 ja 1.1.2025 – mitä huomioida muutoksesta?Mikä muuttuu ja miten?Muutoksen käytännön vaikutuksia\n\nMitä verokantaa tulee soveltaa?Tavaran luovutus ja palveluiden suoritus (ml. jatkuvana suorituksena myydyt palvelut)Projektit ja urakatEnnakkomaksutHyvitykset\, alennukset yms.\n\nUlkomaan ostolaskut\n\n\n\n\n\n\n\nMuita ajankohtaisia nostoja arvonlisäveron vähennysoikeudestaVAT in Digital AgeKiinteistöinvestoitien arvonlisäverotuksen muutoksetUusinta verotus- ja oikeuskäytäntöä\n\nMuuta ajankohtaista\n\n\n\n\n\n\nKoulutus päättyy noin 15.30 \n\n\n\n………………………………………………………………………………….. \n\n\n\nKoulutuspäivän hinta:395 EUR + alv / osallistujaHinta sisältää koulutuksen ja materiaalin sähköisessä muodossa. \n\n\n\nOsallistujille lähetetään tarkemmat ohjeet ja materiaalit sähköpostitse ennen koulutusta.Ilmoittautumiset koulutuspäivään viimeistään18.9.2024 klo 8.00 mennessä. \n\n\n\nPeruutukset kuluitta 15 vrk ennen tilaisuutta. \n\n\n\nIlmoittautumiset ohjelmasivun yläosassa olevalla painikkeella\, puhelimella:010 4231 040 tai sähköpostilla: pk-koulutuskeskus@pk-koulutuskeskus.fi
URL:https://pk-koulutuskeskus.fi/event/arvonlisaveron-vahennysoikeudet-ja-arvonlisaveron-ajankohtaiskatsaus-webinaari-18-9-2024-klo-8-30-15-30/
ATTACH;FMTTYPE=image/jpeg:https://pk-koulutuskeskus.fi/wp-content/uploads/2023/10/LexAlvia_Eveliina.jpeg
END:VEVENT
END:VCALENDAR