BEGIN:VCALENDAR
VERSION:2.0
PRODID:-//PK-Koulutuskeskus Oy - ECPv6.8.2//NONSGML v1.0//EN
CALSCALE:GREGORIAN
METHOD:PUBLISH
X-ORIGINAL-URL:https://pk-koulutuskeskus.fi
X-WR-CALDESC:Events for PK-Koulutuskeskus Oy
REFRESH-INTERVAL;VALUE=DURATION:PT1H
X-Robots-Tag:noindex
X-PUBLISHED-TTL:PT1H
BEGIN:VTIMEZONE
TZID:Europe/Helsinki
BEGIN:DAYLIGHT
TZOFFSETFROM:+0200
TZOFFSETTO:+0300
TZNAME:EEST
DTSTART:20240331T010000
END:DAYLIGHT
BEGIN:STANDARD
TZOFFSETFROM:+0300
TZOFFSETTO:+0200
TZNAME:EET
DTSTART:20241027T010000
END:STANDARD
END:VTIMEZONE
BEGIN:VEVENT
DTSTART;TZID=Europe/Helsinki:20240411T083000
DTEND;TZID=Europe/Helsinki:20240411T120000
DTSTAMP:20260425T133717
CREATED:20240318T115723Z
LAST-MODIFIED:20240320T080202Z
UID:10000028-1712824200-1712836800@pk-koulutuskeskus.fi
SUMMARY:Tulorekisterin perusteet\, ilmoittaminen ja korjaukset  WEBINAARI 11.4.2024 klo 08.30-12.00
DESCRIPTION:OTM Sari Wulff\, Johtava Asiantuntija\, Tulorekisteriyksikkö\, VerohallintoTorstai 11.4.2024 klo 08.30-12.00Webinaari \n\n\n\nKoulutuspäivän hinta: 295 EUR + alv / osallistuja \n\n\n\nIlmoittautuminen 4.4.2024 mennessä \n\n\n\n\n	\n	\n	\n	\n    \n\n	    \n    \n        Ilmoittautuminen tapahtumaan on päättynyt. \n        \n        	\n\n\n\n\n\nOHJELMA \n\n\n\nKoulutuksessa käydään läpi tulorekisterin perusteet ja toiminta käytännönläheisesti. Koulutuksessa käsitellään mm. mitkä tiedot ja miten tiedot on ilmoitettava tulorekisteriin. Lisäksi koulutuksessa käsitellään tietojen korjaamisen logiikka\, taannehtivat korjaukset ja lisämaksujen sekä liikasuoritusten ilmoittaminen. Tämän lisäksi käsitellään työnantajan erillisilmoituksen antaminen sekä tietojen luovuttaminen tulorekisteristä. \n\n\n\nKouluttajana tilaisuudessa toimii maan kärkiasiantuntija\, tulorekisteriuudistuksessa alusta asti mukana ollut tulorekisteriyksikön johtava asiantuntija Sari Wulff Verohallinnosta.08.30 – 09.00 Kirjautuminen webinaariin sähköpostin linkistä09.00 – 12.00 \n\n\n\n\nMitkä tiedot on ilmoitettava tulorekisteriin?\n\npakolliset ja täydentävät tiedot ja niiden erot\n\n\n\ntietojen ilmoittamisen ajankohta ja poikkeukset reaaliaikaisesta ilmoittamisesta\n\n\n\n\n\nKenelle tietoja luovutetaan tulorekisteristä?\n\ntulorekisterin käytön edellytykset\n\n\n\n\n\nMiten tiedot ilmoitetaan?\n\neri ilmoituskanavien käyttö ja niiden vaatimukset\n\n\n\n\n\nTietojen korjaaminen\n\ntietojen korjaamisen logiikka\n\n\n\ntaannehtivat korjaukset\n\n\n\nlisämaksut sekä liikasuoritusten ja takaisinperittyjen tulojen ilmoittaminen\n\n\n\n\n\nTyönantajan erillisilmoituksen antaminen\n\nilmoituksella annettavat tiedot\n\n\n\n\n\nMaksajan raportit\n\n\n\nVastauksia osallistujien kysymyksiin\n\n\n\n\n…………………………………………………………………………………..Koulutuspäivän hinta:295 EUR + alv / osallistuja \n\n\n\nHinta sisältää koulutuksen ja materiaalin sähköisessä muodossa. \n\n\n\nOsallistujille lähetetään tarkemmat ohjeet ja materiaalit sähköpostitse ennen koulutusta. \n\n\n\nIlmoittautumiset koulutuspäivään viimeistään4.4.2024 klo 17.00 mennessä. \n\n\n\nPeruutukset kuluitta 15 vrk ennen tilaisuutta. \n\n\n\nIlmoittautumiset ohjelmasivun yläosassa olevalla painikkeella\, puhelimella:010 4231 040 tai sähköpostilla: pk-koulutuskeskus@pk-koulutuskeskus.fi
URL:https://pk-koulutuskeskus.fi/event/tulorekisteriin-ilmoittaminen-ja-takautuvat-korjaukset-webinaari-11-4-2024-klo-08-30-12-00/
ATTACH;FMTTYPE=image/jpeg:https://pk-koulutuskeskus.fi/wp-content/uploads/2023/11/sari_wulff.jpg
END:VEVENT
END:VCALENDAR