BEGIN:VCALENDAR
VERSION:2.0
PRODID:-//PK-Koulutuskeskus Oy - ECPv6.8.2//NONSGML v1.0//EN
CALSCALE:GREGORIAN
METHOD:PUBLISH
X-WR-CALNAME:PK-Koulutuskeskus Oy
X-ORIGINAL-URL:https://pk-koulutuskeskus.fi
X-WR-CALDESC:Events for PK-Koulutuskeskus Oy
REFRESH-INTERVAL;VALUE=DURATION:PT1H
X-Robots-Tag:noindex
X-PUBLISHED-TTL:PT1H
BEGIN:VTIMEZONE
TZID:Europe/Helsinki
BEGIN:DAYLIGHT
TZOFFSETFROM:+0200
TZOFFSETTO:+0300
TZNAME:EEST
DTSTART:20230326T010000
END:DAYLIGHT
BEGIN:STANDARD
TZOFFSETFROM:+0300
TZOFFSETTO:+0200
TZNAME:EET
DTSTART:20231029T010000
END:STANDARD
END:VTIMEZONE
BEGIN:VEVENT
DTSTART;TZID=Europe/Helsinki:20231130T083000
DTEND;TZID=Europe/Helsinki:20231130T120000
DTSTAMP:20260425T205258
CREATED:20231023T122505Z
LAST-MODIFIED:20240206T070345Z
UID:10000014-1701333000-1701345600@pk-koulutuskeskus.fi
SUMMARY:Käännetty arvonlisäverovelvollisuus – Reverse charge WEBINAARI 30.11.2023 klo 8.30-12.00
DESCRIPTION:KTM Eveliina Laakso\, Lecklé Oy  Torstai 30.11.2023 klo 8.30-12.00 Webinaari  \n\n\n\nKoulutuspäivän hinta: 295 EUR + alv / osallistuja  \n\n\n\nIlmoittautuminen 23.11.2023 mennessä! \n\n\n\n\n	\n	\n	\n	\n    \n\n	    \n    \n        Ilmoittautuminen tapahtumaan on päättynyt. \n        \n        	\n\n\n\n\n\nOHJELMA \n\n\n\nKäännetty verovelvollisuus – Reverse charge   \n\n\n\nKoulutus antaa sinulle kokonaiskuvan niistä tilanteista\, joissa Suomen arvonlisäverotuksessa sovelletaan käännettyä verovelvollisuutta. Toisin sanoen tilanteista\, joissa ostaja on velvollinen suorittamaan arvonlisäveroa myyjän sijaan. Koulutuksen jälkeen tunnistat käännetyn arvonlisäveron soveltamistilanteet sekä tiedät\, mitä velvoitteita niiden raportointiin liittyy.08.30 – 09.00 Kirjautuminen webinaariin sähköpostin linkistä \n\n\n\nAamupäivä klo 9.00 – 12.00 \n\n\n\nYleistä käännetystä verovelvollisuudesta \n\n\n\n\nMikä on käännetty arvonlisäverovelvollisuus?\n\n\n\nMihin käännettyä arvonlisäveroa sovelletaan?\n\n\n\nKäännetty verovelvollisuus EU:ssa ja EU:n ulkopuolella\n\n\n\n\nKäännetty arvonlisäverovelvollisuus Suomessa – kansainvälisen kaupan tilanteet \n\n\n\n\nKäännetyn verovelvollisuuden soveltamisala\n\n\n\nMyyntimaasäännökset lyhyesti\n\n\n\nEsimerkkejä\n\n\n\nRaportointivelvollisuudet\n\n\n\n\nKäännetty verovelvollisuus Suomessa – muut tilanteet \n\n\n\n\nRakentamispalveluiden käännetty verovelvollisuus\n\n\n\nMetallijätteen ja -romun käännetty verovelvollisuus\n\n\n\nEsimerkkejä\n\n\n\nRaportointivelvollisuudet\n\n\n\n\nPäivä päättyy 12.00 \n\n\n\n………………………………………………………………………………….. \n\n\n\nKoulutuspäivän hinta:295 EUR + alv / osallistujaHinta sisältää koulutuksen ja materiaalin sähköisessä muodossa. \n\n\n\nOsallistujille lähetetään tarkemmat ohjeet ja materiaalit sähköpostitse ennen koulutusta.Ilmoittautumiset koulutuspäivään viimeistään23.11.2023 klo 17.00 mennessä. \n\n\n\nPeruutukset kuluitta 15 vrk ennen tilaisuutta. \n\n\n\nIlmoittautumiset ohjelmasivun yläosassa olevalla painikkeella\, puhelimella:010 4231 040 tai sähköpostilla: pk-koulutuskeskus@pk-koulutuskeskus.fi
URL:https://pk-koulutuskeskus.fi/event/kaannetty-arvonlisaverovelvollisuus-reverse-charge-webinaari-30-11-2023-klo-8-30-12-00/
ATTACH;FMTTYPE=image/jpeg:https://pk-koulutuskeskus.fi/wp-content/uploads/2023/10/LexAlvia_Eveliina.jpeg
END:VEVENT
END:VCALENDAR