BEGIN:VCALENDAR
VERSION:2.0
PRODID:-//PK-Koulutuskeskus Oy - ECPv6.8.2//NONSGML v1.0//EN
CALSCALE:GREGORIAN
METHOD:PUBLISH
X-ORIGINAL-URL:https://pk-koulutuskeskus.fi
X-WR-CALDESC:Events for PK-Koulutuskeskus Oy
REFRESH-INTERVAL;VALUE=DURATION:PT1H
X-Robots-Tag:noindex
X-PUBLISHED-TTL:PT1H
BEGIN:VTIMEZONE
TZID:Europe/Helsinki
BEGIN:DAYLIGHT
TZOFFSETFROM:+0200
TZOFFSETTO:+0300
TZNAME:EEST
DTSTART:20230326T010000
END:DAYLIGHT
BEGIN:STANDARD
TZOFFSETFROM:+0300
TZOFFSETTO:+0200
TZNAME:EET
DTSTART:20231029T010000
END:STANDARD
END:VTIMEZONE
BEGIN:VEVENT
DTSTART;TZID=Europe/Helsinki:20231128T083000
DTEND;TZID=Europe/Helsinki:20231128T153000
DTSTAMP:20260425T205421
CREATED:20231023T122147Z
LAST-MODIFIED:20240206T070448Z
UID:10000012-1701160200-1701185400@pk-koulutuskeskus.fi
SUMMARY:Kuntien arvonlisäverotus WEBINAARI 28.11.2023 klo 8.30-15.30
DESCRIPTION:KTM Eveliina Laakso\, Lecklé OyTiistai 28.11.2023 klo 8.30-15.30Webinaari \n\n\n\nKoulutuspäivän hinta: 395 EUR + alv / osallistuja \n\n\n\nIlmoittautuminen 21.11.2023 mennessä! \n\n\n\n\n	\n	\n	\n	\n    \n\n	    \n    \n        Ilmoittautuminen tapahtumaan on päättynyt. \n        \n        	\n\n\n\n\n\nOHJELMA \n\n\n\nKuntien ja hyvinvointialueiden arvonlisäverotus – ostojen ja kiinteistöjen ajankohtaiset kysymykset \n\n\n\nKoulutuspäivässä keskitytään kuntien ja hyvinvointialueiden tekemien hankintojen arvonlisäverokäsittelyn perusperiaatteisiin.  Aamupäivällä koulutuksessa käydään läpi arvonlisäverotusta ostojen näkökulmasta. Tarkastelun kohteena ovat ennen kaikkea vähennys- ja kuntapalautusoikeuteen liittyvät kysymykset sekä laskennallinen palautus. Iltapäivän osuus keskittyy puolestaan kiinteistöihin liittyviin kysymyksiin ja erityisesti kiinteistöihin kohdistuvien hankintojen arvonlisäverokäsittelyyn. Iltapäivän osuudessa on myös katsaus rakentamisen käännetyn arvonlisäverovelvollisuuden keskeisiin periaatteisiin sekä kiinteistöhallintapalveluiden oman käytön verotukseen. Aamu- ja iltapäivän osuudet ovat erillisiä ja itsenäisiä kokonaisuuksia\, joten mahdollisuus on osallistuva vain toiseen koulutuksista hintaan 295 eur + alv.08.30 – 09.00 Kirjautuminen webinaariin sähköpostin linkistä \n\n\n\nAamupäivä 9-12 \n\n\n\nOstojen arvonlisäverokäsittely \n\n\n\nKuntien ja hyvinvointialueiden arvonlisäverotuksen lähtökohdat \n\n\n\n\nAsema arvonlisäverotuksessa\n\n\n\nHankintojen arvonlisäverokäsittely – pääperiaatteet\n\n\n\n\nOstojen vähennys- ja kuntapalautusoikeus sekä niiden rajoitukset \n\n\n\n\nVähennysoikeus vai kuntapalautusoikeus?\n\nVähennykseen oikeuttava toiminta\n\n\n\nKuntapalautukseen oikeuttava toiminta\n\n\n\n\n\nVähennys- ja kuntapalautusoikeuden rajoitukset\n\nYleiset periaatteet\n\n\n\nEdustuskulut ja henkilöstömenot\n\n\n\nKiinteistöihin kohdistuvat hankinnat\n\n\n\n\n\nLasku vähennysoikeuden edellytyksenä\n\n\n\nYleiskulujen jakaminen\n\n\n\n\nLaskennallinen palautus \n\n\n\n\nLaskennalliseen palautuksen edellytykset\n\n\n\nLaskumerkinnät ja niiden merkitys\n\n\n\nMuutamia ajankohtaisia kysymyksiä\n\n\n\n\nIltapäivä 13-15:30 \n\n\n\nKiinteistöihin kohdistuvat hankinnat \n\n\n\nKiinteistöjen arvonlisäverotuksen lähtökohdat \n\n\n\n\nKiinteistöjen omistusmuodot\n\n\n\nKiinteistön määritelmä lyhyesti\n\n\n\n\nKiinteistöjen loppukäyttö ja vähennysoikeus \n\n\n\n\nKiinteistön tosiasiallinen loppukäyttö ratkaisee\n\n\n\nArvonlisäverollinen kiinteistön käyttöoikeuden luovutus lyhyesti\n\n\n\nVuokraus hyvinvointialueille\n\n\n\nLasku ja laskun merkitys\n\n\n\nEnergiavähennys\n\n\n\n\nKiinteistöinvestointien arvonlisäverotus \n\n\n\n\nKiinteistöinvestointi ja tarkistamaismenettely\n\n\n\nTarkistuksen laskeminen\n\n\n\nKiinteistöinvestointien huomioiminen kiinteistön kaupassa\n\n\n\n\nRakentamisen käännetty arvonlisäverotus – ostojen näkökulma \n\n\n\n\nSoveltamisala lyhyesti\n\n\n\nMerkitys käytännössä ja erityiset huomioitavat seikat\n\n\n\nRakentamispalvelun määritelmä\n\n\n\nMilloin ei ole sovellettava käännettyä verovelvollisuutta?\n\n\n\n\nKiinteistöhallintapalveluiden oman käytön verotus \n\n\n\n\nKiinteistöhallintapalvelun määritelmä\n\n\n\nVeron peruste\n\n\n\n\nPäivä päättyy noin 15:30 \n\n\n\n………………………………………………………………………………….. \n\n\n\nKoulutuspäivän hinta:395 EUR + alv / osallistujaHinta sisältää koulutuksen ja materiaalin sähköisessä muodossa. \n\n\n\nOsallistujille lähetetään tarkemmat ohjeet ja materiaalit sähköpostitse ennen koulutusta.Ilmoittautumiset koulutuspäivään viimeistään21.11.2023 klo 17.00 mennessä. \n\n\n\nPeruutukset kuluitta 15 vrk ennen tilaisuutta. \n\n\n\nIlmoittautumiset ohjelmasivun yläosassa olevalla painikkeella\, puhelimella:010 4231 040 tai sähköpostilla: pk-koulutuskeskus@pk-koulutuskeskus.fi
URL:https://pk-koulutuskeskus.fi/event/kuntien-arvonlisaverotus-webinaari-28-11-2023-klo-8-30-15-30/
ATTACH;FMTTYPE=image/jpeg:https://pk-koulutuskeskus.fi/wp-content/uploads/2023/10/LexAlvia_Eveliina.jpeg
END:VEVENT
END:VCALENDAR