BEGIN:VCALENDAR
VERSION:2.0
PRODID:-//PK-Koulutuskeskus Oy - ECPv6.8.2//NONSGML v1.0//EN
CALSCALE:GREGORIAN
METHOD:PUBLISH
X-WR-CALNAME:PK-Koulutuskeskus Oy
X-ORIGINAL-URL:https://pk-koulutuskeskus.fi
X-WR-CALDESC:Events for PK-Koulutuskeskus Oy
REFRESH-INTERVAL;VALUE=DURATION:PT1H
X-Robots-Tag:noindex
X-PUBLISHED-TTL:PT1H
BEGIN:VTIMEZONE
TZID:Europe/Helsinki
BEGIN:DAYLIGHT
TZOFFSETFROM:+0200
TZOFFSETTO:+0300
TZNAME:EEST
DTSTART:20230326T010000
END:DAYLIGHT
BEGIN:STANDARD
TZOFFSETFROM:+0300
TZOFFSETTO:+0200
TZNAME:EET
DTSTART:20231029T010000
END:STANDARD
END:VTIMEZONE
BEGIN:VEVENT
DTSTART;TZID=Europe/Helsinki:20231102T083000
DTEND;TZID=Europe/Helsinki:20231102T120000
DTSTAMP:20260425T224819
CREATED:20231023T121134Z
LAST-MODIFIED:20240206T070721Z
UID:10000006-1698913800-1698926400@pk-koulutuskeskus.fi
SUMMARY:Rakentamisen tiedonantovelvollisuus ja veronumero WEBINAARI 2.11.2023 klo 8.30-12.00
DESCRIPTION:Ylitarkastaja Pirkko Vuori\, VerohallintoTorstai 2.11.2023 klo 8.30-12.00Webinaari \n\n\n\nKoulutuspäivän hinta: 295 EUR + alv / osallistuja \n\n\n\n\n	\n	\n	\n	\n    \n\n	    \n    \n        Ilmoittautuminen tapahtumaan on päättynyt. \n        \n        	\n\n\n\n\n\nRakentamisen tiedonantovelvollisuus ja veronumero \n\n\n\nRakentamiseen liittyvä tiedonantovelvollisuus koskee kaikkia\, ei ainoastaan rakennusalan toimijoita. Riippumatta siitä onko sopimuskumppani yksityinen tai julkinen taho\, kotimainen tai ulkomainen toimija – koskee tiedonantovelvollisuus kaikkia. \n\n\n\nTiedonantovelvollisuuteen kuuluu velvollisuus antaa urakkatiedot ja työntekijätiedot sekä valvoa veronumeroa. Koulutuksessa keskitytään tiedonantovelvollisuuden ja veronumeron käytännön tilanteisiin sekä soveltamiseen lukuisten esimerkkien avulla. Käymme konkreettisesti läpi miten menettelyä tulkitaan ja miten ilmoittaminen sekä korjaaminen tehdään oikein. Otamme myös käsittelyyn tiedonantovelvollisuuden erityistilanteita päivän polttavista ilmiöistä kuten kevytyrittäjät\, ulkomaiset tilanteet ja vuokratyövoiman tilanteet. \n\n\n\nRakentamisen tiedonantovelvollisuuden perusteita ei käsitellä tässä koulutuksessa vaan keskitymme enemmän erityistilanteisiin ja soveltamiseen. Perusasiat käsitellään koulutuksessa Rakentamisen tiedonantovelvollisuus\, veronumero ja tilaajavastuulaki. \n\n\n\nOHJELMA \n\n\n\n8.30 – 9.00 Kirjautuminen webinaariin sähköpostin linkistä \n\n\n\n9.00 – 12.00 \n\n\n\nRakentamisen tiedonantovelvollisuus ja veronumero \n\n\n\n Urakkailmoitus \n\n\n\n\nIlmoittamisen tyypillisimmät virhetilanteet\n\nilmoitusten oikea-aikaisuus\n\nmilloin ilmoitukset on annettu ajallaan ja oikean sisältöisenä\n\n\n\n\n\noikeista sopimuksista ilmoittaminen mm.\n\nrakentamispalvelun tulkinta\n\n\n\ntyövoiman vuokrauksen tulkinta\n\n\n\nulkomaiset toimijat\n\n\n\n\n\nerityistilanteet ja ilmiöt\n\ntakuukorjausten oikea ilmoittaminen\n\n\n\nperustajaurakointi\n\n\n\nkevytyrittäjät\n\n\n\n\n\n\n\nTietojen toimittamisen erilaiset tavat ja niiden soveltaminen\n\nUrakkatiedot annetaan sopimus- tai työmaakohtaisesti\n\n\n\nTietojen antaminen erilaisissa sopimustilanteissa (tuntiveloitus\, puitesopimus\, yms tilanteet)\n\n\n\nAlarajan soveltaminen eri tilanteissa\n\n\n\n\n\n\n Veronumero \n\n\n\n\nUlkomaiselle henkilölle henkilötunnus ja veronumero\n\nMitä eroa on eri viranomaisten antamilla henkilötunnuksilla?\n\n\n\nVeronumero ja henkilötunnus verotoimistosta\n\nhenkilötunnuksen hakeminen ja tarvittavat tiedot\n\nvaadittavat asiakirjat ja rekisteröinnin tiedot\n\n\n\n\n\nveronumero ulkomaisissa tilanteissa\n\n\n\nmitä tietoja rekisteröintiin tarvitaan\n\n\n\n\n\nHenkilötunnuksen saamisen edellytykset\n\n\n\n\n\nVeronumeron valvonta\n\nValvontavastuut veronumerossa\n\n\n\nVeronumero ja erityisasiantuntijat\n\n\n\nMiten veronumeron saa ja missä sitä pitää käyttää?\n\nkuvallinen henkilötunniste\, sen käyttö ja sisältö\n\n\n\n\n\nLaivanrakennus- ja rakennusalan veronumeron rekisteröiminen\n\n\n\nVeronumerorekisteristä poistaminen\n\nVeronumerorekisterin poistamisen säännökset laivanrakennus- ja rakennusalalla\n\n\n\n\n\n\n\n\n Työntekijätietojen antaminen \n\n\n\n\nIlmoittamisen tyypillisimmät virhetilanteet\n\nilmoitusten oikea-aikaisuus\n\nmilloin ilmoitukset on annettu ajallaan ja oikean sisältöisenä\n\n\n\n\n\ntyöntekijätietojen oikea ilmoittaminen mm.\n\nYhteisen työmaan tulkinta ja rakentamistyön tulkinta\n\n\n\ntyövoiman vuokrauksen tulkinta\n\n\n\nulkomaiset työntekijät\n\n\n\ntyöntekijätietojen rajaaminen\n\nAVI:n rajaukset\n\n\n\nVerohallinnon rajaukset\n\n\n\n\n\n\n\nerityistilanteet ja ilmiöt\n\nkevytyrittäjät\n\n\n\n\n\nPäätoteuttajan ja työnantajien roolit sekä vastuut\n\n\n\n\n\n\nYritys kotitalouden työmaalla \n\n\n\n\nMitkä on yrityksen velvoitteet kotitalouden työmaalla?\n\n\n\n\n\nmitä pitää ilmoittaa kotitalouden työmaalla\n\n\n\nyritys toimii kotitalouden työmaalla\n\n\n\nhenkilötunniste ja veronumero\n\n\n\n\nTietojen korjaaminen urakka- ja työntekijätiedoissa \n\n\n\n\nmitä tietoja pitää korjata?\n\n\n\nmiten korjataan oikein\n\n\n\nmilloin pitää korjata\n\n\n\n\n Laiminlyöntimaksut \n\n\n\n\nsanktiot ja niiden eri tasot\n\n\n\n\n Tilannekatsaus \n\n\n\nhavaintoja ja kokemuksia ilmoittamisesta \n\n\n\n………………………………………………………………………………….. \n\n\n\nKoulutuspäivän hinta:295 EUR + alv / osallistuja \n\n\n\nHinta sisältää koulutuksen ja materiaalin sähköisessä muodossa. \n\n\n\nOsallistujille lähetetään tarkemmat ohjeet ja materiaalit sähköpostitse ennen koulutusta. \n\n\n\nIlmoittautumiset koulutuspäivään viimeistään2.11.2023 klo 8.00 mennessä. \n\n\n\nPeruutukset kuluitta 15 vrk ennen tilaisuutta. \n\n\n\nIlmoittautumiset ohjelmasivun yläosassa olevalla painikkeella\, puhelimella:010 4231 040 tai sähköpostilla: pk-koulutuskeskus@pk-koulutuskeskus.fi
URL:https://pk-koulutuskeskus.fi/event/rakentamisen-tiedonantovelvollisuus-ja-veronumero-webinaari-2-11-2023-klo-8-30-12-00/
ATTACH;FMTTYPE=image/jpeg:https://pk-koulutuskeskus.fi/wp-content/uploads/2023/11/Pirkko_Vuori2.jpg
END:VEVENT
END:VCALENDAR